BEGIN:VCALENDAR
VERSION:2.0
PRODID:-//Mount Vernon Council of Citizens&#039; Associations, Inc. - ECPv6.15.20//NONSGML v1.0//EN
CALSCALE:GREGORIAN
METHOD:PUBLISH
X-ORIGINAL-URL:https://www.mvcca.org
X-WR-CALDESC:Events for Mount Vernon Council of Citizens&#039; Associations, Inc.
REFRESH-INTERVAL;VALUE=DURATION:PT1H
X-Robots-Tag:noindex
X-PUBLISHED-TTL:PT1H
BEGIN:VTIMEZONE
TZID:America/New_York
BEGIN:DAYLIGHT
TZOFFSETFROM:-0500
TZOFFSETTO:-0400
TZNAME:EDT
DTSTART:20240310T070000
END:DAYLIGHT
BEGIN:STANDARD
TZOFFSETFROM:-0400
TZOFFSETTO:-0500
TZNAME:EST
DTSTART:20241103T060000
END:STANDARD
BEGIN:DAYLIGHT
TZOFFSETFROM:-0500
TZOFFSETTO:-0400
TZNAME:EDT
DTSTART:20250309T070000
END:DAYLIGHT
BEGIN:STANDARD
TZOFFSETFROM:-0400
TZOFFSETTO:-0500
TZNAME:EST
DTSTART:20251102T060000
END:STANDARD
BEGIN:DAYLIGHT
TZOFFSETFROM:-0500
TZOFFSETTO:-0400
TZNAME:EDT
DTSTART:20260308T070000
END:DAYLIGHT
BEGIN:STANDARD
TZOFFSETFROM:-0400
TZOFFSETTO:-0500
TZNAME:EST
DTSTART:20261101T060000
END:STANDARD
END:VTIMEZONE
BEGIN:VEVENT
DTSTART;TZID=America/New_York:20250102T190000
DTEND;TZID=America/New_York:20250102T190000
DTSTAMP:20260424T122127
CREATED:20241114T214947Z
LAST-MODIFIED:20241123T140225Z
UID:5721-1735844400-1735844400@www.mvcca.org
SUMMARY:Environment and Recreation Committee Meeting
DESCRIPTION:
URL:https://www.mvcca.org/event/environment-and-recreation-committee-meeting-22/
LOCATION:Zoom Meeting
CATEGORIES:Environment & Recreation
END:VEVENT
BEGIN:VEVENT
DTSTART;TZID=America/New_York:20250102T190000
DTEND;TZID=America/New_York:20250102T190000
DTSTAMP:20260424T122127
CREATED:20241116T141053Z
LAST-MODIFIED:20250103T134822Z
UID:5728-1735844400-1735844400@www.mvcca.org
SUMMARY:Planning and Zoning Committee Meeting
DESCRIPTION:
URL:https://www.mvcca.org/event/planning-and-zoning-committee-meeting-23/
LOCATION:Zoom Meeting
CATEGORIES:Planning & Zoning
END:VEVENT
BEGIN:VEVENT
DTSTART;TZID=America/New_York:20250102T190000
DTEND;TZID=America/New_York:20250102T190000
DTSTAMP:20260424T122127
CREATED:20241123T153656Z
LAST-MODIFIED:20250114T133756Z
UID:5847-1735844400-1735844400@www.mvcca.org
SUMMARY:Education Committee Meeting CANCELLED
DESCRIPTION:
URL:https://www.mvcca.org/event/education-committee-meeting-9/
LOCATION:Zoom Meeting
CATEGORIES:Education
END:VEVENT
BEGIN:VEVENT
DTSTART;TZID=America/New_York:20250106T190000
DTEND;TZID=America/New_York:20250106T190000
DTSTAMP:20260424T122127
CREATED:20241123T144033Z
LAST-MODIFIED:20250114T133839Z
UID:5803-1736190000-1736190000@www.mvcca.org
SUMMARY:Budget and Finance Committee Meeting Cancelled
DESCRIPTION:
URL:https://www.mvcca.org/event/budget-and-finance-committee-meeting/
LOCATION:Zoom Meeting
CATEGORIES:Budget & Finance
END:VEVENT
BEGIN:VEVENT
DTSTART;TZID=America/New_York:20250107T190000
DTEND;TZID=America/New_York:20250107T190000
DTSTAMP:20260424T122127
CREATED:20241123T141701Z
LAST-MODIFIED:20250105T141828Z
UID:5781-1736276400-1736276400@www.mvcca.org
SUMMARY:Public Safety Committee Meeting - CANCELLED
DESCRIPTION:
URL:https://www.mvcca.org/event/public-safety-committee-meeting-5/
LOCATION:Zoom Meeting
CATEGORIES:Public Safety
END:VEVENT
BEGIN:VEVENT
DTSTART;TZID=America/New_York:20250113T190000
DTEND;TZID=America/New_York:20250113T190000
DTSTAMP:20260424T122127
CREATED:20241123T150248Z
LAST-MODIFIED:20241123T150248Z
UID:5825-1736794800-1736794800@www.mvcca.org
SUMMARY:Transportation Committee Meeting
DESCRIPTION:
URL:https://www.mvcca.org/event/transportation-committee-meeting-13/
LOCATION:Zoom Meeting
CATEGORIES:Transportation
END:VEVENT
BEGIN:VEVENT
DTSTART;TZID=America/New_York:20250114T190000
DTEND;TZID=America/New_York:20250114T190000
DTSTAMP:20260424T122127
CREATED:20241113T212515Z
LAST-MODIFIED:20241211T125844Z
UID:5673-1736881200-1736881200@www.mvcca.org
SUMMARY:Board Meeting
DESCRIPTION:
URL:https://www.mvcca.org/event/board-meeting/
LOCATION:Zoom Meeting
CATEGORIES:Board
END:VEVENT
BEGIN:VEVENT
DTSTART;TZID=America/New_York:20250115T190000
DTEND;TZID=America/New_York:20250115T190000
DTSTAMP:20260424T122127
CREATED:20241218T140947Z
LAST-MODIFIED:20250115T135339Z
UID:5921-1736967600-1736967600@www.mvcca.org
SUMMARY:Stormwater Committee Meeting CANCELLED
DESCRIPTION:
URL:https://www.mvcca.org/event/stormwater-committee-meeting/
LOCATION:Zoom Meeting
CATEGORIES:Special Committee - Storm Water Management
END:VEVENT
BEGIN:VEVENT
DTSTART;TZID=America/New_York:20250122T190000
DTEND;TZID=America/New_York:20250122T190000
DTSTAMP:20260424T122127
CREATED:20241114T212503Z
LAST-MODIFIED:20241114T212503Z
UID:5699-1737572400-1737572400@www.mvcca.org
SUMMARY:General Council Meeting
DESCRIPTION:
URL:https://www.mvcca.org/event/general-council-meeting-2/
LOCATION:Zoom Meeting
CATEGORIES:General Council
END:VEVENT
END:VCALENDAR