BEGIN:VCALENDAR
VERSION:2.0
PRODID:-//Mount Vernon Council of Citizens&#039; Associations, Inc. - ECPv6.15.20//NONSGML v1.0//EN
CALSCALE:GREGORIAN
METHOD:PUBLISH
X-ORIGINAL-URL:https://www.mvcca.org
X-WR-CALDESC:Events for Mount Vernon Council of Citizens&#039; Associations, Inc.
REFRESH-INTERVAL;VALUE=DURATION:PT1H
X-Robots-Tag:noindex
X-PUBLISHED-TTL:PT1H
BEGIN:VTIMEZONE
TZID:America/New_York
BEGIN:DAYLIGHT
TZOFFSETFROM:-0500
TZOFFSETTO:-0400
TZNAME:EDT
DTSTART:20250309T070000
END:DAYLIGHT
BEGIN:STANDARD
TZOFFSETFROM:-0400
TZOFFSETTO:-0500
TZNAME:EST
DTSTART:20251102T060000
END:STANDARD
BEGIN:DAYLIGHT
TZOFFSETFROM:-0500
TZOFFSETTO:-0400
TZNAME:EDT
DTSTART:20260308T070000
END:DAYLIGHT
BEGIN:STANDARD
TZOFFSETFROM:-0400
TZOFFSETTO:-0500
TZNAME:EST
DTSTART:20261101T060000
END:STANDARD
BEGIN:DAYLIGHT
TZOFFSETFROM:-0500
TZOFFSETTO:-0400
TZNAME:EDT
DTSTART:20270314T070000
END:DAYLIGHT
BEGIN:STANDARD
TZOFFSETFROM:-0400
TZOFFSETTO:-0500
TZNAME:EST
DTSTART:20271107T060000
END:STANDARD
END:VTIMEZONE
BEGIN:VEVENT
DTSTART;TZID=America/New_York:20260105T190000
DTEND;TZID=America/New_York:20260105T190000
DTSTAMP:20260423T221154
CREATED:20251229T012705Z
LAST-MODIFIED:20251229T013302Z
UID:6164-1767639600-1767639600@www.mvcca.org
SUMMARY:Budget & Finance Committee Meeting
DESCRIPTION:
URL:https://www.mvcca.org/event/budget-and-finance-committee-meeting-12/
LOCATION:Zoom Meeting
CATEGORIES:Budget & Finance
END:VEVENT
BEGIN:VEVENT
DTSTART;TZID=America/New_York:20260105T190000
DTEND;TZID=America/New_York:20260105T190000
DTSTAMP:20260423T221154
CREATED:20251229T012818Z
LAST-MODIFIED:20251229T013219Z
UID:6166-1767639600-1767639600@www.mvcca.org
SUMMARY:Planning & Zoning Committee Meeting
DESCRIPTION:
URL:https://www.mvcca.org/event/planning-and-zoning-committee-meeting-34/
LOCATION:Zoom Meeting
CATEGORIES:Planning & Zoning
END:VEVENT
BEGIN:VEVENT
DTSTART;TZID=America/New_York:20260107T190000
DTEND;TZID=America/New_York:20260107T190000
DTSTAMP:20260423T221154
CREATED:20251229T013145Z
LAST-MODIFIED:20251229T013145Z
UID:6171-1767812400-1767812400@www.mvcca.org
SUMMARY:Environment & Recreation Committee Meeting
DESCRIPTION:
URL:https://www.mvcca.org/event/environment-recreation-committee-meeting/
LOCATION:Zoom Meeting
CATEGORIES:Environment & Recreation
END:VEVENT
BEGIN:VEVENT
DTSTART;TZID=America/New_York:20260107T190000
DTEND;TZID=America/New_York:20260107T190000
DTSTAMP:20260423T221154
CREATED:20251229T013416Z
LAST-MODIFIED:20251229T013416Z
UID:6176-1767812400-1767812400@www.mvcca.org
SUMMARY:Education Committee Meeting
DESCRIPTION:
URL:https://www.mvcca.org/event/education-committee-meeting-20/
LOCATION:Zoom Meeting
CATEGORIES:Education
END:VEVENT
BEGIN:VEVENT
DTSTART;TZID=America/New_York:20260108T190000
DTEND;TZID=America/New_York:20260108T190000
DTSTAMP:20260423T221154
CREATED:20251229T013522Z
LAST-MODIFIED:20251229T013522Z
UID:6178-1767898800-1767898800@www.mvcca.org
SUMMARY:Stormwater Committee Meeting
DESCRIPTION:
URL:https://www.mvcca.org/event/stormwater-committee-meeting-12/
LOCATION:Zoom Meeting
CATEGORIES:Special Committee - Storm Water Management
END:VEVENT
BEGIN:VEVENT
DTSTART;TZID=America/New_York:20260112T190000
DTEND;TZID=America/New_York:20260112T190000
DTSTAMP:20260423T221154
CREATED:20251229T013000Z
LAST-MODIFIED:20251229T013029Z
UID:6168-1768244400-1768244400@www.mvcca.org
SUMMARY:Public Safety & Transportation Committee Meeting
DESCRIPTION:
URL:https://www.mvcca.org/event/public-safety-and-transportation-committee-meeting/
LOCATION:Zoom Meeting
CATEGORIES:Public Safety,Transportation
END:VEVENT
BEGIN:VEVENT
DTSTART;TZID=America/New_York:20260113T190000
DTEND;TZID=America/New_York:20260113T190000
DTSTAMP:20260423T221154
CREATED:20251229T013625Z
LAST-MODIFIED:20251229T013625Z
UID:6180-1768330800-1768330800@www.mvcca.org
SUMMARY:Board Meeting
DESCRIPTION:
URL:https://www.mvcca.org/event/board-meeting-15/
LOCATION:Zoom Meeting
CATEGORIES:Board
END:VEVENT
BEGIN:VEVENT
DTSTART;TZID=America/New_York:20260128T190000
DTEND;TZID=America/New_York:20260128T190000
DTSTAMP:20260423T221154
CREATED:20251229T012431Z
LAST-MODIFIED:20251229T012431Z
UID:6162-1769626800-1769626800@www.mvcca.org
SUMMARY:General Council Meeting
DESCRIPTION:
URL:https://www.mvcca.org/event/general-council-meeting-16/
LOCATION:Zoom Meeting
CATEGORIES:General Council
END:VEVENT
END:VCALENDAR