BEGIN:VCALENDAR
VERSION:2.0
PRODID:-//Mount Vernon Council of Citizens&#039; Associations, Inc. - ECPv6.15.20//NONSGML v1.0//EN
CALSCALE:GREGORIAN
METHOD:PUBLISH
X-WR-CALNAME:Mount Vernon Council of Citizens&#039; Associations, Inc.
X-ORIGINAL-URL:https://www.mvcca.org
X-WR-CALDESC:Events for Mount Vernon Council of Citizens&#039; Associations, Inc.
REFRESH-INTERVAL;VALUE=DURATION:PT1H
X-Robots-Tag:noindex
X-PUBLISHED-TTL:PT1H
BEGIN:VTIMEZONE
TZID:America/New_York
BEGIN:DAYLIGHT
TZOFFSETFROM:-0500
TZOFFSETTO:-0400
TZNAME:EDT
DTSTART:20250309T070000
END:DAYLIGHT
BEGIN:STANDARD
TZOFFSETFROM:-0400
TZOFFSETTO:-0500
TZNAME:EST
DTSTART:20251102T060000
END:STANDARD
BEGIN:DAYLIGHT
TZOFFSETFROM:-0500
TZOFFSETTO:-0400
TZNAME:EDT
DTSTART:20260308T070000
END:DAYLIGHT
BEGIN:STANDARD
TZOFFSETFROM:-0400
TZOFFSETTO:-0500
TZNAME:EST
DTSTART:20261101T060000
END:STANDARD
BEGIN:DAYLIGHT
TZOFFSETFROM:-0500
TZOFFSETTO:-0400
TZNAME:EDT
DTSTART:20270314T070000
END:DAYLIGHT
BEGIN:STANDARD
TZOFFSETFROM:-0400
TZOFFSETTO:-0500
TZNAME:EST
DTSTART:20271107T060000
END:STANDARD
END:VTIMEZONE
BEGIN:VEVENT
DTSTART;TZID=America/New_York:20260302T190000
DTEND;TZID=America/New_York:20260302T190000
DTSTAMP:20260423T200423
CREATED:20251229T020148Z
LAST-MODIFIED:20251229T020148Z
UID:6214-1772478000-1772478000@www.mvcca.org
SUMMARY:Planning & Zoning Committee Meeting
DESCRIPTION:
URL:https://www.mvcca.org/event/planning-zoning-committee-meeting-3/
LOCATION:Zoom Meeting
CATEGORIES:Planning & Zoning
END:VEVENT
BEGIN:VEVENT
DTSTART;TZID=America/New_York:20260304T190000
DTEND;TZID=America/New_York:20260304T190000
DTSTAMP:20260423T200423
CREATED:20251229T015918Z
LAST-MODIFIED:20251229T015918Z
UID:6210-1772650800-1772650800@www.mvcca.org
SUMMARY:Environment & Recreation Committee Meeting
DESCRIPTION:
URL:https://www.mvcca.org/event/environment-recreation-committee-meeting-3/
LOCATION:Zoom Meeting
CATEGORIES:Environment & Recreation
END:VEVENT
BEGIN:VEVENT
DTSTART;TZID=America/New_York:20260304T190000
DTEND;TZID=America/New_York:20260304T190000
DTSTAMP:20260423T200423
CREATED:20251229T020041Z
LAST-MODIFIED:20260211T000941Z
UID:6212-1772650800-1772650800@www.mvcca.org
SUMMARY:Budget & Finance Committee Meeting
DESCRIPTION:
URL:https://www.mvcca.org/event/budget-finance-committee-meeting-2/
LOCATION:Zoom Meeting
CATEGORIES:Budget & Finance
END:VEVENT
BEGIN:VEVENT
DTSTART;TZID=America/New_York:20260305T190000
DTEND;TZID=America/New_York:20260305T190000
DTSTAMP:20260423T200423
CREATED:20251229T015725Z
LAST-MODIFIED:20251229T015725Z
UID:6206-1772737200-1772737200@www.mvcca.org
SUMMARY:Stormwater Committee Meeting
DESCRIPTION:
URL:https://www.mvcca.org/event/stormwater-committee-meeting-14/
LOCATION:Zoom Meeting
CATEGORIES:Special Committee - Storm Water Management
END:VEVENT
BEGIN:VEVENT
DTSTART;TZID=America/New_York:20260305T190000
DTEND;TZID=America/New_York:20260305T190000
DTSTAMP:20260423T200423
CREATED:20251229T015825Z
LAST-MODIFIED:20260109T235214Z
UID:6208-1772737200-1772737200@www.mvcca.org
SUMMARY:Education Committee Meeting
DESCRIPTION:
URL:https://www.mvcca.org/event/education-committee-meeting-22/
LOCATION:Zoom Meeting
CATEGORIES:Education
END:VEVENT
BEGIN:VEVENT
DTSTART;TZID=America/New_York:20260309T190000
DTEND;TZID=America/New_York:20260309T190000
DTSTAMP:20260423T200423
CREATED:20251229T015546Z
LAST-MODIFIED:20251229T015546Z
UID:6204-1773082800-1773082800@www.mvcca.org
SUMMARY:Public Safety & Transportation Committee Meeting
DESCRIPTION:
URL:https://www.mvcca.org/event/public-safety-transportation-committee-meeting-2/
LOCATION:Zoom Meeting
CATEGORIES:Public Safety,Transportation
END:VEVENT
BEGIN:VEVENT
DTSTART;TZID=America/New_York:20260310T190000
DTEND;TZID=America/New_York:20260310T190000
DTSTAMP:20260423T200423
CREATED:20251229T015424Z
LAST-MODIFIED:20251229T015424Z
UID:6202-1773169200-1773169200@www.mvcca.org
SUMMARY:Board Meeting
DESCRIPTION:
URL:https://www.mvcca.org/event/board-meeting-17/
LOCATION:Zoom Meeting
CATEGORIES:Board
END:VEVENT
BEGIN:VEVENT
DTSTART;TZID=America/New_York:20260325T190000
DTEND;TZID=America/New_York:20260325T190000
DTSTAMP:20260423T200423
CREATED:20251229T015310Z
LAST-MODIFIED:20251229T015310Z
UID:6200-1774465200-1774465200@www.mvcca.org
SUMMARY:General Council Meeting
DESCRIPTION:
URL:https://www.mvcca.org/event/general-council-meeting-18/
LOCATION:Zoom Meeting
CATEGORIES:General Council
END:VEVENT
END:VCALENDAR