BEGIN:VCALENDAR
VERSION:2.0
PRODID:-//Mount Vernon Council of Citizens&#039; Associations, Inc. - ECPv6.15.20//NONSGML v1.0//EN
CALSCALE:GREGORIAN
METHOD:PUBLISH
X-ORIGINAL-URL:https://www.mvcca.org
X-WR-CALDESC:Events for Mount Vernon Council of Citizens&#039; Associations, Inc.
REFRESH-INTERVAL;VALUE=DURATION:PT1H
X-Robots-Tag:noindex
X-PUBLISHED-TTL:PT1H
BEGIN:VTIMEZONE
TZID:America/New_York
BEGIN:DAYLIGHT
TZOFFSETFROM:-0500
TZOFFSETTO:-0400
TZNAME:EDT
DTSTART:20170312T070000
END:DAYLIGHT
BEGIN:STANDARD
TZOFFSETFROM:-0400
TZOFFSETTO:-0500
TZNAME:EST
DTSTART:20171105T060000
END:STANDARD
BEGIN:DAYLIGHT
TZOFFSETFROM:-0500
TZOFFSETTO:-0400
TZNAME:EDT
DTSTART:20180311T070000
END:DAYLIGHT
BEGIN:STANDARD
TZOFFSETFROM:-0400
TZOFFSETTO:-0500
TZNAME:EST
DTSTART:20181104T060000
END:STANDARD
BEGIN:DAYLIGHT
TZOFFSETFROM:-0500
TZOFFSETTO:-0400
TZNAME:EDT
DTSTART:20190310T070000
END:DAYLIGHT
BEGIN:STANDARD
TZOFFSETFROM:-0400
TZOFFSETTO:-0500
TZNAME:EST
DTSTART:20191103T060000
END:STANDARD
BEGIN:DAYLIGHT
TZOFFSETFROM:-0500
TZOFFSETTO:-0400
TZNAME:EDT
DTSTART:20200308T070000
END:DAYLIGHT
BEGIN:STANDARD
TZOFFSETFROM:-0400
TZOFFSETTO:-0500
TZNAME:EST
DTSTART:20201101T060000
END:STANDARD
BEGIN:DAYLIGHT
TZOFFSETFROM:-0500
TZOFFSETTO:-0400
TZNAME:EDT
DTSTART:20210314T070000
END:DAYLIGHT
BEGIN:STANDARD
TZOFFSETFROM:-0400
TZOFFSETTO:-0500
TZNAME:EST
DTSTART:20211107T060000
END:STANDARD
BEGIN:DAYLIGHT
TZOFFSETFROM:-0500
TZOFFSETTO:-0400
TZNAME:EDT
DTSTART:20220313T070000
END:DAYLIGHT
BEGIN:STANDARD
TZOFFSETFROM:-0400
TZOFFSETTO:-0500
TZNAME:EST
DTSTART:20221106T060000
END:STANDARD
END:VTIMEZONE
BEGIN:VEVENT
DTSTART;TZID=America/New_York:20210713T173000
DTEND;TZID=America/New_York:20210713T190000
DTSTAMP:20260423T204527
CREATED:20210107T120520Z
LAST-MODIFIED:20210712T193947Z
UID:3517-1626197400-1626202800@www.mvcca.org
SUMMARY:Board
DESCRIPTION:The Meeting begins at 5:45 PM
URL:https://www.mvcca.org/event/board-18/
LOCATION:Zoom Meeting
CATEGORIES:Board,Meetings
END:VEVENT
BEGIN:VEVENT
DTSTART;TZID=America/New_York:20210608T190000
DTEND;TZID=America/New_York:20210608T190000
DTSTAMP:20260423T204527
CREATED:20210107T115628Z
LAST-MODIFIED:20210606T181430Z
UID:3515-1623178800-1623178800@www.mvcca.org
SUMMARY:Board
DESCRIPTION:
URL:https://www.mvcca.org/event/board-17/
LOCATION:Zoom Meeting
CATEGORIES:Board,Meetings
END:VEVENT
BEGIN:VEVENT
DTSTART;TZID=America/New_York:20210511T190000
DTEND;TZID=America/New_York:20210511T190000
DTSTAMP:20260423T204527
CREATED:20210107T115443Z
LAST-MODIFIED:20210107T115443Z
UID:3513-1620759600-1620759600@www.mvcca.org
SUMMARY:Board
DESCRIPTION:
URL:https://www.mvcca.org/event/board-16/
LOCATION:Zoom Meeting
CATEGORIES:Board,Meetings
END:VEVENT
BEGIN:VEVENT
DTSTART;TZID=America/New_York:20210413T190000
DTEND;TZID=America/New_York:20210413T190000
DTSTAMP:20260423T204527
CREATED:20210107T115408Z
LAST-MODIFIED:20210107T115408Z
UID:3511-1618340400-1618340400@www.mvcca.org
SUMMARY:Board
DESCRIPTION:
URL:https://www.mvcca.org/event/board-15/
LOCATION:Zoom Meeting
CATEGORIES:Board,Meetings
END:VEVENT
BEGIN:VEVENT
DTSTART;TZID=America/New_York:20210310T190000
DTEND;TZID=America/New_York:20210310T190000
DTSTAMP:20260423T204527
CREATED:20210107T115330Z
LAST-MODIFIED:20210309T145207Z
UID:3509-1615402800-1615402800@www.mvcca.org
SUMMARY:Board
DESCRIPTION:
URL:https://www.mvcca.org/event/board-14/
LOCATION:Zoom Meeting
CATEGORIES:Board,Meetings
END:VEVENT
BEGIN:VEVENT
DTSTART;TZID=America/New_York:20210209T190000
DTEND;TZID=America/New_York:20210209T190000
DTSTAMP:20260423T204527
CREATED:20210107T114639Z
LAST-MODIFIED:20210107T114639Z
UID:3507-1612897200-1612897200@www.mvcca.org
SUMMARY:Board
DESCRIPTION:
URL:https://www.mvcca.org/event/board-13/
LOCATION:Zoom Meeting
CATEGORIES:Board,Meetings
END:VEVENT
BEGIN:VEVENT
DTSTART;TZID=America/New_York:20210112T190000
DTEND;TZID=America/New_York:20210112T190000
DTSTAMP:20260423T204527
CREATED:20210107T114600Z
LAST-MODIFIED:20210107T114600Z
UID:3505-1610478000-1610478000@www.mvcca.org
SUMMARY:Board
DESCRIPTION:
URL:https://www.mvcca.org/event/board-12/
LOCATION:Zoom Meeting
CATEGORIES:Board,Meetings
END:VEVENT
BEGIN:VEVENT
DTSTART;TZID=America/New_York:20201208T190000
DTEND;TZID=America/New_York:20201208T190000
DTSTAMP:20260423T204527
CREATED:20191217T150245Z
LAST-MODIFIED:20191217T150245Z
UID:3229-1607454000-1607454000@www.mvcca.org
SUMMARY:Board
DESCRIPTION:
URL:https://www.mvcca.org/event/board-11/
LOCATION:Mount Vernon Government Center\, 2511 Parkers Lane\, Alexandria\, 22306\, United States
CATEGORIES:Board,Meetings
END:VEVENT
BEGIN:VEVENT
DTSTART;TZID=America/New_York:20201110T190000
DTEND;TZID=America/New_York:20201110T190000
DTSTAMP:20260423T204527
CREATED:20191217T150159Z
LAST-MODIFIED:20191217T150159Z
UID:3227-1605034800-1605034800@www.mvcca.org
SUMMARY:Board
DESCRIPTION:
URL:https://www.mvcca.org/event/board-10/
LOCATION:Mount Vernon Government Center\, 2511 Parkers Lane\, Alexandria\, 22306\, United States
CATEGORIES:Board,Meetings
END:VEVENT
BEGIN:VEVENT
DTSTART;TZID=America/New_York:20201013T190000
DTEND;TZID=America/New_York:20201013T193000
DTSTAMP:20260423T204527
CREATED:20191217T150120Z
LAST-MODIFIED:20191217T150120Z
UID:3225-1602615600-1602617400@www.mvcca.org
SUMMARY:Board
DESCRIPTION:
URL:https://www.mvcca.org/event/board-9/
LOCATION:Mount Vernon Government Center\, 2511 Parkers Lane\, Alexandria\, 22306\, United States
CATEGORIES:Board,Meetings
END:VEVENT
BEGIN:VEVENT
DTSTART;TZID=America/New_York:20200908T190000
DTEND;TZID=America/New_York:20200908T190000
DTSTAMP:20260423T204527
CREATED:20191217T150019Z
LAST-MODIFIED:20191217T150019Z
UID:3223-1599591600-1599591600@www.mvcca.org
SUMMARY:Board
DESCRIPTION:
URL:https://www.mvcca.org/event/board-8/
LOCATION:Mount Vernon Government Center\, 2511 Parkers Lane\, Alexandria\, 22306\, United States
CATEGORIES:Board,Meetings
END:VEVENT
BEGIN:VEVENT
DTSTART;TZID=America/New_York:20200714T190000
DTEND;TZID=America/New_York:20200714T190000
DTSTAMP:20260423T204527
CREATED:20191217T145931Z
LAST-MODIFIED:20191217T145931Z
UID:3221-1594753200-1594753200@www.mvcca.org
SUMMARY:Board
DESCRIPTION:
URL:https://www.mvcca.org/event/board-7/
LOCATION:Mount Vernon Government Center\, 2511 Parkers Lane\, Alexandria\, 22306\, United States
CATEGORIES:Board,Meetings
END:VEVENT
BEGIN:VEVENT
DTSTART;TZID=America/New_York:20200609T190000
DTEND;TZID=America/New_York:20200609T190000
DTSTAMP:20260423T204527
CREATED:20191217T145844Z
LAST-MODIFIED:20191217T145844Z
UID:3219-1591729200-1591729200@www.mvcca.org
SUMMARY:Board
DESCRIPTION:
URL:https://www.mvcca.org/event/board-6/
LOCATION:Mount Vernon Government Center\, 2511 Parkers Lane\, Alexandria\, 22306\, United States
CATEGORIES:Board,Meetings
END:VEVENT
BEGIN:VEVENT
DTSTART;TZID=America/New_York:20200512T190000
DTEND;TZID=America/New_York:20200512T190000
DTSTAMP:20260423T204527
CREATED:20191217T145752Z
LAST-MODIFIED:20191217T145752Z
UID:3217-1589310000-1589310000@www.mvcca.org
SUMMARY:Board
DESCRIPTION:
URL:https://www.mvcca.org/event/board-5/
LOCATION:Mount Vernon Government Center\, 2511 Parkers Lane\, Alexandria\, 22306\, United States
CATEGORIES:Board,Meetings
END:VEVENT
BEGIN:VEVENT
DTSTART;TZID=America/New_York:20200414T190000
DTEND;TZID=America/New_York:20200414T190000
DTSTAMP:20260423T204527
CREATED:20191217T145719Z
LAST-MODIFIED:20191217T145719Z
UID:3215-1586890800-1586890800@www.mvcca.org
SUMMARY:Board
DESCRIPTION:
URL:https://www.mvcca.org/event/board-4/
LOCATION:Mount Vernon Government Center\, 2511 Parkers Lane\, Alexandria\, 22306\, United States
CATEGORIES:Board,Meetings
END:VEVENT
BEGIN:VEVENT
DTSTART;TZID=America/New_York:20200310T190000
DTEND;TZID=America/New_York:20200310T190000
DTSTAMP:20260423T204527
CREATED:20191217T145626Z
LAST-MODIFIED:20191217T145626Z
UID:3213-1583866800-1583866800@www.mvcca.org
SUMMARY:Board
DESCRIPTION:
URL:https://www.mvcca.org/event/board-3/
LOCATION:Mount Vernon Government Center\, 2511 Parkers Lane\, Alexandria\, 22306\, United States
CATEGORIES:Board,Meetings
END:VEVENT
BEGIN:VEVENT
DTSTART;TZID=America/New_York:20200211T190000
DTEND;TZID=America/New_York:20200211T190000
DTSTAMP:20260423T204527
CREATED:20191217T145547Z
LAST-MODIFIED:20191217T145547Z
UID:3211-1581447600-1581447600@www.mvcca.org
SUMMARY:Board
DESCRIPTION:
URL:https://www.mvcca.org/event/board-2/
LOCATION:Mount Vernon Government Center\, 2511 Parkers Lane\, Alexandria\, 22306\, United States
CATEGORIES:Board,Meetings
END:VEVENT
BEGIN:VEVENT
DTSTART;TZID=America/New_York:20200114T190000
DTEND;TZID=America/New_York:20200114T190000
DTSTAMP:20260423T204527
CREATED:20191217T132727Z
LAST-MODIFIED:20191217T132727Z
UID:3100-1579028400-1579028400@www.mvcca.org
SUMMARY:Board
DESCRIPTION:
URL:https://www.mvcca.org/event/board/
LOCATION:Mount Vernon Government Center\, 2511 Parkers Lane\, Alexandria\, 22306\, United States
CATEGORIES:Board,Meetings
END:VEVENT
BEGIN:VEVENT
DTSTART;TZID=America/New_York:20191210T190000
DTEND;TZID=America/New_York:20191210T190000
DTSTAMP:20260423T204527
CREATED:20181214T182902Z
LAST-MODIFIED:20190624T133025Z
UID:2675-1576004400-1576004400@www.mvcca.org
SUMMARY:Board Meeting
DESCRIPTION:
URL:https://www.mvcca.org/event/board-meeting-44/
LOCATION:Mount Vernon Government Center\, 2511 Parkers Lane\, Alexandria\, 22306\, United States
CATEGORIES:Board
END:VEVENT
BEGIN:VEVENT
DTSTART;TZID=America/New_York:20191112T190000
DTEND;TZID=America/New_York:20191112T190000
DTSTAMP:20260423T204527
CREATED:20181214T182828Z
LAST-MODIFIED:20190624T132947Z
UID:2673-1573585200-1573585200@www.mvcca.org
SUMMARY:Board Meeting
DESCRIPTION:
URL:https://www.mvcca.org/event/board-meeting-43/
LOCATION:Mount Vernon Government Center\, 2511 Parkers Lane\, Alexandria\, 22306\, United States
CATEGORIES:Board
END:VEVENT
BEGIN:VEVENT
DTSTART;TZID=America/New_York:20191008T190000
DTEND;TZID=America/New_York:20191008T190000
DTSTAMP:20260423T204527
CREATED:20181214T182753Z
LAST-MODIFIED:20190624T132920Z
UID:2671-1570561200-1570561200@www.mvcca.org
SUMMARY:Board Meeting
DESCRIPTION:
URL:https://www.mvcca.org/event/board-meeting-42/
LOCATION:Mount Vernon Government Center\, 2511 Parkers Lane\, Alexandria\, 22306\, United States
CATEGORIES:Board
END:VEVENT
BEGIN:VEVENT
DTSTART;TZID=America/New_York:20190910T190000
DTEND;TZID=America/New_York:20190910T190000
DTSTAMP:20260423T204527
CREATED:20181214T182712Z
LAST-MODIFIED:20190624T132844Z
UID:2669-1568142000-1568142000@www.mvcca.org
SUMMARY:Board Meeting
DESCRIPTION:
URL:https://www.mvcca.org/event/board-meeting-41/
LOCATION:Mount Vernon Government Center\, 2511 Parkers Lane\, Alexandria\, 22306\, United States
CATEGORIES:Board
END:VEVENT
BEGIN:VEVENT
DTSTART;TZID=America/New_York:20190709T190000
DTEND;TZID=America/New_York:20190709T190000
DTSTAMP:20260423T204527
CREATED:20181214T182636Z
LAST-MODIFIED:20190624T132802Z
UID:2667-1562698800-1562698800@www.mvcca.org
SUMMARY:Board Meeting
DESCRIPTION:
URL:https://www.mvcca.org/event/board-meeting-40/
LOCATION:Mount Vernon Government Center\, 2511 Parkers Lane\, Alexandria\, 22306\, United States
CATEGORIES:Board
END:VEVENT
BEGIN:VEVENT
DTSTART;TZID=America/New_York:20190612T190000
DTEND;TZID=America/New_York:20190612T190000
DTSTAMP:20260423T204527
CREATED:20181214T182603Z
LAST-MODIFIED:20190312T201702Z
UID:2665-1560366000-1560366000@www.mvcca.org
SUMMARY:Board Meeting
DESCRIPTION:
URL:https://www.mvcca.org/event/board-meeting-39/
LOCATION:Mount Vernon Government Center\, 2511 Parkers Lane\, Alexandria\, 22306\, United States
CATEGORIES:Board
END:VEVENT
BEGIN:VEVENT
DTSTART;TZID=America/New_York:20190508T190000
DTEND;TZID=America/New_York:20190508T190000
DTSTAMP:20260423T204527
CREATED:20181214T182527Z
LAST-MODIFIED:20190312T201744Z
UID:2663-1557342000-1557342000@www.mvcca.org
SUMMARY:Board Meeting
DESCRIPTION:
URL:https://www.mvcca.org/event/board-meeting-38/
LOCATION:Mount Vernon Government Center\, 2511 Parkers Lane\, Alexandria\, 22306\, United States
CATEGORIES:Board
END:VEVENT
BEGIN:VEVENT
DTSTART;TZID=America/New_York:20190410T190000
DTEND;TZID=America/New_York:20190410T190000
DTSTAMP:20260423T204527
CREATED:20181214T182453Z
LAST-MODIFIED:20190312T201852Z
UID:2661-1554922800-1554922800@www.mvcca.org
SUMMARY:Board Meeting
DESCRIPTION:
URL:https://www.mvcca.org/event/board-meeting-37/
LOCATION:Mount Vernon Government Center\, 2511 Parkers Lane\, Alexandria\, 22306\, United States
CATEGORIES:Board
END:VEVENT
BEGIN:VEVENT
DTSTART;TZID=America/New_York:20190313T190000
DTEND;TZID=America/New_York:20190313T190000
DTSTAMP:20260423T204527
CREATED:20181214T182226Z
LAST-MODIFIED:20190312T201258Z
UID:2659-1552503600-1552503600@www.mvcca.org
SUMMARY:Board Meeting
DESCRIPTION:
URL:https://www.mvcca.org/event/board-meeting-36/
LOCATION:Mount Vernon Government Center\, 2511 Parkers Lane\, Alexandria\, 22306\, United States
CATEGORIES:Board
END:VEVENT
BEGIN:VEVENT
DTSTART;TZID=America/New_York:20190213T193000
DTEND;TZID=America/New_York:20190213T193000
DTSTAMP:20260423T204527
CREATED:20181214T182149Z
LAST-MODIFIED:20181214T182149Z
UID:2657-1550086200-1550086200@www.mvcca.org
SUMMARY:Board Meeting
DESCRIPTION:
URL:https://www.mvcca.org/event/board-meeting-35/
LOCATION:Mount Vernon Government Center\, 2511 Parkers Lane\, Alexandria\, 22306\, United States
CATEGORIES:Board
END:VEVENT
BEGIN:VEVENT
DTSTART;TZID=America/New_York:20190109T193000
DTEND;TZID=America/New_York:20190109T193000
DTSTAMP:20260423T204527
CREATED:20181214T170155Z
LAST-MODIFIED:20181214T170155Z
UID:2530-1547062200-1547062200@www.mvcca.org
SUMMARY:Board Meeting
DESCRIPTION:
URL:https://www.mvcca.org/event/board-meeting-34/
LOCATION:Mount Vernon Government Center\, 2511 Parkers Lane\, Alexandria\, 22306\, United States
CATEGORIES:Board
END:VEVENT
BEGIN:VEVENT
DTSTART;TZID=America/New_York:20181212T190000
DTEND;TZID=America/New_York:20181212T200000
DTSTAMP:20260423T204527
CREATED:20171227T194957Z
LAST-MODIFIED:20181211T213309Z
UID:1758-1544641200-1544644800@www.mvcca.org
SUMMARY:Board Meeting
DESCRIPTION:
URL:https://www.mvcca.org/event/board-meeting-33/
LOCATION:Mount Vernon Government Center\, 2511 Parkers Lane\, Alexandria\, 22306\, United States
CATEGORIES:Board,Meetings
END:VEVENT
END:VCALENDAR