BEGIN:VCALENDAR
VERSION:2.0
PRODID:-//Mount Vernon Council of Citizens&#039; Associations, Inc. - ECPv6.15.20//NONSGML v1.0//EN
CALSCALE:GREGORIAN
METHOD:PUBLISH
X-ORIGINAL-URL:https://www.mvcca.org
X-WR-CALDESC:Events for Mount Vernon Council of Citizens&#039; Associations, Inc.
REFRESH-INTERVAL;VALUE=DURATION:PT1H
X-Robots-Tag:noindex
X-PUBLISHED-TTL:PT1H
BEGIN:VTIMEZONE
TZID:America/New_York
BEGIN:DAYLIGHT
TZOFFSETFROM:-0500
TZOFFSETTO:-0400
TZNAME:EDT
DTSTART:20240310T070000
END:DAYLIGHT
BEGIN:STANDARD
TZOFFSETFROM:-0400
TZOFFSETTO:-0500
TZNAME:EST
DTSTART:20241103T060000
END:STANDARD
BEGIN:DAYLIGHT
TZOFFSETFROM:-0500
TZOFFSETTO:-0400
TZNAME:EDT
DTSTART:20250309T070000
END:DAYLIGHT
BEGIN:STANDARD
TZOFFSETFROM:-0400
TZOFFSETTO:-0500
TZNAME:EST
DTSTART:20251102T060000
END:STANDARD
BEGIN:DAYLIGHT
TZOFFSETFROM:-0500
TZOFFSETTO:-0400
TZNAME:EDT
DTSTART:20260308T070000
END:DAYLIGHT
BEGIN:STANDARD
TZOFFSETFROM:-0400
TZOFFSETTO:-0500
TZNAME:EST
DTSTART:20261101T060000
END:STANDARD
END:VTIMEZONE
BEGIN:VEVENT
DTSTART;TZID=America/New_York:20250225T190000
DTEND;TZID=America/New_York:20250225T203000
DTSTAMP:20260424T101547
CREATED:20250215T145104Z
LAST-MODIFIED:20250225T011252Z
UID:6022-1740510000-1740515400@www.mvcca.org
SUMMARY:Fairfax County 2026 Budget Town Hall
DESCRIPTION:We are scheduled for tomorrow night’s second budget meeting with Supervisor Storck\, Mateo Dunne\, and FXCO and FCPA Staff w/the MVCCA.  Please see the link and run of show.  Please let me know if you have any questions and look forward to tomorrow night. \n6:40                              Christine Morin and Team MVD will log into the meeting; teams meeting login below \n6:45                              Presenters please login \n6:55                              Christine will begin welcoming residents \n                                     Team MVD will put the links to budget presentations from yesterday in the chat \n6:59                              Christine will go over rules – meeting will be recorded.  Stay muted\, all questions will be answered after both presentations\, take questions from raised hands and questions in the chat and will alternate between the two\, MV resident questions will be prioritized\, please be respectful and the CEX presented the budget to the BOS last Tuesday \n7:00                              Quick welcome and turn over to Supervisor Storck who will say a few words \n                                       Supervisor Storck to intro School Board Member Mateo Dunne for a few words \n                                       Supervisor Storck to intro Katherine Ward\, Co-Chair for the MVCCA for a few words \n                                       Supervisor Storck to introduce Joe LaHait and Katie Hortsman for the FXCO budget presentation \n7:20                               Mateo Dunne to introduce Leigh Burden for the FCPS Budget presentation \n7:40                               Supervisor Storck will begin Budget Q&A.  First question from hands raised and move to chat / Christine to moderate \n8:20                               Supervisor Storck Wrap-up and close meeting / Final words from Storck & Dunne \n                                       Ways to send in comments and links to budget documents in chat \n\nRespectfully Yours in Public Service\, \nMicrosoft Teams Need help? \nJoin the meeting now \nMeeting ID: 270 862 269 557 \nPasscode: gE3PL6tq \n\n\n\nDial in by phone \n+1 571-429-5982\,\,329313536# United States\, Washington \nFind a local number \nPhone conference ID: 329 313 536#
URL:https://www.mvcca.org/event/fairfax-county-2026-budget-town-hall-2/
CATEGORIES:Budget & Finance
END:VEVENT
END:VCALENDAR