BEGIN:VCALENDAR
VERSION:2.0
PRODID:-//Mount Vernon Council of Citizens&#039; Associations, Inc. - ECPv6.15.20//NONSGML v1.0//EN
CALSCALE:GREGORIAN
METHOD:PUBLISH
X-WR-CALNAME:Mount Vernon Council of Citizens&#039; Associations, Inc.
X-ORIGINAL-URL:https://www.mvcca.org
X-WR-CALDESC:Events for Mount Vernon Council of Citizens&#039; Associations, Inc.
REFRESH-INTERVAL;VALUE=DURATION:PT1H
X-Robots-Tag:noindex
X-PUBLISHED-TTL:PT1H
BEGIN:VTIMEZONE
TZID:America/New_York
BEGIN:DAYLIGHT
TZOFFSETFROM:-0500
TZOFFSETTO:-0400
TZNAME:EDT
DTSTART:20210314T070000
END:DAYLIGHT
BEGIN:STANDARD
TZOFFSETFROM:-0400
TZOFFSETTO:-0500
TZNAME:EST
DTSTART:20211107T060000
END:STANDARD
BEGIN:DAYLIGHT
TZOFFSETFROM:-0500
TZOFFSETTO:-0400
TZNAME:EDT
DTSTART:20220313T070000
END:DAYLIGHT
BEGIN:STANDARD
TZOFFSETFROM:-0400
TZOFFSETTO:-0500
TZNAME:EST
DTSTART:20221106T060000
END:STANDARD
BEGIN:DAYLIGHT
TZOFFSETFROM:-0500
TZOFFSETTO:-0400
TZNAME:EDT
DTSTART:20230312T070000
END:DAYLIGHT
BEGIN:STANDARD
TZOFFSETFROM:-0400
TZOFFSETTO:-0500
TZNAME:EST
DTSTART:20231105T060000
END:STANDARD
BEGIN:DAYLIGHT
TZOFFSETFROM:-0500
TZOFFSETTO:-0400
TZNAME:EDT
DTSTART:20240310T070000
END:DAYLIGHT
BEGIN:STANDARD
TZOFFSETFROM:-0400
TZOFFSETTO:-0500
TZNAME:EST
DTSTART:20241103T060000
END:STANDARD
BEGIN:DAYLIGHT
TZOFFSETFROM:-0500
TZOFFSETTO:-0400
TZNAME:EDT
DTSTART:20250309T070000
END:DAYLIGHT
BEGIN:STANDARD
TZOFFSETFROM:-0400
TZOFFSETTO:-0500
TZNAME:EST
DTSTART:20251102T060000
END:STANDARD
BEGIN:DAYLIGHT
TZOFFSETFROM:-0500
TZOFFSETTO:-0400
TZNAME:EDT
DTSTART:20260308T070000
END:DAYLIGHT
BEGIN:STANDARD
TZOFFSETFROM:-0400
TZOFFSETTO:-0500
TZNAME:EST
DTSTART:20261101T060000
END:STANDARD
END:VTIMEZONE
BEGIN:VEVENT
DTSTART;TZID=America/New_York:20250507T190000
DTEND;TZID=America/New_York:20250507T190000
DTSTAMP:20260423T153511
CREATED:20241119T135656Z
LAST-MODIFIED:20241119T135656Z
UID:5762-1746644400-1746644400@www.mvcca.org
SUMMARY:Environment and Recreation Committee Meeting
DESCRIPTION:
URL:https://www.mvcca.org/event/environment-and-recreation-committee-meeting-26/
LOCATION:Zoom Meeting
CATEGORIES:Environment & Recreation
END:VEVENT
BEGIN:VEVENT
DTSTART;TZID=America/New_York:20250402T190000
DTEND;TZID=America/New_York:20250402T190000
DTSTAMP:20260423T153511
CREATED:20241119T135445Z
LAST-MODIFIED:20241119T135445Z
UID:5760-1743620400-1743620400@www.mvcca.org
SUMMARY:Environment and Recreation Committee Meeting
DESCRIPTION:
URL:https://www.mvcca.org/event/environment-and-recreation-committee-meeting-25/
LOCATION:Zoom Meeting
CATEGORIES:Environment & Recreation
END:VEVENT
BEGIN:VEVENT
DTSTART;TZID=America/New_York:20250305T190000
DTEND;TZID=America/New_York:20250305T190000
DTSTAMP:20260423T153511
CREATED:20241119T135354Z
LAST-MODIFIED:20241119T135354Z
UID:5758-1741201200-1741201200@www.mvcca.org
SUMMARY:Environment and Recreation Committee Meeting
DESCRIPTION:
URL:https://www.mvcca.org/event/environment-and-recreation-committee-meeting-24/
LOCATION:Zoom Meeting
CATEGORIES:Environment & Recreation
END:VEVENT
BEGIN:VEVENT
DTSTART;TZID=America/New_York:20250205T190000
DTEND;TZID=America/New_York:20250205T190000
DTSTAMP:20260423T153511
CREATED:20241119T135227Z
LAST-MODIFIED:20250205T134747Z
UID:5756-1738782000-1738782000@www.mvcca.org
SUMMARY:Environment and Recreation Committee Meeting with Stormwater Special Committee
DESCRIPTION:
URL:https://www.mvcca.org/event/environment-and-recreation-committee-meeting-23/
LOCATION:Zoom Meeting
CATEGORIES:Environment & Recreation
END:VEVENT
BEGIN:VEVENT
DTSTART;TZID=America/New_York:20250102T190000
DTEND;TZID=America/New_York:20250102T190000
DTSTAMP:20260423T153511
CREATED:20241114T214947Z
LAST-MODIFIED:20241123T140225Z
UID:5721-1735844400-1735844400@www.mvcca.org
SUMMARY:Environment and Recreation Committee Meeting
DESCRIPTION:
URL:https://www.mvcca.org/event/environment-and-recreation-committee-meeting-22/
LOCATION:Zoom Meeting
CATEGORIES:Environment & Recreation
END:VEVENT
BEGIN:VEVENT
DTSTART;TZID=America/New_York:20241204T190000
DTEND;TZID=America/New_York:20241204T190000
DTSTAMP:20260423T153511
CREATED:20231205T135541Z
LAST-MODIFIED:20231205T135541Z
UID:4902-1733338800-1733338800@www.mvcca.org
SUMMARY:Environment and Recreation Committee Meeting
DESCRIPTION:
URL:https://www.mvcca.org/event/environment-and-recreation-committee-meeting-21/
LOCATION:Zoom Meeting
CATEGORIES:Environment & Recreation
END:VEVENT
BEGIN:VEVENT
DTSTART;TZID=America/New_York:20241106T190000
DTEND;TZID=America/New_York:20241106T190000
DTSTAMP:20260423T153511
CREATED:20231205T135444Z
LAST-MODIFIED:20231205T135444Z
UID:4900-1730919600-1730919600@www.mvcca.org
SUMMARY:Environment and Recreation Committee Meeting
DESCRIPTION:
URL:https://www.mvcca.org/event/environment-and-recreation-committee-meeting-20/
LOCATION:Zoom Meeting
CATEGORIES:Environment & Recreation
END:VEVENT
BEGIN:VEVENT
DTSTART;TZID=America/New_York:20241003T190000
DTEND;TZID=America/New_York:20241003T190000
DTSTAMP:20260423T153511
CREATED:20231205T135354Z
LAST-MODIFIED:20240930T010655Z
UID:4898-1727982000-1727982000@www.mvcca.org
SUMMARY:Environment and Recreation Committee Meeting
DESCRIPTION:
URL:https://www.mvcca.org/event/environment-and-recreation-committee-meeting-19/
LOCATION:Zoom Meeting
CATEGORIES:Environment & Recreation
END:VEVENT
BEGIN:VEVENT
DTSTART;TZID=America/New_York:20240904T190000
DTEND;TZID=America/New_York:20240904T190000
DTSTAMP:20260423T153511
CREATED:20231205T135256Z
LAST-MODIFIED:20231205T135256Z
UID:4896-1725476400-1725476400@www.mvcca.org
SUMMARY:Environment and Recreation Committee Meeting
DESCRIPTION:
URL:https://www.mvcca.org/event/environment-and-recreation-committee-meeting-18/
LOCATION:Zoom Meeting
CATEGORIES:Environment & Recreation
END:VEVENT
BEGIN:VEVENT
DTSTART;TZID=America/New_York:20240703T190000
DTEND;TZID=America/New_York:20240703T190000
DTSTAMP:20260423T153511
CREATED:20231205T135201Z
LAST-MODIFIED:20231205T135201Z
UID:4894-1720033200-1720033200@www.mvcca.org
SUMMARY:Environment and Recreation Committee Meeting
DESCRIPTION:
URL:https://www.mvcca.org/event/environment-and-recreation-committee-meeting-17/
LOCATION:Zoom Meeting
CATEGORIES:Environment & Recreation
END:VEVENT
BEGIN:VEVENT
DTSTART;TZID=America/New_York:20240605T190000
DTEND;TZID=America/New_York:20240605T190000
DTSTAMP:20260423T153511
CREATED:20231205T135105Z
LAST-MODIFIED:20231205T135105Z
UID:4892-1717614000-1717614000@www.mvcca.org
SUMMARY:Environment and Recreation Committee Meeting
DESCRIPTION:
URL:https://www.mvcca.org/event/environment-and-recreation-committee-meeting-16/
LOCATION:Zoom Meeting
CATEGORIES:Environment & Recreation
END:VEVENT
BEGIN:VEVENT
DTSTART;TZID=America/New_York:20240501T190000
DTEND;TZID=America/New_York:20240501T190000
DTSTAMP:20260423T153511
CREATED:20231205T134823Z
LAST-MODIFIED:20231205T134823Z
UID:4890-1714590000-1714590000@www.mvcca.org
SUMMARY:Environment and Recreation Committee Meeting
DESCRIPTION:
URL:https://www.mvcca.org/event/environment-and-recreation-committee-meeting-15/
LOCATION:Zoom Meeting
CATEGORIES:Environment & Recreation
END:VEVENT
BEGIN:VEVENT
DTSTART;TZID=America/New_York:20240403T190000
DTEND;TZID=America/New_York:20240403T190000
DTSTAMP:20260423T153511
CREATED:20231205T134628Z
LAST-MODIFIED:20231205T134628Z
UID:4888-1712170800-1712170800@www.mvcca.org
SUMMARY:Environment and Recreation Committee Meeting
DESCRIPTION:
URL:https://www.mvcca.org/event/environment-and-recreation-committee-meeting-14/
LOCATION:Zoom Meeting
CATEGORIES:Environment & Recreation
END:VEVENT
BEGIN:VEVENT
DTSTART;TZID=America/New_York:20240306T190000
DTEND;TZID=America/New_York:20240306T190000
DTSTAMP:20260423T153511
CREATED:20231205T134529Z
LAST-MODIFIED:20231205T134529Z
UID:4886-1709751600-1709751600@www.mvcca.org
SUMMARY:Environment and Recreation Committee Meeting
DESCRIPTION:
URL:https://www.mvcca.org/event/environment-and-recreation-committee-meeting-13/
LOCATION:Zoom Meeting
CATEGORIES:Environment & Recreation
END:VEVENT
BEGIN:VEVENT
DTSTART;TZID=America/New_York:20240208T190000
DTEND;TZID=America/New_York:20240208T190000
DTSTAMP:20260423T153511
CREATED:20231205T134306Z
LAST-MODIFIED:20240123T132247Z
UID:4884-1707418800-1707418800@www.mvcca.org
SUMMARY:Environment and Recreation Committee Meeting
DESCRIPTION:
URL:https://www.mvcca.org/event/environment-and-recreation-committee-meeting-12/
LOCATION:Zoom Meeting
CATEGORIES:Environment & Recreation
END:VEVENT
BEGIN:VEVENT
DTSTART;TZID=America/New_York:20231206T190000
DTEND;TZID=America/New_York:20231206T190000
DTSTAMP:20260423T153511
CREATED:20230103T164435Z
LAST-MODIFIED:20230103T164435Z
UID:4347-1701889200-1701889200@www.mvcca.org
SUMMARY:Environment and Recreation Committee Meeting
DESCRIPTION:
URL:https://www.mvcca.org/event/environment-and-recreation-committee-meeting-11/
LOCATION:Zoom Meeting
CATEGORIES:Committee,Environment & Recreation,Meetings
END:VEVENT
BEGIN:VEVENT
DTSTART;TZID=America/New_York:20231101T190000
DTEND;TZID=America/New_York:20231101T190000
DTSTAMP:20260423T153511
CREATED:20230103T164400Z
LAST-MODIFIED:20230103T164400Z
UID:4345-1698865200-1698865200@www.mvcca.org
SUMMARY:Environment and Recreation Committee Meeting
DESCRIPTION:
URL:https://www.mvcca.org/event/environment-and-recreation-committee-meeting-10/
LOCATION:Zoom Meeting
CATEGORIES:Committee,Environment & Recreation,Meetings
END:VEVENT
BEGIN:VEVENT
DTSTART;TZID=America/New_York:20231004T190000
DTEND;TZID=America/New_York:20231004T190000
DTSTAMP:20260423T153511
CREATED:20230103T164324Z
LAST-MODIFIED:20230103T164324Z
UID:4343-1696446000-1696446000@www.mvcca.org
SUMMARY:Environment and Recreation Committee Meeting
DESCRIPTION:
URL:https://www.mvcca.org/event/environment-and-recreation-committee-meeting-9/
LOCATION:Zoom Meeting
CATEGORIES:Committee,Environment & Recreation,Meetings
END:VEVENT
BEGIN:VEVENT
DTSTART;TZID=America/New_York:20230906T190000
DTEND;TZID=America/New_York:20230906T190000
DTSTAMP:20260423T153511
CREATED:20230103T164249Z
LAST-MODIFIED:20230103T164249Z
UID:4341-1694026800-1694026800@www.mvcca.org
SUMMARY:Environment and Recreation Committee Meeting
DESCRIPTION:
URL:https://www.mvcca.org/event/environment-and-recreation-committee-meeting-8/
LOCATION:Zoom Meeting
CATEGORIES:Committee,Environment & Recreation,Meetings
END:VEVENT
BEGIN:VEVENT
DTSTART;TZID=America/New_York:20230705T190000
DTEND;TZID=America/New_York:20230705T190000
DTSTAMP:20260423T153511
CREATED:20230103T164208Z
LAST-MODIFIED:20230103T164208Z
UID:4339-1688583600-1688583600@www.mvcca.org
SUMMARY:Environment and Recreation Committee Meeting
DESCRIPTION:
URL:https://www.mvcca.org/event/environment-and-recreation-committee-meeting-7/
LOCATION:Zoom Meeting
CATEGORIES:Committee,Environment & Recreation,Meetings
END:VEVENT
BEGIN:VEVENT
DTSTART;TZID=America/New_York:20230607T190000
DTEND;TZID=America/New_York:20230607T190000
DTSTAMP:20260423T153511
CREATED:20230103T164137Z
LAST-MODIFIED:20230103T164137Z
UID:4337-1686164400-1686164400@www.mvcca.org
SUMMARY:Environment and Recreation Committee Meeting
DESCRIPTION:
URL:https://www.mvcca.org/event/environment-and-recreation-committee-meeting-6/
LOCATION:Zoom Meeting
CATEGORIES:Environment & Recreation,Meetings
END:VEVENT
BEGIN:VEVENT
DTSTART;TZID=America/New_York:20230503T190000
DTEND;TZID=America/New_York:20230503T190000
DTSTAMP:20260423T153511
CREATED:20230103T164056Z
LAST-MODIFIED:20230103T164056Z
UID:4335-1683140400-1683140400@www.mvcca.org
SUMMARY:Environment and Recreation Committee Meeting
DESCRIPTION:
URL:https://www.mvcca.org/event/environment-and-recreation-committee-meeting-5/
LOCATION:Zoom Meeting
CATEGORIES:Committee,Environment & Recreation,Meetings
END:VEVENT
BEGIN:VEVENT
DTSTART;TZID=America/New_York:20230405T190000
DTEND;TZID=America/New_York:20230405T190000
DTSTAMP:20260423T153511
CREATED:20230103T164028Z
LAST-MODIFIED:20230103T164028Z
UID:4333-1680721200-1680721200@www.mvcca.org
SUMMARY:Environment and Recreation Committee Meeting
DESCRIPTION:
URL:https://www.mvcca.org/event/environment-and-recreation-committee-meeting-4/
LOCATION:Zoom Meeting
CATEGORIES:Committee,Environment & Recreation,Meetings
END:VEVENT
BEGIN:VEVENT
DTSTART;TZID=America/New_York:20230301T190000
DTEND;TZID=America/New_York:20230301T190000
DTSTAMP:20260423T153511
CREATED:20230103T163953Z
LAST-MODIFIED:20230103T163953Z
UID:4331-1677697200-1677697200@www.mvcca.org
SUMMARY:Environment and Recreation Committee Meeting
DESCRIPTION:
URL:https://www.mvcca.org/event/environment-and-recreation-committee-meeting-3/
LOCATION:Zoom Meeting
CATEGORIES:Committee,Environment & Recreation,Meetings
END:VEVENT
BEGIN:VEVENT
DTSTART;TZID=America/New_York:20230201T190000
DTEND;TZID=America/New_York:20230201T190000
DTSTAMP:20260423T153511
CREATED:20230103T163924Z
LAST-MODIFIED:20230103T163924Z
UID:4329-1675278000-1675278000@www.mvcca.org
SUMMARY:Environment and Recreation Committee Meeting
DESCRIPTION:
URL:https://www.mvcca.org/event/environment-and-recreation-committee-meeting-2/
LOCATION:Zoom Meeting
CATEGORIES:Committee,Environment & Recreation,Meetings
END:VEVENT
BEGIN:VEVENT
DTSTART;TZID=America/New_York:20230104T190000
DTEND;TZID=America/New_York:20230104T190000
DTSTAMP:20260423T153511
CREATED:20230103T163847Z
LAST-MODIFIED:20230103T163847Z
UID:4327-1672858800-1672858800@www.mvcca.org
SUMMARY:Environment and Recreation Committee Meeting
DESCRIPTION:
URL:https://www.mvcca.org/event/environment-and-recreation-committee-meeting/
LOCATION:Zoom Meeting
CATEGORIES:Committee,Environment & Recreation,Meetings
END:VEVENT
BEGIN:VEVENT
DTSTART;TZID=America/New_York:20221207T190000
DTEND;TZID=America/New_York:20221207T190000
DTSTAMP:20260423T153511
CREATED:20211231T155522Z
LAST-MODIFIED:20211231T155522Z
UID:4020-1670439600-1670439600@www.mvcca.org
SUMMARY:Environment & Recreation
DESCRIPTION:
URL:https://www.mvcca.org/event/environment-recreation-77/
LOCATION:Zoom Meeting
CATEGORIES:Committee,Environment & Recreation,Meetings
END:VEVENT
BEGIN:VEVENT
DTSTART;TZID=America/New_York:20221102T190000
DTEND;TZID=America/New_York:20221102T190000
DTSTAMP:20260423T153511
CREATED:20211231T155449Z
LAST-MODIFIED:20211231T155449Z
UID:4018-1667415600-1667415600@www.mvcca.org
SUMMARY:Environment & Recreation
DESCRIPTION:
URL:https://www.mvcca.org/event/environment-recreation-76/
LOCATION:Zoom Meeting
CATEGORIES:Committee,Environment & Recreation,Meetings
END:VEVENT
BEGIN:VEVENT
DTSTART;TZID=America/New_York:20221005T190000
DTEND;TZID=America/New_York:20221005T190000
DTSTAMP:20260423T153511
CREATED:20211231T155408Z
LAST-MODIFIED:20211231T155408Z
UID:4016-1664996400-1664996400@www.mvcca.org
SUMMARY:Environment & Recreation
DESCRIPTION:
URL:https://www.mvcca.org/event/environment-recreation-75/
LOCATION:Zoom Meeting
CATEGORIES:Committee,Environment & Recreation,Meetings
END:VEVENT
BEGIN:VEVENT
DTSTART;TZID=America/New_York:20220907T190000
DTEND;TZID=America/New_York:20220907T190000
DTSTAMP:20260423T153511
CREATED:20211231T155253Z
LAST-MODIFIED:20211231T155253Z
UID:4014-1662577200-1662577200@www.mvcca.org
SUMMARY:Environment & Recreation
DESCRIPTION:
URL:https://www.mvcca.org/event/environment-recreation-74/
LOCATION:Zoom Meeting
CATEGORIES:Committee,Environment & Recreation,Meetings
END:VEVENT
END:VCALENDAR