BEGIN:VCALENDAR
VERSION:2.0
PRODID:-//Mount Vernon Council of Citizens&#039; Associations, Inc. - ECPv6.15.20//NONSGML v1.0//EN
CALSCALE:GREGORIAN
METHOD:PUBLISH
X-ORIGINAL-URL:https://www.mvcca.org
X-WR-CALDESC:Events for Mount Vernon Council of Citizens&#039; Associations, Inc.
REFRESH-INTERVAL;VALUE=DURATION:PT1H
X-Robots-Tag:noindex
X-PUBLISHED-TTL:PT1H
BEGIN:VTIMEZONE
TZID:America/New_York
BEGIN:DAYLIGHT
TZOFFSETFROM:-0500
TZOFFSETTO:-0400
TZNAME:EDT
DTSTART:20170312T070000
END:DAYLIGHT
BEGIN:STANDARD
TZOFFSETFROM:-0400
TZOFFSETTO:-0500
TZNAME:EST
DTSTART:20171105T060000
END:STANDARD
BEGIN:DAYLIGHT
TZOFFSETFROM:-0500
TZOFFSETTO:-0400
TZNAME:EDT
DTSTART:20180311T070000
END:DAYLIGHT
BEGIN:STANDARD
TZOFFSETFROM:-0400
TZOFFSETTO:-0500
TZNAME:EST
DTSTART:20181104T060000
END:STANDARD
BEGIN:DAYLIGHT
TZOFFSETFROM:-0500
TZOFFSETTO:-0400
TZNAME:EDT
DTSTART:20190310T070000
END:DAYLIGHT
BEGIN:STANDARD
TZOFFSETFROM:-0400
TZOFFSETTO:-0500
TZNAME:EST
DTSTART:20191103T060000
END:STANDARD
END:VTIMEZONE
BEGIN:VEVENT
DTSTART;TZID=America/New_York:20181205T191500
DTEND;TZID=America/New_York:20181205T191500
DTSTAMP:20260424T010356
CREATED:20171227T195021Z
LAST-MODIFIED:20171227T195021Z
UID:1790-1544037300-1544037300@www.mvcca.org
SUMMARY:Environment & Recreation
DESCRIPTION:
URL:https://www.mvcca.org/event/environment-recreation-33/
LOCATION:Mount Vernon Government Center\, 2511 Parkers Lane\, Alexandria\, 22306\, United States
CATEGORIES:Committee,Environment & Recreation,Meetings
END:VEVENT
BEGIN:VEVENT
DTSTART;TZID=America/New_York:20181107T191500
DTEND;TZID=America/New_York:20181107T191500
DTSTAMP:20260424T010356
CREATED:20171227T195021Z
LAST-MODIFIED:20171227T200333Z
UID:1789-1541618100-1541618100@www.mvcca.org
SUMMARY:Environment & Recreation
DESCRIPTION:
URL:https://www.mvcca.org/event/environment-recreation-32/
LOCATION:Location TBD
CATEGORIES:Committee,Environment & Recreation,Meetings
END:VEVENT
BEGIN:VEVENT
DTSTART;TZID=America/New_York:20181003T191500
DTEND;TZID=America/New_York:20181003T191500
DTSTAMP:20260424T010356
CREATED:20171227T195020Z
LAST-MODIFIED:20171227T195020Z
UID:1788-1538594100-1538594100@www.mvcca.org
SUMMARY:Environment & Recreation
DESCRIPTION:
URL:https://www.mvcca.org/event/environment-recreation-31/
LOCATION:Mount Vernon Government Center\, 2511 Parkers Lane\, Alexandria\, 22306\, United States
CATEGORIES:Committee,Environment & Recreation,Meetings
END:VEVENT
BEGIN:VEVENT
DTSTART;TZID=America/New_York:20180905T191500
DTEND;TZID=America/New_York:20180905T191500
DTSTAMP:20260424T010356
CREATED:20171227T195020Z
LAST-MODIFIED:20171227T195020Z
UID:1787-1536174900-1536174900@www.mvcca.org
SUMMARY:Environment & Recreation
DESCRIPTION:
URL:https://www.mvcca.org/event/environment-recreation-30/
LOCATION:Mount Vernon Government Center\, 2511 Parkers Lane\, Alexandria\, 22306\, United States
CATEGORIES:Committee,Environment & Recreation,Meetings
END:VEVENT
BEGIN:VEVENT
DTSTART;TZID=America/New_York:20180711T191500
DTEND;TZID=America/New_York:20180711T191500
DTSTAMP:20260424T010356
CREATED:20171227T195018Z
LAST-MODIFIED:20171227T201014Z
UID:1786-1531336500-1531336500@www.mvcca.org
SUMMARY:Environment & Recreation
DESCRIPTION:
URL:https://www.mvcca.org/event/environment-recreation-29/
LOCATION:Mount Vernon Government Center\, 2511 Parkers Lane\, Alexandria\, 22306\, United States
CATEGORIES:Committee,Environment & Recreation,Meetings
END:VEVENT
BEGIN:VEVENT
DTSTART;TZID=America/New_York:20180606T191500
DTEND;TZID=America/New_York:20180606T191500
DTSTAMP:20260424T010356
CREATED:20171227T195018Z
LAST-MODIFIED:20171227T195018Z
UID:1785-1528312500-1528312500@www.mvcca.org
SUMMARY:Environment & Recreation
DESCRIPTION:
URL:https://www.mvcca.org/event/environment-recreation-28/
LOCATION:Mount Vernon Government Center\, 2511 Parkers Lane\, Alexandria\, 22306\, United States
CATEGORIES:Committee,Environment & Recreation,Meetings
END:VEVENT
BEGIN:VEVENT
DTSTART;TZID=America/New_York:20180502T191500
DTEND;TZID=America/New_York:20180502T191500
DTSTAMP:20260424T010356
CREATED:20171227T195017Z
LAST-MODIFIED:20171227T195017Z
UID:1784-1525288500-1525288500@www.mvcca.org
SUMMARY:Environment & Recreation
DESCRIPTION:
URL:https://www.mvcca.org/event/environment-recreation-27/
LOCATION:Mount Vernon Government Center\, 2511 Parkers Lane\, Alexandria\, 22306\, United States
CATEGORIES:Committee,Environment & Recreation,Meetings
END:VEVENT
BEGIN:VEVENT
DTSTART;TZID=America/New_York:20180404T191500
DTEND;TZID=America/New_York:20180404T191500
DTSTAMP:20260424T010356
CREATED:20171227T195017Z
LAST-MODIFIED:20171227T195017Z
UID:1783-1522869300-1522869300@www.mvcca.org
SUMMARY:Environment & Recreation
DESCRIPTION:
URL:https://www.mvcca.org/event/environment-recreation-26/
LOCATION:Mount Vernon Government Center\, 2511 Parkers Lane\, Alexandria\, 22306\, United States
CATEGORIES:Committee,Environment & Recreation,Meetings
END:VEVENT
END:VCALENDAR