BEGIN:VCALENDAR
VERSION:2.0
PRODID:-//Mount Vernon Council of Citizens&#039; Associations, Inc. - ECPv6.15.20//NONSGML v1.0//EN
CALSCALE:GREGORIAN
METHOD:PUBLISH
X-ORIGINAL-URL:https://www.mvcca.org
X-WR-CALDESC:Events for Mount Vernon Council of Citizens&#039; Associations, Inc.
REFRESH-INTERVAL;VALUE=DURATION:PT1H
X-Robots-Tag:noindex
X-PUBLISHED-TTL:PT1H
BEGIN:VTIMEZONE
TZID:America/New_York
BEGIN:DAYLIGHT
TZOFFSETFROM:-0500
TZOFFSETTO:-0400
TZNAME:EDT
DTSTART:20210314T070000
END:DAYLIGHT
BEGIN:STANDARD
TZOFFSETFROM:-0400
TZOFFSETTO:-0500
TZNAME:EST
DTSTART:20211107T060000
END:STANDARD
BEGIN:DAYLIGHT
TZOFFSETFROM:-0500
TZOFFSETTO:-0400
TZNAME:EDT
DTSTART:20220313T070000
END:DAYLIGHT
BEGIN:STANDARD
TZOFFSETFROM:-0400
TZOFFSETTO:-0500
TZNAME:EST
DTSTART:20221106T060000
END:STANDARD
BEGIN:DAYLIGHT
TZOFFSETFROM:-0500
TZOFFSETTO:-0400
TZNAME:EDT
DTSTART:20230312T070000
END:DAYLIGHT
BEGIN:STANDARD
TZOFFSETFROM:-0400
TZOFFSETTO:-0500
TZNAME:EST
DTSTART:20231105T060000
END:STANDARD
BEGIN:DAYLIGHT
TZOFFSETFROM:-0500
TZOFFSETTO:-0400
TZNAME:EDT
DTSTART:20240310T070000
END:DAYLIGHT
BEGIN:STANDARD
TZOFFSETFROM:-0400
TZOFFSETTO:-0500
TZNAME:EST
DTSTART:20241103T060000
END:STANDARD
END:VTIMEZONE
BEGIN:VEVENT
DTSTART;TZID=America/New_York:20230828T190000
DTEND;TZID=America/New_York:20230828T190000
DTSTAMP:20260424T134700
CREATED:20230103T165329Z
LAST-MODIFIED:20230103T165329Z
UID:4365-1693249200-1693249200@www.mvcca.org
SUMMARY:Planning and Zoning Committee Meeting
DESCRIPTION:
URL:https://www.mvcca.org/event/planning-and-zoning-committee-meeting-9/
LOCATION:Zoom Meeting
CATEGORIES:Committee,Meetings,Planning & Zoning
END:VEVENT
BEGIN:VEVENT
DTSTART;TZID=America/New_York:20230710T190000
DTEND;TZID=America/New_York:20230710T190000
DTSTAMP:20260424T134700
CREATED:20230103T200805Z
LAST-MODIFIED:20230103T200805Z
UID:4393-1689015600-1689015600@www.mvcca.org
SUMMARY:Transportation Committee Meeting
DESCRIPTION:
URL:https://www.mvcca.org/event/transportation-committee-meeting-7/
LOCATION:Zoom Meeting
CATEGORIES:Committee,Meetings,Transportation
END:VEVENT
BEGIN:VEVENT
DTSTART;TZID=America/New_York:20230710T190000
DTEND;TZID=America/New_York:20230710T190000
DTSTAMP:20260424T134700
CREATED:20230103T165257Z
LAST-MODIFIED:20230110T195939Z
UID:4363-1689015600-1689015600@www.mvcca.org
SUMMARY:Planning and Zoning Committee Meeting
DESCRIPTION:
URL:https://www.mvcca.org/event/planning-and-zoning-committee-meeting-8/
LOCATION:Zoom Meeting
CATEGORIES:Committee,Meetings,Planning & Zoning
END:VEVENT
BEGIN:VEVENT
DTSTART;TZID=America/New_York:20230705T190000
DTEND;TZID=America/New_York:20230705T190000
DTSTAMP:20260424T134700
CREATED:20230103T164208Z
LAST-MODIFIED:20230103T164208Z
UID:4339-1688583600-1688583600@www.mvcca.org
SUMMARY:Environment and Recreation Committee Meeting
DESCRIPTION:
URL:https://www.mvcca.org/event/environment-and-recreation-committee-meeting-7/
LOCATION:Zoom Meeting
CATEGORIES:Committee,Environment & Recreation,Meetings
END:VEVENT
BEGIN:VEVENT
DTSTART;TZID=America/New_York:20230607T190000
DTEND;TZID=America/New_York:20230607T190000
DTSTAMP:20260424T134700
CREATED:20230103T164137Z
LAST-MODIFIED:20230103T164137Z
UID:4337-1686164400-1686164400@www.mvcca.org
SUMMARY:Environment and Recreation Committee Meeting
DESCRIPTION:
URL:https://www.mvcca.org/event/environment-and-recreation-committee-meeting-6/
LOCATION:Zoom Meeting
CATEGORIES:Environment & Recreation,Meetings
END:VEVENT
BEGIN:VEVENT
DTSTART;TZID=America/New_York:20230605T190000
DTEND;TZID=America/New_York:20230605T190000
DTSTAMP:20260424T134700
CREATED:20230103T200734Z
LAST-MODIFIED:20230103T200734Z
UID:4391-1685991600-1685991600@www.mvcca.org
SUMMARY:Transportation Committee Meeting
DESCRIPTION:
URL:https://www.mvcca.org/event/transportation-committee-meeting-6/
LOCATION:Zoom Meeting
CATEGORIES:Committee,Meetings,Transportation
END:VEVENT
BEGIN:VEVENT
DTSTART;TZID=America/New_York:20230605T190000
DTEND;TZID=America/New_York:20230605T190000
DTSTAMP:20260424T134700
CREATED:20230103T165209Z
LAST-MODIFIED:20230103T165209Z
UID:4361-1685991600-1685991600@www.mvcca.org
SUMMARY:Planning and Zoning Committee Meeting
DESCRIPTION:
URL:https://www.mvcca.org/event/planning-and-zoning-committee-meeting-7/
LOCATION:Zoom Meeting
CATEGORIES:Committee,Meetings,Planning & Zoning
END:VEVENT
BEGIN:VEVENT
DTSTART;TZID=America/New_York:20230508T190000
DTEND;TZID=America/New_York:20230508T190000
DTSTAMP:20260424T134700
CREATED:20230103T200654Z
LAST-MODIFIED:20230426T155720Z
UID:4389-1683572400-1683572400@www.mvcca.org
SUMMARY:Transportation Committee Meeting
DESCRIPTION:
URL:https://www.mvcca.org/event/transportation-committee-meeting-5/
LOCATION:Zoom Meeting
CATEGORIES:Committee,Meetings,Transportation
END:VEVENT
BEGIN:VEVENT
DTSTART;TZID=America/New_York:20230503T193000
DTEND;TZID=America/New_York:20230503T193000
DTSTAMP:20260424T134700
CREATED:20230103T163315Z
LAST-MODIFIED:20230103T163315Z
UID:4315-1683142200-1683142200@www.mvcca.org
SUMMARY:Education Committee Meeting
DESCRIPTION:
URL:https://www.mvcca.org/event/education-committee-meeting-4/
LOCATION:Zoom Meeting
CATEGORIES:Committee,Education,Meetings
END:VEVENT
BEGIN:VEVENT
DTSTART;TZID=America/New_York:20230503T190000
DTEND;TZID=America/New_York:20230503T190000
DTSTAMP:20260424T134700
CREATED:20230103T164056Z
LAST-MODIFIED:20230103T164056Z
UID:4335-1683140400-1683140400@www.mvcca.org
SUMMARY:Environment and Recreation Committee Meeting
DESCRIPTION:
URL:https://www.mvcca.org/event/environment-and-recreation-committee-meeting-5/
LOCATION:Zoom Meeting
CATEGORIES:Committee,Environment & Recreation,Meetings
END:VEVENT
BEGIN:VEVENT
DTSTART;TZID=America/New_York:20230501T190000
DTEND;TZID=America/New_York:20230501T190000
DTSTAMP:20260424T134700
CREATED:20230103T165129Z
LAST-MODIFIED:20230103T165129Z
UID:4359-1682967600-1682967600@www.mvcca.org
SUMMARY:Planning and Zoning Committee Meeting
DESCRIPTION:
URL:https://www.mvcca.org/event/planning-and-zoning-committee-meeting-6/
LOCATION:Zoom Meeting
CATEGORIES:Committee,Meetings,Planning & Zoning
END:VEVENT
BEGIN:VEVENT
DTSTART;TZID=America/New_York:20230405T193000
DTEND;TZID=America/New_York:20230405T193000
DTSTAMP:20260424T134700
CREATED:20230103T163242Z
LAST-MODIFIED:20230103T163242Z
UID:4313-1680723000-1680723000@www.mvcca.org
SUMMARY:Education Committee Meeting
DESCRIPTION:
URL:https://www.mvcca.org/event/education-committee-meeting-3/
LOCATION:Zoom Meeting
CATEGORIES:Committee,Education,Meetings
END:VEVENT
BEGIN:VEVENT
DTSTART;TZID=America/New_York:20230405T190000
DTEND;TZID=America/New_York:20230405T190000
DTSTAMP:20260424T134700
CREATED:20230103T164028Z
LAST-MODIFIED:20230103T164028Z
UID:4333-1680721200-1680721200@www.mvcca.org
SUMMARY:Environment and Recreation Committee Meeting
DESCRIPTION:
URL:https://www.mvcca.org/event/environment-and-recreation-committee-meeting-4/
LOCATION:Zoom Meeting
CATEGORIES:Committee,Environment & Recreation,Meetings
END:VEVENT
BEGIN:VEVENT
DTSTART;TZID=America/New_York:20230403T190000
DTEND;TZID=America/New_York:20230403T190000
DTSTAMP:20260424T134700
CREATED:20230103T200438Z
LAST-MODIFIED:20230103T200438Z
UID:4387-1680548400-1680548400@www.mvcca.org
SUMMARY:Transportation Committee Meeting
DESCRIPTION:
URL:https://www.mvcca.org/event/transportation-committee-meeting-4/
LOCATION:Zoom Meeting
CATEGORIES:Committee,Meetings,Transportation
END:VEVENT
BEGIN:VEVENT
DTSTART;TZID=America/New_York:20230403T190000
DTEND;TZID=America/New_York:20230403T190000
DTSTAMP:20260424T134700
CREATED:20230103T165039Z
LAST-MODIFIED:20230103T165039Z
UID:4357-1680548400-1680548400@www.mvcca.org
SUMMARY:Planning and Zoning Committee Meeting
DESCRIPTION:
URL:https://www.mvcca.org/event/planning-and-zoning-committee-meeting-5/
LOCATION:Zoom Meeting
CATEGORIES:Committee,Meetings,Public Safety
END:VEVENT
BEGIN:VEVENT
DTSTART;TZID=America/New_York:20230403T190000
DTEND;TZID=America/New_York:20230403T190000
DTSTAMP:20260424T134700
CREATED:20230103T164957Z
LAST-MODIFIED:20230103T164957Z
UID:4355-1680548400-1680548400@www.mvcca.org
SUMMARY:Planning and Zoning Committee Meeting
DESCRIPTION:
URL:https://www.mvcca.org/event/planning-and-zoning-committee-meeting-4/
LOCATION:Zoom Meeting
CATEGORIES:Committee,Meetings,Planning & Zoning
END:VEVENT
BEGIN:VEVENT
DTSTART;TZID=America/New_York:20230306T190000
DTEND;TZID=America/New_York:20230306T190000
DTSTAMP:20260424T134700
CREATED:20230103T200344Z
LAST-MODIFIED:20230103T200503Z
UID:4385-1678129200-1678129200@www.mvcca.org
SUMMARY:Transportation Committee Meeting
DESCRIPTION:
URL:https://www.mvcca.org/event/transportation-committee-meeting-3/
LOCATION:Zoom Meeting
CATEGORIES:Committee,Meetings,Transportation
END:VEVENT
BEGIN:VEVENT
DTSTART;TZID=America/New_York:20230306T080000
DTEND;TZID=America/New_York:20230306T170000
DTSTAMP:20260424T134700
CREATED:20230103T164919Z
LAST-MODIFIED:20230103T164919Z
UID:4353-1678089600-1678122000@www.mvcca.org
SUMMARY:Planning and Zoning Committee Meeting
DESCRIPTION:
URL:https://www.mvcca.org/event/planning-and-zoning-committee-meeting-3/
LOCATION:Zoom Meeting
CATEGORIES:Committee,Meetings,Planning & Zoning
END:VEVENT
BEGIN:VEVENT
DTSTART;TZID=America/New_York:20230301T193000
DTEND;TZID=America/New_York:20230301T193000
DTSTAMP:20260424T134700
CREATED:20230103T163205Z
LAST-MODIFIED:20230103T163205Z
UID:4311-1677699000-1677699000@www.mvcca.org
SUMMARY:Education Committee Meeting
DESCRIPTION:
URL:https://www.mvcca.org/event/education-committee-meeting-2/
LOCATION:Zoom Meeting
CATEGORIES:Education,Meetings
END:VEVENT
BEGIN:VEVENT
DTSTART;TZID=America/New_York:20230301T190000
DTEND;TZID=America/New_York:20230301T190000
DTSTAMP:20260424T134700
CREATED:20230103T163953Z
LAST-MODIFIED:20230103T163953Z
UID:4331-1677697200-1677697200@www.mvcca.org
SUMMARY:Environment and Recreation Committee Meeting
DESCRIPTION:
URL:https://www.mvcca.org/event/environment-and-recreation-committee-meeting-3/
LOCATION:Zoom Meeting
CATEGORIES:Committee,Environment & Recreation,Meetings
END:VEVENT
BEGIN:VEVENT
DTSTART;TZID=America/New_York:20230206T190000
DTEND;TZID=America/New_York:20230206T190000
DTSTAMP:20260424T134700
CREATED:20230103T170453Z
LAST-MODIFIED:20230113T165302Z
UID:4383-1675710000-1675710000@www.mvcca.org
SUMMARY:Transportation/Public Safety Committee Meeting
DESCRIPTION:
URL:https://www.mvcca.org/event/transportation-committee-meeting-2/
LOCATION:Zoom Meeting
CATEGORIES:Committee,Meetings,Public Safety,Transportation
END:VEVENT
BEGIN:VEVENT
DTSTART;TZID=America/New_York:20230206T190000
DTEND;TZID=America/New_York:20230206T190000
DTSTAMP:20260424T134700
CREATED:20230103T164855Z
LAST-MODIFIED:20230103T164855Z
UID:4351-1675710000-1675710000@www.mvcca.org
SUMMARY:Planning and Zoning Committee Meeting
DESCRIPTION:
URL:https://www.mvcca.org/event/planning-and-zoning-committee-meeting-2/
LOCATION:Zoom Meeting
CATEGORIES:Committee,Meetings,Planning & Zoning
END:VEVENT
BEGIN:VEVENT
DTSTART;TZID=America/New_York:20230201T193000
DTEND;TZID=America/New_York:20230201T193000
DTSTAMP:20260424T134700
CREATED:20230103T163103Z
LAST-MODIFIED:20230103T163103Z
UID:4308-1675279800-1675279800@www.mvcca.org
SUMMARY:Education Committee Meeting
DESCRIPTION:
URL:https://www.mvcca.org/event/education-committee-meeting/
LOCATION:Zoom Meeting
CATEGORIES:Committee,Education,Meetings
END:VEVENT
BEGIN:VEVENT
DTSTART;TZID=America/New_York:20230201T190000
DTEND;TZID=America/New_York:20230201T190000
DTSTAMP:20260424T134700
CREATED:20230103T163924Z
LAST-MODIFIED:20230103T163924Z
UID:4329-1675278000-1675278000@www.mvcca.org
SUMMARY:Environment and Recreation Committee Meeting
DESCRIPTION:
URL:https://www.mvcca.org/event/environment-and-recreation-committee-meeting-2/
LOCATION:Zoom Meeting
CATEGORIES:Committee,Environment & Recreation,Meetings
END:VEVENT
BEGIN:VEVENT
DTSTART;TZID=America/New_York:20230110T190000
DTEND;TZID=America/New_York:20230110T190000
DTSTAMP:20260424T134700
CREATED:20230103T164807Z
LAST-MODIFIED:20230103T164807Z
UID:4349-1673377200-1673377200@www.mvcca.org
SUMMARY:Planning and Zoning Committee Meeting
DESCRIPTION:
URL:https://www.mvcca.org/event/planning-and-zoning-committee-meeting/
LOCATION:Zoom Meeting
CATEGORIES:Committee,Meetings,Planning & Zoning
END:VEVENT
BEGIN:VEVENT
DTSTART;TZID=America/New_York:20230109T190000
DTEND;TZID=America/New_York:20230109T190000
DTSTAMP:20260424T134700
CREATED:20230103T170420Z
LAST-MODIFIED:20230103T170420Z
UID:4381-1673290800-1673290800@www.mvcca.org
SUMMARY:Transportation Committee Meeting
DESCRIPTION:
URL:https://www.mvcca.org/event/transportation-committee-meeting/
LOCATION:Zoom Meeting
CATEGORIES:Committee,Meetings,Transportation
END:VEVENT
BEGIN:VEVENT
DTSTART;TZID=America/New_York:20230104T190000
DTEND;TZID=America/New_York:20230104T190000
DTSTAMP:20260424T134700
CREATED:20230103T163847Z
LAST-MODIFIED:20230103T163847Z
UID:4327-1672858800-1672858800@www.mvcca.org
SUMMARY:Environment and Recreation Committee Meeting
DESCRIPTION:
URL:https://www.mvcca.org/event/environment-and-recreation-committee-meeting/
LOCATION:Zoom Meeting
CATEGORIES:Committee,Environment & Recreation,Meetings
END:VEVENT
BEGIN:VEVENT
DTSTART;TZID=America/New_York:20221207T193000
DTEND;TZID=America/New_York:20221207T210000
DTSTAMP:20260424T134700
CREATED:20211231T154449Z
LAST-MODIFIED:20221207T202208Z
UID:4001-1670441400-1670446800@www.mvcca.org
SUMMARY:Education
DESCRIPTION:
URL:https://www.mvcca.org/event/education-75/
LOCATION:Zoom Meeting
CATEGORIES:Committee,Education,Meetings
END:VEVENT
BEGIN:VEVENT
DTSTART;TZID=America/New_York:20221207T190000
DTEND;TZID=America/New_York:20221207T190000
DTSTAMP:20260424T134700
CREATED:20211231T155522Z
LAST-MODIFIED:20211231T155522Z
UID:4020-1670439600-1670439600@www.mvcca.org
SUMMARY:Environment & Recreation
DESCRIPTION:
URL:https://www.mvcca.org/event/environment-recreation-77/
LOCATION:Zoom Meeting
CATEGORIES:Committee,Environment & Recreation,Meetings
END:VEVENT
BEGIN:VEVENT
DTSTART;TZID=America/New_York:20221205T190000
DTEND;TZID=America/New_York:20221205T190000
DTSTAMP:20260424T134700
CREATED:20211231T160336Z
LAST-MODIFIED:20221205T200255Z
UID:4038-1670266800-1670266800@www.mvcca.org
SUMMARY:Public Safety
DESCRIPTION:Joint meeting with Transportation committee.
URL:https://www.mvcca.org/event/public-safety-76/
LOCATION:Zoom Meeting
CATEGORIES:Committee,Meetings,Public Safety
END:VEVENT
END:VCALENDAR