BEGIN:VCALENDAR
VERSION:2.0
PRODID:-//Mount Vernon Council of Citizens&#039; Associations, Inc. - ECPv6.15.20//NONSGML v1.0//EN
CALSCALE:GREGORIAN
METHOD:PUBLISH
X-WR-CALNAME:Mount Vernon Council of Citizens&#039; Associations, Inc.
X-ORIGINAL-URL:https://www.mvcca.org
X-WR-CALDESC:Events for Mount Vernon Council of Citizens&#039; Associations, Inc.
REFRESH-INTERVAL;VALUE=DURATION:PT1H
X-Robots-Tag:noindex
X-PUBLISHED-TTL:PT1H
BEGIN:VTIMEZONE
TZID:America/New_York
BEGIN:DAYLIGHT
TZOFFSETFROM:-0500
TZOFFSETTO:-0400
TZNAME:EDT
DTSTART:20180311T070000
END:DAYLIGHT
BEGIN:STANDARD
TZOFFSETFROM:-0400
TZOFFSETTO:-0500
TZNAME:EST
DTSTART:20181104T060000
END:STANDARD
BEGIN:DAYLIGHT
TZOFFSETFROM:-0500
TZOFFSETTO:-0400
TZNAME:EDT
DTSTART:20190310T070000
END:DAYLIGHT
BEGIN:STANDARD
TZOFFSETFROM:-0400
TZOFFSETTO:-0500
TZNAME:EST
DTSTART:20191103T060000
END:STANDARD
BEGIN:DAYLIGHT
TZOFFSETFROM:-0500
TZOFFSETTO:-0400
TZNAME:EDT
DTSTART:20200308T070000
END:DAYLIGHT
BEGIN:STANDARD
TZOFFSETFROM:-0400
TZOFFSETTO:-0500
TZNAME:EST
DTSTART:20201101T060000
END:STANDARD
END:VTIMEZONE
BEGIN:VEVENT
DTSTART;TZID=America/New_York:20190905T193000
DTEND;TZID=America/New_York:20190905T193000
DTSTAMP:20260425T163543
CREATED:20181214T181841Z
LAST-MODIFIED:20181214T181841Z
UID:2649-1567711800-1567711800@www.mvcca.org
SUMMARY:Public Safety
DESCRIPTION:
URL:https://www.mvcca.org/event/public-safety-40/
LOCATION:Mount Vernon Government Center\, 2511 Parkers Lane\, Alexandria\, 22306\, United States
CATEGORIES:Public Safety
END:VEVENT
BEGIN:VEVENT
DTSTART;TZID=America/New_York:20190904T200000
DTEND;TZID=America/New_York:20190904T200000
DTSTAMP:20260425T163543
CREATED:20181214T175520Z
LAST-MODIFIED:20181214T175520Z
UID:2608-1567627200-1567627200@www.mvcca.org
SUMMARY:Education
DESCRIPTION:
URL:https://www.mvcca.org/event/education-39/
LOCATION:Walt Whitman Middle School\, Library\, 2500 Parkers Lane\, Alexandria\, 22306\, United States
CATEGORIES:Education
END:VEVENT
BEGIN:VEVENT
DTSTART;TZID=America/New_York:20190904T191500
DTEND;TZID=America/New_York:20190904T191500
DTSTAMP:20260425T163543
CREATED:20181214T181123Z
LAST-MODIFIED:20181214T181123Z
UID:2629-1567624500-1567624500@www.mvcca.org
SUMMARY:Environment & Recreation
DESCRIPTION:
URL:https://www.mvcca.org/event/environment-recreation-41/
LOCATION:Mount Vernon Government Center\, 2511 Parkers Lane\, Alexandria\, 22306\, United States
CATEGORIES:Environment & Recreation
END:VEVENT
BEGIN:VEVENT
DTSTART;TZID=America/New_York:20190904T190000
DTEND;TZID=America/New_York:20190904T190000
DTSTAMP:20260425T163543
CREATED:20181214T174804Z
LAST-MODIFIED:20181214T174804Z
UID:2588-1567623600-1567623600@www.mvcca.org
SUMMARY:Budget & Finance
DESCRIPTION:
URL:https://www.mvcca.org/event/budget-finance-43/
LOCATION:Mount Vernon Government Center\, 2511 Parkers Lane\, Alexandria\, 22306\, United States
CATEGORIES:Budget & Finance
END:VEVENT
BEGIN:VEVENT
DTSTART;TZID=America/New_York:20190708T190000
DTEND;TZID=America/New_York:20190708T190000
DTSTAMP:20260425T163543
CREATED:20181214T172857Z
LAST-MODIFIED:20190614T202926Z
UID:2564-1562612400-1562612400@www.mvcca.org
SUMMARY:Transportation
DESCRIPTION:
URL:https://www.mvcca.org/event/transportation-40/
LOCATION:Mount Vernon Government Center\, 2511 Parkers Lane\, Alexandria\, 22306\, United States
CATEGORIES:Transportation
END:VEVENT
BEGIN:VEVENT
DTSTART;TZID=America/New_York:20190703T203000
DTEND;TZID=America/New_York:20190703T203000
DTSTAMP:20260425T163543
CREATED:20181214T175444Z
LAST-MODIFIED:20181214T175444Z
UID:2606-1562185800-1562185800@www.mvcca.org
SUMMARY:Education
DESCRIPTION:
URL:https://www.mvcca.org/event/education-38/
LOCATION:Mount Vernon Government Center\, 2511 Parkers Lane\, Alexandria\, 22306\, United States
CATEGORIES:Education
END:VEVENT
BEGIN:VEVENT
DTSTART;TZID=America/New_York:20190703T193000
DTEND;TZID=America/New_York:20190703T193000
DTSTAMP:20260425T163543
CREATED:20181214T181802Z
LAST-MODIFIED:20190529T150418Z
UID:2647-1562182200-1562182200@www.mvcca.org
SUMMARY:Public Safety - CANCELLED
DESCRIPTION:
URL:https://www.mvcca.org/event/public-safety-39/
LOCATION:Mount Vernon Government Center\, 2511 Parkers Lane\, Alexandria\, 22306\, United States
CATEGORIES:Public Safety
END:VEVENT
BEGIN:VEVENT
DTSTART;TZID=America/New_York:20190703T191500
DTEND;TZID=America/New_York:20190703T191500
DTSTAMP:20260425T163543
CREATED:20181214T181051Z
LAST-MODIFIED:20181214T181051Z
UID:2627-1562181300-1562181300@www.mvcca.org
SUMMARY:Environment & Recreation
DESCRIPTION:
URL:https://www.mvcca.org/event/environment-recreation-40/
LOCATION:Mount Vernon Government Center\, 2511 Parkers Lane\, Alexandria\, 22306\, United States
CATEGORIES:Environment & Recreation
END:VEVENT
BEGIN:VEVENT
DTSTART;TZID=America/New_York:20190703T190000
DTEND;TZID=America/New_York:20190703T190000
DTSTAMP:20260425T163543
CREATED:20181214T174730Z
LAST-MODIFIED:20181214T174730Z
UID:2586-1562180400-1562180400@www.mvcca.org
SUMMARY:Budget & Finance
DESCRIPTION:
URL:https://www.mvcca.org/event/budget-finance-42/
LOCATION:Mount Vernon Government Center\, 2511 Parkers Lane\, Alexandria\, 22306\, United States
CATEGORIES:Budget & Finance
END:VEVENT
BEGIN:VEVENT
DTSTART;TZID=America/New_York:20190701T190000
DTEND;TZID=America/New_York:20190701T190000
DTSTAMP:20260425T163543
CREATED:20181214T172016Z
LAST-MODIFIED:20181214T172016Z
UID:2544-1562007600-1562007600@www.mvcca.org
SUMMARY:Planning & Zoning
DESCRIPTION:
URL:https://www.mvcca.org/event/planning-zoning-40/
LOCATION:Mount Vernon Government Center\, 2511 Parkers Lane\, Alexandria\, 22306\, United States
CATEGORIES:Planning & Zoning
END:VEVENT
BEGIN:VEVENT
DTSTART;TZID=America/New_York:20190606T193000
DTEND;TZID=America/New_York:20190606T193000
DTSTAMP:20260425T163543
CREATED:20181214T181726Z
LAST-MODIFIED:20190531T141158Z
UID:2645-1559849400-1559849400@www.mvcca.org
SUMMARY:Public Safety
DESCRIPTION:
URL:https://www.mvcca.org/event/public-safety-38/
LOCATION:Mount Vernon Government Center\, 2511 Parkers Lane\, Alexandria\, 22306\, United States
CATEGORIES:Public Safety
END:VEVENT
BEGIN:VEVENT
DTSTART;TZID=America/New_York:20190605T200000
DTEND;TZID=America/New_York:20190605T200000
DTSTAMP:20260425T163543
CREATED:20181214T183939Z
LAST-MODIFIED:20181214T183939Z
UID:2697-1559764800-1559764800@www.mvcca.org
SUMMARY:Education
DESCRIPTION:
URL:https://www.mvcca.org/event/education-43/
LOCATION:Walt Whitman Middle School\, Library\, 2500 Parkers Lane\, Alexandria\, 22306\, United States
CATEGORIES:Education
END:VEVENT
BEGIN:VEVENT
DTSTART;TZID=America/New_York:20190605T191500
DTEND;TZID=America/New_York:20190605T191500
DTSTAMP:20260425T163543
CREATED:20181214T181014Z
LAST-MODIFIED:20181214T181014Z
UID:2625-1559762100-1559762100@www.mvcca.org
SUMMARY:Environment & Recreation
DESCRIPTION:
URL:https://www.mvcca.org/event/environment-recreation-39/
LOCATION:Mount Vernon Government Center\, 2511 Parkers Lane\, Alexandria\, 22306\, United States
CATEGORIES:Environment & Recreation
END:VEVENT
BEGIN:VEVENT
DTSTART;TZID=America/New_York:20190605T190000
DTEND;TZID=America/New_York:20190605T190000
DTSTAMP:20260425T163543
CREATED:20181214T174641Z
LAST-MODIFIED:20181214T174641Z
UID:2584-1559761200-1559761200@www.mvcca.org
SUMMARY:Budget & Finance
DESCRIPTION:
URL:https://www.mvcca.org/event/budget-finance-41/
LOCATION:Mount Vernon Government Center\, 2511 Parkers Lane\, Alexandria\, 22306\, United States
CATEGORIES:Budget & Finance
END:VEVENT
BEGIN:VEVENT
DTSTART;TZID=America/New_York:20190603T190000
DTEND;TZID=America/New_York:20190603T190000
DTSTAMP:20260425T163543
CREATED:20181214T172810Z
LAST-MODIFIED:20190531T205311Z
UID:2562-1559588400-1559588400@www.mvcca.org
SUMMARY:Transportation - CANCELLED
DESCRIPTION:
URL:https://www.mvcca.org/event/transportation-39/
LOCATION:Mount Vernon Government Center\, 2511 Parkers Lane\, Alexandria\, 22306\, United States
CATEGORIES:Transportation
END:VEVENT
BEGIN:VEVENT
DTSTART;TZID=America/New_York:20190603T190000
DTEND;TZID=America/New_York:20190603T190000
DTSTAMP:20260425T163543
CREATED:20181214T171921Z
LAST-MODIFIED:20181214T171921Z
UID:2542-1559588400-1559588400@www.mvcca.org
SUMMARY:Planning & Zoning
DESCRIPTION:
URL:https://www.mvcca.org/event/planning-zoning-39/
LOCATION:Mount Vernon Government Center\, 2511 Parkers Lane\, Alexandria\, 22306\, United States
CATEGORIES:Planning & Zoning
END:VEVENT
BEGIN:VEVENT
DTSTART;TZID=America/New_York:20190506T190000
DTEND;TZID=America/New_York:20190506T190000
DTSTAMP:20260425T163543
CREATED:20181214T172728Z
LAST-MODIFIED:20190108T141103Z
UID:2560-1557169200-1557169200@www.mvcca.org
SUMMARY:Transportation
DESCRIPTION:
URL:https://www.mvcca.org/event/transportation-38/
LOCATION:Mount Vernon Government Center\, 2511 Parkers Lane\, Alexandria\, 22306\, United States
CATEGORIES:Transportation
END:VEVENT
BEGIN:VEVENT
DTSTART;TZID=America/New_York:20190506T190000
DTEND;TZID=America/New_York:20190506T190000
DTSTAMP:20260425T163543
CREATED:20181214T171819Z
LAST-MODIFIED:20181214T171819Z
UID:2540-1557169200-1557169200@www.mvcca.org
SUMMARY:Planning & Zoning
DESCRIPTION:
URL:https://www.mvcca.org/event/planning-zoning-38/
LOCATION:Mount Vernon Government Center\, 2511 Parkers Lane\, Alexandria\, 22306\, United States
CATEGORIES:Planning & Zoning
END:VEVENT
BEGIN:VEVENT
DTSTART;TZID=America/New_York:20190502T193000
DTEND;TZID=America/New_York:20190502T193000
DTSTAMP:20260425T163543
CREATED:20181214T181649Z
LAST-MODIFIED:20190501T134325Z
UID:2643-1556825400-1556825400@www.mvcca.org
SUMMARY:Public Safety - CANCELLED
DESCRIPTION:
URL:https://www.mvcca.org/event/public-safety-37/
LOCATION:Mount Vernon Government Center\, 2511 Parkers Lane\, Alexandria\, 22306\, United States
CATEGORIES:Public Safety
END:VEVENT
BEGIN:VEVENT
DTSTART;TZID=America/New_York:20190501T200000
DTEND;TZID=America/New_York:20190501T200000
DTSTAMP:20260425T163543
CREATED:20181214T175320Z
LAST-MODIFIED:20190430T212944Z
UID:2602-1556740800-1556740800@www.mvcca.org
SUMMARY:Education - CANCELLED
DESCRIPTION:
URL:https://www.mvcca.org/event/education-36/
LOCATION:Walt Whitman Middle School\, Library\, 2500 Parkers Lane\, Alexandria\, 22306\, United States
CATEGORIES:Education
END:VEVENT
BEGIN:VEVENT
DTSTART;TZID=America/New_York:20190501T191500
DTEND;TZID=America/New_York:20190501T191500
DTSTAMP:20260425T163543
CREATED:20181214T180939Z
LAST-MODIFIED:20181214T180939Z
UID:2623-1556738100-1556738100@www.mvcca.org
SUMMARY:Environment & Recreation
DESCRIPTION:
URL:https://www.mvcca.org/event/environment-recreation-38/
LOCATION:Mount Vernon Government Center\, 2511 Parkers Lane\, Alexandria\, 22306\, United States
CATEGORIES:Environment & Recreation
END:VEVENT
BEGIN:VEVENT
DTSTART;TZID=America/New_York:20190501T190000
DTEND;TZID=America/New_York:20190501T190000
DTSTAMP:20260425T163543
CREATED:20181214T174607Z
LAST-MODIFIED:20181214T174607Z
UID:2582-1556737200-1556737200@www.mvcca.org
SUMMARY:Budget & Finance
DESCRIPTION:
URL:https://www.mvcca.org/event/budget-finance-40/
LOCATION:Mount Vernon Government Center\, 2511 Parkers Lane\, Alexandria\, 22306\, United States
CATEGORIES:Budget & Finance
END:VEVENT
BEGIN:VEVENT
DTSTART;TZID=America/New_York:20190404T193000
DTEND;TZID=America/New_York:20190404T193000
DTSTAMP:20260425T163543
CREATED:20181214T181608Z
LAST-MODIFIED:20181214T181608Z
UID:2641-1554406200-1554406200@www.mvcca.org
SUMMARY:Public Safety
DESCRIPTION:
URL:https://www.mvcca.org/event/public-safety-36/
LOCATION:Mount Vernon Government Center\, 2511 Parkers Lane\, Alexandria\, 22306\, United States
CATEGORIES:Public Safety
END:VEVENT
BEGIN:VEVENT
DTSTART;TZID=America/New_York:20190403T200000
DTEND;TZID=America/New_York:20190403T200000
DTSTAMP:20260425T163543
CREATED:20181214T175245Z
LAST-MODIFIED:20181214T175245Z
UID:2600-1554321600-1554321600@www.mvcca.org
SUMMARY:Education
DESCRIPTION:
URL:https://www.mvcca.org/event/education-35/
LOCATION:Walt Whitman Middle School\, Library\, 2500 Parkers Lane\, Alexandria\, 22306\, United States
CATEGORIES:Education
END:VEVENT
BEGIN:VEVENT
DTSTART;TZID=America/New_York:20190403T191500
DTEND;TZID=America/New_York:20190403T191500
DTSTAMP:20260425T163543
CREATED:20181214T180852Z
LAST-MODIFIED:20181214T180852Z
UID:2621-1554318900-1554318900@www.mvcca.org
SUMMARY:Environment & Recreation
DESCRIPTION:
URL:https://www.mvcca.org/event/environment-recreation-37/
LOCATION:Mount Vernon Government Center\, 2511 Parkers Lane\, Alexandria\, 22306\, United States
CATEGORIES:Environment & Recreation
END:VEVENT
BEGIN:VEVENT
DTSTART;TZID=America/New_York:20190403T190000
DTEND;TZID=America/New_York:20190403T190000
DTSTAMP:20260425T163543
CREATED:20181214T174534Z
LAST-MODIFIED:20181214T174534Z
UID:2580-1554318000-1554318000@www.mvcca.org
SUMMARY:Budget & Finance
DESCRIPTION:
URL:https://www.mvcca.org/event/budget-finance-39/
LOCATION:Mount Vernon Government Center\, 2511 Parkers Lane\, Alexandria\, 22306\, United States
CATEGORIES:Budget & Finance
END:VEVENT
BEGIN:VEVENT
DTSTART;TZID=America/New_York:20190401T190000
DTEND;TZID=America/New_York:20190401T190000
DTSTAMP:20260425T163543
CREATED:20181214T172647Z
LAST-MODIFIED:20190108T141035Z
UID:2558-1554145200-1554145200@www.mvcca.org
SUMMARY:Transportation
DESCRIPTION:
URL:https://www.mvcca.org/event/transportation-37/
LOCATION:Mount Vernon Government Center\, 2511 Parkers Lane\, Alexandria\, 22306\, United States
CATEGORIES:Transportation
END:VEVENT
BEGIN:VEVENT
DTSTART;TZID=America/New_York:20190401T190000
DTEND;TZID=America/New_York:20190401T190000
DTSTAMP:20260425T163543
CREATED:20181214T171740Z
LAST-MODIFIED:20190327T015017Z
UID:2538-1554145200-1554145200@www.mvcca.org
SUMMARY:Planning & Zoning
DESCRIPTION:
URL:https://www.mvcca.org/event/planning-zoning-37/
LOCATION:Mount Vernon Government Center\, 2511 Parkers Lane\, Alexandria\, 22306\, United States
CATEGORIES:Planning & Zoning
END:VEVENT
BEGIN:VEVENT
DTSTART;TZID=America/New_York:20190307T193000
DTEND;TZID=America/New_York:20190307T193000
DTSTAMP:20260425T163543
CREATED:20181214T181500Z
LAST-MODIFIED:20181214T181500Z
UID:2639-1551987000-1551987000@www.mvcca.org
SUMMARY:Public Safety
DESCRIPTION:
URL:https://www.mvcca.org/event/public-safety-35/
LOCATION:Mount Vernon Government Center\, 2511 Parkers Lane\, Alexandria\, 22306\, United States
CATEGORIES:Public Safety
END:VEVENT
BEGIN:VEVENT
DTSTART;TZID=America/New_York:20190307T190000
DTEND;TZID=America/New_York:20190307T190000
DTSTAMP:20260425T163543
CREATED:20181214T174410Z
LAST-MODIFIED:20190306T152746Z
UID:2578-1551985200-1551985200@www.mvcca.org
SUMMARY:Budget & Finance
DESCRIPTION:
URL:https://www.mvcca.org/event/budget-finance-38/
LOCATION:Walt Whitman Middle School\, Library\, 2500 Parkers Lane\, Alexandria\, 22306\, United States
CATEGORIES:Budget & Finance
END:VEVENT
END:VCALENDAR