BEGIN:VCALENDAR
VERSION:2.0
PRODID:-//Mount Vernon Council of Citizens&#039; Associations, Inc. - ECPv6.15.20//NONSGML v1.0//EN
CALSCALE:GREGORIAN
METHOD:PUBLISH
X-ORIGINAL-URL:https://www.mvcca.org
X-WR-CALDESC:Events for Mount Vernon Council of Citizens&#039; Associations, Inc.
REFRESH-INTERVAL;VALUE=DURATION:PT1H
X-Robots-Tag:noindex
X-PUBLISHED-TTL:PT1H
BEGIN:VTIMEZONE
TZID:America/New_York
BEGIN:DAYLIGHT
TZOFFSETFROM:-0500
TZOFFSETTO:-0400
TZNAME:EDT
DTSTART:20170312T070000
END:DAYLIGHT
BEGIN:STANDARD
TZOFFSETFROM:-0400
TZOFFSETTO:-0500
TZNAME:EST
DTSTART:20171105T060000
END:STANDARD
BEGIN:DAYLIGHT
TZOFFSETFROM:-0500
TZOFFSETTO:-0400
TZNAME:EDT
DTSTART:20180311T070000
END:DAYLIGHT
BEGIN:STANDARD
TZOFFSETFROM:-0400
TZOFFSETTO:-0500
TZNAME:EST
DTSTART:20181104T060000
END:STANDARD
BEGIN:DAYLIGHT
TZOFFSETFROM:-0500
TZOFFSETTO:-0400
TZNAME:EDT
DTSTART:20190310T070000
END:DAYLIGHT
BEGIN:STANDARD
TZOFFSETFROM:-0400
TZOFFSETTO:-0500
TZNAME:EST
DTSTART:20191103T060000
END:STANDARD
BEGIN:DAYLIGHT
TZOFFSETFROM:-0500
TZOFFSETTO:-0400
TZNAME:EDT
DTSTART:20200308T070000
END:DAYLIGHT
BEGIN:STANDARD
TZOFFSETFROM:-0400
TZOFFSETTO:-0500
TZNAME:EST
DTSTART:20201101T060000
END:STANDARD
END:VTIMEZONE
BEGIN:VEVENT
DTSTART;TZID=America/New_York:20190501T191500
DTEND;TZID=America/New_York:20190501T191500
DTSTAMP:20260425T191919
CREATED:20181214T180939Z
LAST-MODIFIED:20181214T180939Z
UID:2623-1556738100-1556738100@www.mvcca.org
SUMMARY:Environment & Recreation
DESCRIPTION:
URL:https://www.mvcca.org/event/environment-recreation-38/
LOCATION:Mount Vernon Government Center\, 2511 Parkers Lane\, Alexandria\, 22306\, United States
CATEGORIES:Environment & Recreation
END:VEVENT
BEGIN:VEVENT
DTSTART;TZID=America/New_York:20190501T190000
DTEND;TZID=America/New_York:20190501T190000
DTSTAMP:20260425T191919
CREATED:20181214T174607Z
LAST-MODIFIED:20181214T174607Z
UID:2582-1556737200-1556737200@www.mvcca.org
SUMMARY:Budget & Finance
DESCRIPTION:
URL:https://www.mvcca.org/event/budget-finance-40/
LOCATION:Mount Vernon Government Center\, 2511 Parkers Lane\, Alexandria\, 22306\, United States
CATEGORIES:Budget & Finance
END:VEVENT
BEGIN:VEVENT
DTSTART;TZID=America/New_York:20190404T193000
DTEND;TZID=America/New_York:20190404T193000
DTSTAMP:20260425T191919
CREATED:20181214T181608Z
LAST-MODIFIED:20181214T181608Z
UID:2641-1554406200-1554406200@www.mvcca.org
SUMMARY:Public Safety
DESCRIPTION:
URL:https://www.mvcca.org/event/public-safety-36/
LOCATION:Mount Vernon Government Center\, 2511 Parkers Lane\, Alexandria\, 22306\, United States
CATEGORIES:Public Safety
END:VEVENT
BEGIN:VEVENT
DTSTART;TZID=America/New_York:20190403T200000
DTEND;TZID=America/New_York:20190403T200000
DTSTAMP:20260425T191919
CREATED:20181214T175245Z
LAST-MODIFIED:20181214T175245Z
UID:2600-1554321600-1554321600@www.mvcca.org
SUMMARY:Education
DESCRIPTION:
URL:https://www.mvcca.org/event/education-35/
LOCATION:Walt Whitman Middle School\, Library\, 2500 Parkers Lane\, Alexandria\, 22306\, United States
CATEGORIES:Education
END:VEVENT
BEGIN:VEVENT
DTSTART;TZID=America/New_York:20190403T191500
DTEND;TZID=America/New_York:20190403T191500
DTSTAMP:20260425T191919
CREATED:20181214T180852Z
LAST-MODIFIED:20181214T180852Z
UID:2621-1554318900-1554318900@www.mvcca.org
SUMMARY:Environment & Recreation
DESCRIPTION:
URL:https://www.mvcca.org/event/environment-recreation-37/
LOCATION:Mount Vernon Government Center\, 2511 Parkers Lane\, Alexandria\, 22306\, United States
CATEGORIES:Environment & Recreation
END:VEVENT
BEGIN:VEVENT
DTSTART;TZID=America/New_York:20190403T190000
DTEND;TZID=America/New_York:20190403T190000
DTSTAMP:20260425T191919
CREATED:20181214T174534Z
LAST-MODIFIED:20181214T174534Z
UID:2580-1554318000-1554318000@www.mvcca.org
SUMMARY:Budget & Finance
DESCRIPTION:
URL:https://www.mvcca.org/event/budget-finance-39/
LOCATION:Mount Vernon Government Center\, 2511 Parkers Lane\, Alexandria\, 22306\, United States
CATEGORIES:Budget & Finance
END:VEVENT
BEGIN:VEVENT
DTSTART;TZID=America/New_York:20190401T190000
DTEND;TZID=America/New_York:20190401T190000
DTSTAMP:20260425T191919
CREATED:20181214T172647Z
LAST-MODIFIED:20190108T141035Z
UID:2558-1554145200-1554145200@www.mvcca.org
SUMMARY:Transportation
DESCRIPTION:
URL:https://www.mvcca.org/event/transportation-37/
LOCATION:Mount Vernon Government Center\, 2511 Parkers Lane\, Alexandria\, 22306\, United States
CATEGORIES:Transportation
END:VEVENT
BEGIN:VEVENT
DTSTART;TZID=America/New_York:20190401T190000
DTEND;TZID=America/New_York:20190401T190000
DTSTAMP:20260425T191919
CREATED:20181214T171740Z
LAST-MODIFIED:20190327T015017Z
UID:2538-1554145200-1554145200@www.mvcca.org
SUMMARY:Planning & Zoning
DESCRIPTION:
URL:https://www.mvcca.org/event/planning-zoning-37/
LOCATION:Mount Vernon Government Center\, 2511 Parkers Lane\, Alexandria\, 22306\, United States
CATEGORIES:Planning & Zoning
END:VEVENT
BEGIN:VEVENT
DTSTART;TZID=America/New_York:20190307T193000
DTEND;TZID=America/New_York:20190307T193000
DTSTAMP:20260425T191919
CREATED:20181214T181500Z
LAST-MODIFIED:20181214T181500Z
UID:2639-1551987000-1551987000@www.mvcca.org
SUMMARY:Public Safety
DESCRIPTION:
URL:https://www.mvcca.org/event/public-safety-35/
LOCATION:Mount Vernon Government Center\, 2511 Parkers Lane\, Alexandria\, 22306\, United States
CATEGORIES:Public Safety
END:VEVENT
BEGIN:VEVENT
DTSTART;TZID=America/New_York:20190307T190000
DTEND;TZID=America/New_York:20190307T190000
DTSTAMP:20260425T191919
CREATED:20181214T174410Z
LAST-MODIFIED:20190306T152746Z
UID:2578-1551985200-1551985200@www.mvcca.org
SUMMARY:Budget & Finance
DESCRIPTION:
URL:https://www.mvcca.org/event/budget-finance-38/
LOCATION:Walt Whitman Middle School\, Library\, 2500 Parkers Lane\, Alexandria\, 22306\, United States
CATEGORIES:Budget & Finance
END:VEVENT
BEGIN:VEVENT
DTSTART;TZID=America/New_York:20190306T200000
DTEND;TZID=America/New_York:20190306T200000
DTSTAMP:20260425T191919
CREATED:20181214T175205Z
LAST-MODIFIED:20181214T175205Z
UID:2598-1551902400-1551902400@www.mvcca.org
SUMMARY:Education
DESCRIPTION:
URL:https://www.mvcca.org/event/education-34/
LOCATION:Walt Whitman Middle School\, Library\, 2500 Parkers Lane\, Alexandria\, 22306\, United States
CATEGORIES:Education
END:VEVENT
BEGIN:VEVENT
DTSTART;TZID=America/New_York:20190306T191500
DTEND;TZID=America/New_York:20190306T191500
DTSTAMP:20260425T191920
CREATED:20181214T180612Z
LAST-MODIFIED:20190306T204648Z
UID:2619-1551899700-1551899700@www.mvcca.org
SUMMARY:Environment & Recreation -CANCELLED
DESCRIPTION:
URL:https://www.mvcca.org/event/environment-recreation-36/
LOCATION:Mount Vernon Government Center\, 2511 Parkers Lane\, Alexandria\, 22306\, United States
CATEGORIES:Environment & Recreation
END:VEVENT
BEGIN:VEVENT
DTSTART;TZID=America/New_York:20190304T190000
DTEND;TZID=America/New_York:20190304T190000
DTSTAMP:20260425T191920
CREATED:20181214T172611Z
LAST-MODIFIED:20190108T140931Z
UID:2556-1551726000-1551726000@www.mvcca.org
SUMMARY:Transportation
DESCRIPTION:
URL:https://www.mvcca.org/event/transportation-36/
LOCATION:Mount Vernon Government Center\, 2511 Parkers Lane\, Alexandria\, 22306\, United States
CATEGORIES:Transportation
END:VEVENT
BEGIN:VEVENT
DTSTART;TZID=America/New_York:20190304T190000
DTEND;TZID=America/New_York:20190304T190000
DTSTAMP:20260425T191920
CREATED:20181214T171642Z
LAST-MODIFIED:20181214T171642Z
UID:2536-1551726000-1551726000@www.mvcca.org
SUMMARY:Planning & Zoning
DESCRIPTION:
URL:https://www.mvcca.org/event/planning-zoning-36/
LOCATION:Mount Vernon Government Center\, 2511 Parkers Lane\, Alexandria\, 22306\, United States
CATEGORIES:Planning & Zoning
END:VEVENT
BEGIN:VEVENT
DTSTART;TZID=America/New_York:20190207T193000
DTEND;TZID=America/New_York:20190207T193000
DTSTAMP:20260425T191920
CREATED:20181214T181426Z
LAST-MODIFIED:20190204T200745Z
UID:2637-1549567800-1549567800@www.mvcca.org
SUMMARY:Public Safety -CANCELLED
DESCRIPTION:
URL:https://www.mvcca.org/event/public-safety-34/
LOCATION:Mount Vernon Government Center\, 2511 Parkers Lane\, Alexandria\, 22306\, United States
CATEGORIES:Public Safety
END:VEVENT
BEGIN:VEVENT
DTSTART;TZID=America/New_York:20190206T200000
DTEND;TZID=America/New_York:20190206T200000
DTSTAMP:20260425T191920
CREATED:20181214T175124Z
LAST-MODIFIED:20181214T175124Z
UID:2596-1549483200-1549483200@www.mvcca.org
SUMMARY:Education
DESCRIPTION:
URL:https://www.mvcca.org/event/education-33/
LOCATION:Walt Whitman Middle School\, Library\, 2500 Parkers Lane\, Alexandria\, 22306\, United States
CATEGORIES:Education
END:VEVENT
BEGIN:VEVENT
DTSTART;TZID=America/New_York:20190206T191500
DTEND;TZID=America/New_York:20190206T191500
DTSTAMP:20260425T191920
CREATED:20181214T180530Z
LAST-MODIFIED:20181214T180745Z
UID:2617-1549480500-1549480500@www.mvcca.org
SUMMARY:Environment & Recreation
DESCRIPTION:
URL:https://www.mvcca.org/event/environment-recreation-35/
LOCATION:Mount Vernon Government Center\, 2511 Parkers Lane\, Alexandria\, 22306\, United States
CATEGORIES:Environment & Recreation
END:VEVENT
BEGIN:VEVENT
DTSTART;TZID=America/New_York:20190206T190000
DTEND;TZID=America/New_York:20190206T190000
DTSTAMP:20260425T191920
CREATED:20181214T174337Z
LAST-MODIFIED:20181214T174337Z
UID:2576-1549479600-1549479600@www.mvcca.org
SUMMARY:Budget & Finance
DESCRIPTION:
URL:https://www.mvcca.org/event/budget-finance-37/
LOCATION:Mount Vernon Government Center\, Supervisors Conference Room\, 2511 Parkers Lane\, Alexandria\, VA\, 22306\, United States
CATEGORIES:Budget & Finance
END:VEVENT
BEGIN:VEVENT
DTSTART;TZID=America/New_York:20190204T190000
DTEND;TZID=America/New_York:20190204T190000
DTSTAMP:20260425T191920
CREATED:20181214T172525Z
LAST-MODIFIED:20190108T140854Z
UID:2554-1549306800-1549306800@www.mvcca.org
SUMMARY:Transportation
DESCRIPTION:
URL:https://www.mvcca.org/event/transportation-35/
LOCATION:Mount Vernon Government Center\, 2511 Parkers Lane\, Alexandria\, 22306\, United States
CATEGORIES:Transportation
END:VEVENT
BEGIN:VEVENT
DTSTART;TZID=America/New_York:20190204T190000
DTEND;TZID=America/New_York:20190204T190000
DTSTAMP:20260425T191920
CREATED:20181214T171545Z
LAST-MODIFIED:20181214T171703Z
UID:2534-1549306800-1549306800@www.mvcca.org
SUMMARY:Planning & Zoning
DESCRIPTION:
URL:https://www.mvcca.org/event/planning-zoning-35/
LOCATION:Mount Vernon Government Center\, 2511 Parkers Lane\, Alexandria\, 22306\, United States
CATEGORIES:Planning & Zoning
END:VEVENT
BEGIN:VEVENT
DTSTART;TZID=America/New_York:20190116T193000
DTEND;TZID=America/New_York:20190116T203000
DTSTAMP:20260425T191920
CREATED:20181214T165821Z
LAST-MODIFIED:20190108T140550Z
UID:2524-1547667000-1547670600@www.mvcca.org
SUMMARY:Education / Budget & Finance Joint Meeting
DESCRIPTION:
URL:https://www.mvcca.org/event/education-32/
LOCATION:Mount Vernon Government Center\, 2511 Parkers Lane\, Alexandria\, 22306\, United States
CATEGORIES:Education
END:VEVENT
BEGIN:VEVENT
DTSTART;TZID=America/New_York:20190116T193000
DTEND;TZID=America/New_York:20190116T203000
DTSTAMP:20260425T191920
CREATED:20181214T165715Z
LAST-MODIFIED:20190108T140658Z
UID:2522-1547667000-1547670600@www.mvcca.org
SUMMARY:Budget & Finance / Education Joint Meeting
DESCRIPTION:
URL:https://www.mvcca.org/event/budget-finance-35/
LOCATION:Mount Vernon Government Center\, 2511 Parkers Lane\, Alexandria\, 22306\, United States
CATEGORIES:Budget & Finance
END:VEVENT
BEGIN:VEVENT
DTSTART;TZID=America/New_York:20190107T190000
DTEND;TZID=America/New_York:20190107T190000
DTSTAMP:20260425T191920
CREATED:20181214T165447Z
LAST-MODIFIED:20190104T160106Z
UID:2520-1546887600-1546887600@www.mvcca.org
SUMMARY:Transportation
DESCRIPTION:
URL:https://www.mvcca.org/event/transportation-34/
LOCATION:Mount Vernon Government Center\, 2511 Parkers Lane\, Alexandria\, 22306\, United States
CATEGORIES:Transportation
END:VEVENT
BEGIN:VEVENT
DTSTART;TZID=America/New_York:20190107T190000
DTEND;TZID=America/New_York:20190107T190000
DTSTAMP:20260425T191920
CREATED:20181214T164419Z
LAST-MODIFIED:20181214T164419Z
UID:2518-1546887600-1546887600@www.mvcca.org
SUMMARY:Planning & Zoning
DESCRIPTION:
URL:https://www.mvcca.org/event/planning-zoning-16/
LOCATION:Mount Vernon Government Center\, 2511 Parkers Lane\, Alexandria\, 22306\, United States
CATEGORIES:Planning & Zoning
END:VEVENT
BEGIN:VEVENT
DTSTART;TZID=America/New_York:20190103T193000
DTEND;TZID=America/New_York:20190103T193000
DTSTAMP:20260425T191920
CREATED:20181214T170054Z
LAST-MODIFIED:20181214T170054Z
UID:2528-1546543800-1546543800@www.mvcca.org
SUMMARY:Public Safety
DESCRIPTION:
URL:https://www.mvcca.org/event/public-safety-33/
LOCATION:Mount Vernon Government Center\, 2511 Parkers Lane\, Alexandria\, 22306\, United States
CATEGORIES:Public Safety
END:VEVENT
BEGIN:VEVENT
DTSTART;TZID=America/New_York:20190102T191500
DTEND;TZID=America/New_York:20190102T191500
DTSTAMP:20260425T191920
CREATED:20181214T165945Z
LAST-MODIFIED:20181214T165945Z
UID:2526-1546456500-1546456500@www.mvcca.org
SUMMARY:Environment & Recreation
DESCRIPTION:
URL:https://www.mvcca.org/event/environment-recreation-34/
LOCATION:Mount Vernon Government Center\, 2511 Parkers Lane\, Alexandria\, 22306\, United States
CATEGORIES:Environment & Recreation
END:VEVENT
BEGIN:VEVENT
DTSTART;TZID=America/New_York:20181206T193000
DTEND;TZID=America/New_York:20181206T193000
DTSTAMP:20260425T191920
CREATED:20171227T195100Z
LAST-MODIFIED:20171227T195100Z
UID:1834-1544124600-1544124600@www.mvcca.org
SUMMARY:Public Safety
DESCRIPTION:
URL:https://www.mvcca.org/event/public-safety-32/
LOCATION:Mount Vernon Government Center\, 2511 Parkers Lane\, Alexandria\, 22306\, United States
CATEGORIES:Committee,Meetings,Public Safety
END:VEVENT
BEGIN:VEVENT
DTSTART;TZID=America/New_York:20181205T200000
DTEND;TZID=America/New_York:20181205T200000
DTSTAMP:20260425T191920
CREATED:20171227T195014Z
LAST-MODIFIED:20171227T195014Z
UID:1779-1544040000-1544040000@www.mvcca.org
SUMMARY:Education
DESCRIPTION:
URL:https://www.mvcca.org/event/education-30/
LOCATION:Walt Whitman Middle School\, Library\, 2500 Parkers Lane\, Alexandria\, 22306\, United States
CATEGORIES:Committee,Education,Meetings
END:VEVENT
BEGIN:VEVENT
DTSTART;TZID=America/New_York:20181205T191500
DTEND;TZID=America/New_York:20181205T191500
DTSTAMP:20260425T191920
CREATED:20171227T195021Z
LAST-MODIFIED:20171227T195021Z
UID:1790-1544037300-1544037300@www.mvcca.org
SUMMARY:Environment & Recreation
DESCRIPTION:
URL:https://www.mvcca.org/event/environment-recreation-33/
LOCATION:Mount Vernon Government Center\, 2511 Parkers Lane\, Alexandria\, 22306\, United States
CATEGORIES:Committee,Environment & Recreation,Meetings
END:VEVENT
BEGIN:VEVENT
DTSTART;TZID=America/New_York:20181203T190000
DTEND;TZID=America/New_York:20181203T190000
DTSTAMP:20260425T191920
CREATED:20171227T195050Z
LAST-MODIFIED:20180504T200844Z
UID:1823-1543863600-1543863600@www.mvcca.org
SUMMARY:Transportation
DESCRIPTION:
URL:https://www.mvcca.org/event/transportation-31/
LOCATION:Mount Vernon Government Center\, 2511 Parkers Lane\, Alexandria\, 22306\, United States
CATEGORIES:Committee,Meetings,Transportation
END:VEVENT
END:VCALENDAR