BEGIN:VCALENDAR
VERSION:2.0
PRODID:-//Mount Vernon Council of Citizens&#039; Associations, Inc. - ECPv6.15.20//NONSGML v1.0//EN
CALSCALE:GREGORIAN
METHOD:PUBLISH
X-ORIGINAL-URL:https://www.mvcca.org
X-WR-CALDESC:Events for Mount Vernon Council of Citizens&#039; Associations, Inc.
REFRESH-INTERVAL;VALUE=DURATION:PT1H
X-Robots-Tag:noindex
X-PUBLISHED-TTL:PT1H
BEGIN:VTIMEZONE
TZID:America/New_York
BEGIN:DAYLIGHT
TZOFFSETFROM:-0500
TZOFFSETTO:-0400
TZNAME:EDT
DTSTART:20240310T070000
END:DAYLIGHT
BEGIN:STANDARD
TZOFFSETFROM:-0400
TZOFFSETTO:-0500
TZNAME:EST
DTSTART:20241103T060000
END:STANDARD
BEGIN:DAYLIGHT
TZOFFSETFROM:-0500
TZOFFSETTO:-0400
TZNAME:EDT
DTSTART:20250309T070000
END:DAYLIGHT
BEGIN:STANDARD
TZOFFSETFROM:-0400
TZOFFSETTO:-0500
TZNAME:EST
DTSTART:20251102T060000
END:STANDARD
BEGIN:DAYLIGHT
TZOFFSETFROM:-0500
TZOFFSETTO:-0400
TZNAME:EDT
DTSTART:20260308T070000
END:DAYLIGHT
BEGIN:STANDARD
TZOFFSETFROM:-0400
TZOFFSETTO:-0500
TZNAME:EST
DTSTART:20261101T060000
END:STANDARD
END:VTIMEZONE
BEGIN:VEVENT
DTSTART;TZID=America/New_York:20251006T190000
DTEND;TZID=America/New_York:20251006T190000
DTSTAMP:20260424T011828
CREATED:20241116T161130Z
LAST-MODIFIED:20241116T161130Z
UID:5747-1759777200-1759777200@www.mvcca.org
SUMMARY:Planning and Zoning Committee Meeting
DESCRIPTION:
URL:https://www.mvcca.org/event/planning-and-zoning-committee-meeting-31/
LOCATION:Zoom Meeting
CATEGORIES:Planning & Zoning
END:VEVENT
BEGIN:VEVENT
DTSTART;TZID=America/New_York:20251002T190000
DTEND;TZID=America/New_York:20251002T190000
DTSTAMP:20260424T011828
CREATED:20241218T142729Z
LAST-MODIFIED:20250325T124947Z
UID:5937-1759431600-1759431600@www.mvcca.org
SUMMARY:Stormwater Committee Meeting
DESCRIPTION:
URL:https://www.mvcca.org/event/stormwater-committee-meeting-9/
LOCATION:Zoom Meeting
CATEGORIES:Special Committee - Storm Water Management
END:VEVENT
BEGIN:VEVENT
DTSTART;TZID=America/New_York:20251001T190000
DTEND;TZID=America/New_York:20251001T190000
DTSTAMP:20260424T011828
CREATED:20241123T154701Z
LAST-MODIFIED:20241123T154701Z
UID:5865-1759345200-1759345200@www.mvcca.org
SUMMARY:Education Committee Meeting
DESCRIPTION:
URL:https://www.mvcca.org/event/education-committee-meeting-17/
LOCATION:Zoom Meeting
CATEGORIES:Education
END:VEVENT
BEGIN:VEVENT
DTSTART;TZID=America/New_York:20251001T190000
DTEND;TZID=America/New_York:20251001T190000
DTSTAMP:20260424T011828
CREATED:20241119T140040Z
LAST-MODIFIED:20241119T140040Z
UID:5770-1759345200-1759345200@www.mvcca.org
SUMMARY:Environment and Recreation Committee Meeting
DESCRIPTION:
URL:https://www.mvcca.org/event/environment-and-recreation-committee-meeting-30/
LOCATION:Zoom Meeting
CATEGORIES:Environment & Recreation
END:VEVENT
BEGIN:VEVENT
DTSTART;TZID=America/New_York:20250908T190000
DTEND;TZID=America/New_York:20250908T190000
DTSTAMP:20260424T011828
CREATED:20241123T151414Z
LAST-MODIFIED:20250214T204926Z
UID:5839-1757358000-1757358000@www.mvcca.org
SUMMARY:Public Safety and Transportation Committee Meeting
DESCRIPTION:
URL:https://www.mvcca.org/event/transportation-committee-meeting-28/
LOCATION:Zoom Meeting
CATEGORIES:Transportation
END:VEVENT
BEGIN:VEVENT
DTSTART;TZID=America/New_York:20250904T190000
DTEND;TZID=America/New_York:20250904T190000
DTSTAMP:20260424T011828
CREATED:20241218T142606Z
LAST-MODIFIED:20250325T124734Z
UID:5935-1757012400-1757012400@www.mvcca.org
SUMMARY:Stormwater Committee Meeting
DESCRIPTION:
URL:https://www.mvcca.org/event/stormwater-committee-meeting-8/
LOCATION:Zoom Meeting
CATEGORIES:Special Committee - Storm Water Management
END:VEVENT
BEGIN:VEVENT
DTSTART;TZID=America/New_York:20250903T190000
DTEND;TZID=America/New_York:20250903T190000
DTSTAMP:20260424T011828
CREATED:20241123T154616Z
LAST-MODIFIED:20250801T130036Z
UID:5863-1756926000-1756926000@www.mvcca.org
SUMMARY:Education Committee Meeting - moved forward to August 25th at 7pm
DESCRIPTION:
URL:https://www.mvcca.org/event/education-committee-meeting-16/
LOCATION:Zoom Meeting
CATEGORIES:Education
END:VEVENT
BEGIN:VEVENT
DTSTART;TZID=America/New_York:20250903T190000
DTEND;TZID=America/New_York:20250903T190000
DTSTAMP:20260424T011828
CREATED:20241119T135941Z
LAST-MODIFIED:20241119T135941Z
UID:5768-1756926000-1756926000@www.mvcca.org
SUMMARY:Environment and Recreation Committee Meeting
DESCRIPTION:
URL:https://www.mvcca.org/event/environment-and-recreation-committee-meeting-29/
LOCATION:Zoom Meeting
CATEGORIES:Environment & Recreation
END:VEVENT
BEGIN:VEVENT
DTSTART;TZID=America/New_York:20250902T190000
DTEND;TZID=America/New_York:20250902T190000
DTSTAMP:20260424T011828
CREATED:20241123T143055Z
LAST-MODIFIED:20250131T141654Z
UID:5795-1756839600-1756839600@www.mvcca.org
SUMMARY:Public Safety Committee Meeting Cancelled - Will Meet with Transportation Committee on  8 September
DESCRIPTION:
URL:https://www.mvcca.org/event/public-safety-committee-meeting-11/
LOCATION:Zoom Meeting
CATEGORIES:Public Safety
END:VEVENT
BEGIN:VEVENT
DTSTART;TZID=America/New_York:20250901T190000
DTEND;TZID=America/New_York:20250901T190000
DTSTAMP:20260424T011828
CREATED:20241123T144947Z
LAST-MODIFIED:20250705T143720Z
UID:5817-1756753200-1756753200@www.mvcca.org
SUMMARY:Budget and Finance Committee Meeting - Cancelled
DESCRIPTION:
URL:https://www.mvcca.org/event/budget-and-finance-committee-meeting-8/
LOCATION:Zoom Meeting
CATEGORIES:Budget & Finance
END:VEVENT
BEGIN:VEVENT
DTSTART;TZID=America/New_York:20250825T190000
DTEND;TZID=America/New_York:20250825T190000
DTSTAMP:20260424T011828
CREATED:20250801T130753Z
LAST-MODIFIED:20250801T131013Z
UID:6117-1756148400-1756148400@www.mvcca.org
SUMMARY:Education Committee - moved up from September 3rd
DESCRIPTION:
URL:https://www.mvcca.org/event/education-committee-moved-up-from-september-3rd/
CATEGORIES:Education
END:VEVENT
BEGIN:VEVENT
DTSTART;TZID=America/New_York:20250825T190000
DTEND;TZID=America/New_York:20250825T190000
DTSTAMP:20260424T011828
CREATED:20241116T161014Z
LAST-MODIFIED:20241116T161014Z
UID:5745-1756148400-1756148400@www.mvcca.org
SUMMARY:Planning and Zoning Committee Meeting
DESCRIPTION:
URL:https://www.mvcca.org/event/planning-and-zoning-committee-meeting-30/
LOCATION:Zoom Meeting
CATEGORIES:Planning & Zoning
END:VEVENT
BEGIN:VEVENT
DTSTART;TZID=America/New_York:20250714T190000
DTEND;TZID=America/New_York:20250714T190000
DTSTAMP:20260424T011828
CREATED:20241123T151316Z
LAST-MODIFIED:20250701T011738Z
UID:5837-1752519600-1752519600@www.mvcca.org
SUMMARY:Public Safety and Transportation Committee Meeting.  This meeting is moved to 21 July at 7pm
DESCRIPTION:
URL:https://www.mvcca.org/event/transportation-committee-meeting-27/
LOCATION:Zoom Meeting
CATEGORIES:Transportation
END:VEVENT
BEGIN:VEVENT
DTSTART;TZID=America/New_York:20250707T190000
DTEND;TZID=America/New_York:20250707T190000
DTSTAMP:20260424T011828
CREATED:20241123T144801Z
LAST-MODIFIED:20250702T123518Z
UID:5815-1751914800-1751914800@www.mvcca.org
SUMMARY:Budget and Finance Committee Meeting - Cancelled
DESCRIPTION:
URL:https://www.mvcca.org/event/budget-and-finance-committee-meeting-7/
LOCATION:Zoom Meeting
CATEGORIES:Budget & Finance
END:VEVENT
BEGIN:VEVENT
DTSTART;TZID=America/New_York:20250707T190000
DTEND;TZID=America/New_York:20250707T190000
DTSTAMP:20260424T011828
CREATED:20241116T160859Z
LAST-MODIFIED:20241116T160859Z
UID:5743-1751914800-1751914800@www.mvcca.org
SUMMARY:Planning and Zoning Committee Meeting
DESCRIPTION:
URL:https://www.mvcca.org/event/planning-and-zoning-committee-meeting-29/
LOCATION:Zoom Meeting
CATEGORIES:Planning & Zoning
END:VEVENT
BEGIN:VEVENT
DTSTART;TZID=America/New_York:20250703T190000
DTEND;TZID=America/New_York:20250703T190000
DTSTAMP:20260424T011828
CREATED:20241218T142439Z
LAST-MODIFIED:20250325T124558Z
UID:5933-1751569200-1751569200@www.mvcca.org
SUMMARY:Stormwater Committee Meeting
DESCRIPTION:
URL:https://www.mvcca.org/event/stormwater-committee-meeting-7/
LOCATION:Zoom Meeting
CATEGORIES:Special Committee - Storm Water Management
END:VEVENT
BEGIN:VEVENT
DTSTART;TZID=America/New_York:20250702T190000
DTEND;TZID=America/New_York:20250702T190000
DTSTAMP:20260424T011828
CREATED:20241123T154437Z
LAST-MODIFIED:20241123T154437Z
UID:5860-1751482800-1751482800@www.mvcca.org
SUMMARY:Education Committee Meeting
DESCRIPTION:
URL:https://www.mvcca.org/event/education-committee-meeting-15/
LOCATION:Zoom Meeting
CATEGORIES:Education
END:VEVENT
BEGIN:VEVENT
DTSTART;TZID=America/New_York:20250702T190000
DTEND;TZID=America/New_York:20250702T190000
DTSTAMP:20260424T011828
CREATED:20241119T135838Z
LAST-MODIFIED:20241119T135838Z
UID:5766-1751482800-1751482800@www.mvcca.org
SUMMARY:Environment and Recreation Committee Meeting
DESCRIPTION:
URL:https://www.mvcca.org/event/environment-and-recreation-committee-meeting-28/
LOCATION:Zoom Meeting
CATEGORIES:Environment & Recreation
END:VEVENT
BEGIN:VEVENT
DTSTART;TZID=America/New_York:20250701T190000
DTEND;TZID=America/New_York:20250701T190000
DTSTAMP:20260424T011828
CREATED:20241123T142928Z
LAST-MODIFIED:20250701T011607Z
UID:5793-1751396400-1751396400@www.mvcca.org
SUMMARY:Public Safety Committee Meeting Cancelled - Will Meet with Transportation Committee on 21 July
DESCRIPTION:
URL:https://www.mvcca.org/event/public-safety-committee-meeting-10/
LOCATION:Zoom Meeting
CATEGORIES:Public Safety
END:VEVENT
BEGIN:VEVENT
DTSTART;TZID=America/New_York:20250609T190000
DTEND;TZID=America/New_York:20250609T190000
DTSTAMP:20260424T011828
CREATED:20241123T151208Z
LAST-MODIFIED:20250214T204755Z
UID:5835-1749495600-1749495600@www.mvcca.org
SUMMARY:Public Safety and Transportation Committee Meeting
DESCRIPTION:
URL:https://www.mvcca.org/event/transportation-committee-meeting-26/
LOCATION:Zoom Meeting
CATEGORIES:Transportation
END:VEVENT
BEGIN:VEVENT
DTSTART;TZID=America/New_York:20250605T190000
DTEND;TZID=America/New_York:20250605T190000
DTSTAMP:20260424T011828
CREATED:20241218T142204Z
LAST-MODIFIED:20250325T124445Z
UID:5931-1749150000-1749150000@www.mvcca.org
SUMMARY:Stormwater Committee Meeting
DESCRIPTION:
URL:https://www.mvcca.org/event/stormwater-committee-meeting-6/
LOCATION:Zoom Meeting
CATEGORIES:Special Committee - Storm Water Management
END:VEVENT
BEGIN:VEVENT
DTSTART;TZID=America/New_York:20250604T190000
DTEND;TZID=America/New_York:20250604T190000
DTSTAMP:20260424T011828
CREATED:20241123T154345Z
LAST-MODIFIED:20241123T154345Z
UID:5858-1749063600-1749063600@www.mvcca.org
SUMMARY:Education Committee Meeting
DESCRIPTION:
URL:https://www.mvcca.org/event/education-committee-meeting-14/
LOCATION:Zoom Meeting
CATEGORIES:Education
END:VEVENT
BEGIN:VEVENT
DTSTART;TZID=America/New_York:20250604T190000
DTEND;TZID=America/New_York:20250604T190000
DTSTAMP:20260424T011828
CREATED:20241119T135743Z
LAST-MODIFIED:20241119T135743Z
UID:5764-1749063600-1749063600@www.mvcca.org
SUMMARY:Environment and Recreation Committee Meeting
DESCRIPTION:
URL:https://www.mvcca.org/event/environment-and-recreation-committee-meeting-27/
LOCATION:Zoom Meeting
CATEGORIES:Environment & Recreation
END:VEVENT
BEGIN:VEVENT
DTSTART;TZID=America/New_York:20250603T190000
DTEND;TZID=America/New_York:20250603T190000
DTSTAMP:20260424T011828
CREATED:20241123T142832Z
LAST-MODIFIED:20250131T141436Z
UID:5791-1748977200-1748977200@www.mvcca.org
SUMMARY:Public Safety Committee Meeting Cancelled - Will Meet with Transportation Committee on 9 June
DESCRIPTION:
URL:https://www.mvcca.org/event/public-safety-committee-meeting-9/
LOCATION:Zoom Meeting
CATEGORIES:Planning & Zoning
END:VEVENT
BEGIN:VEVENT
DTSTART;TZID=America/New_York:20250602T190000
DTEND;TZID=America/New_York:20250602T190000
DTSTAMP:20260424T011828
CREATED:20241123T144651Z
LAST-MODIFIED:20241123T144651Z
UID:5813-1748890800-1748890800@www.mvcca.org
SUMMARY:Budget and Finance Committee Meeting
DESCRIPTION:
URL:https://www.mvcca.org/event/budget-and-finance-committee-meeting-6/
LOCATION:Zoom Meeting
CATEGORIES:Budget & Finance
END:VEVENT
BEGIN:VEVENT
DTSTART;TZID=America/New_York:20250602T190000
DTEND;TZID=America/New_York:20250602T190000
DTSTAMP:20260424T011828
CREATED:20241116T160750Z
LAST-MODIFIED:20241116T160750Z
UID:5741-1748890800-1748890800@www.mvcca.org
SUMMARY:Planning and Zoning Committee Meeting
DESCRIPTION:
URL:https://www.mvcca.org/event/planning-and-zoning-committee-meeting-28/
LOCATION:Zoom Meeting
CATEGORIES:Planning & Zoning
END:VEVENT
BEGIN:VEVENT
DTSTART;TZID=America/New_York:20250512T190000
DTEND;TZID=America/New_York:20250512T190000
DTSTAMP:20260424T011828
CREATED:20241123T151100Z
LAST-MODIFIED:20250214T204657Z
UID:5833-1747076400-1747076400@www.mvcca.org
SUMMARY:Public Safety and Transportation Committee Meeting
DESCRIPTION:
URL:https://www.mvcca.org/event/transportation-committee-meeting-25/
LOCATION:Zoom Meeting
CATEGORIES:Transportation
END:VEVENT
BEGIN:VEVENT
DTSTART;TZID=America/New_York:20250507T190000
DTEND;TZID=America/New_York:20250507T190000
DTSTAMP:20260424T011828
CREATED:20241123T154251Z
LAST-MODIFIED:20241123T154251Z
UID:5856-1746644400-1746644400@www.mvcca.org
SUMMARY:Education Committee Meeting
DESCRIPTION:
URL:https://www.mvcca.org/event/education-committee-meeting-13/
LOCATION:Zoom Meeting
CATEGORIES:Education
END:VEVENT
BEGIN:VEVENT
DTSTART;TZID=America/New_York:20250507T190000
DTEND;TZID=America/New_York:20250507T190000
DTSTAMP:20260424T011828
CREATED:20241119T135656Z
LAST-MODIFIED:20241119T135656Z
UID:5762-1746644400-1746644400@www.mvcca.org
SUMMARY:Environment and Recreation Committee Meeting
DESCRIPTION:
URL:https://www.mvcca.org/event/environment-and-recreation-committee-meeting-26/
LOCATION:Zoom Meeting
CATEGORIES:Environment & Recreation
END:VEVENT
BEGIN:VEVENT
DTSTART;TZID=America/New_York:20250506T190000
DTEND;TZID=America/New_York:20250506T190000
DTSTAMP:20260424T011828
CREATED:20241123T142712Z
LAST-MODIFIED:20250131T141301Z
UID:5789-1746558000-1746558000@www.mvcca.org
SUMMARY:Public Safety Committee Meeting Cancelled - Will Meet with Transportation Committee on 12 May
DESCRIPTION:
URL:https://www.mvcca.org/event/public-safety-committee-meeting-8/
LOCATION:Zoom Meeting
CATEGORIES:Public Safety
END:VEVENT
END:VCALENDAR