BEGIN:VCALENDAR
VERSION:2.0
PRODID:-//Mount Vernon Council of Citizens&#039; Associations, Inc. - ECPv6.15.20//NONSGML v1.0//EN
CALSCALE:GREGORIAN
METHOD:PUBLISH
X-WR-CALNAME:Mount Vernon Council of Citizens&#039; Associations, Inc.
X-ORIGINAL-URL:https://www.mvcca.org
X-WR-CALDESC:Events for Mount Vernon Council of Citizens&#039; Associations, Inc.
REFRESH-INTERVAL;VALUE=DURATION:PT1H
X-Robots-Tag:noindex
X-PUBLISHED-TTL:PT1H
BEGIN:VTIMEZONE
TZID:America/New_York
BEGIN:DAYLIGHT
TZOFFSETFROM:-0500
TZOFFSETTO:-0400
TZNAME:EDT
DTSTART:20190310T070000
END:DAYLIGHT
BEGIN:STANDARD
TZOFFSETFROM:-0400
TZOFFSETTO:-0500
TZNAME:EST
DTSTART:20191103T060000
END:STANDARD
BEGIN:DAYLIGHT
TZOFFSETFROM:-0500
TZOFFSETTO:-0400
TZNAME:EDT
DTSTART:20200308T070000
END:DAYLIGHT
BEGIN:STANDARD
TZOFFSETFROM:-0400
TZOFFSETTO:-0500
TZNAME:EST
DTSTART:20201101T060000
END:STANDARD
BEGIN:DAYLIGHT
TZOFFSETFROM:-0500
TZOFFSETTO:-0400
TZNAME:EDT
DTSTART:20210314T070000
END:DAYLIGHT
BEGIN:STANDARD
TZOFFSETFROM:-0400
TZOFFSETTO:-0500
TZNAME:EST
DTSTART:20211107T060000
END:STANDARD
BEGIN:DAYLIGHT
TZOFFSETFROM:-0500
TZOFFSETTO:-0400
TZNAME:EDT
DTSTART:20220313T070000
END:DAYLIGHT
BEGIN:STANDARD
TZOFFSETFROM:-0400
TZOFFSETTO:-0500
TZNAME:EST
DTSTART:20221106T060000
END:STANDARD
BEGIN:DAYLIGHT
TZOFFSETFROM:-0500
TZOFFSETTO:-0400
TZNAME:EDT
DTSTART:20230312T070000
END:DAYLIGHT
BEGIN:STANDARD
TZOFFSETFROM:-0400
TZOFFSETTO:-0500
TZNAME:EST
DTSTART:20231105T060000
END:STANDARD
END:VTIMEZONE
BEGIN:VEVENT
DTSTART;TZID=America/New_York:20221101T190000
DTEND;TZID=America/New_York:20221101T190000
DTSTAMP:20260423T180346
CREATED:20211231T160256Z
LAST-MODIFIED:20220128T155028Z
UID:4036-1667329200-1667329200@www.mvcca.org
SUMMARY:Public Safety
DESCRIPTION:
URL:https://www.mvcca.org/event/public-safety-75/
LOCATION:Zoom Meeting
CATEGORIES:Committee,Meetings,Public Safety
END:VEVENT
BEGIN:VEVENT
DTSTART;TZID=America/New_York:20221004T190000
DTEND;TZID=America/New_York:20221004T190000
DTSTAMP:20260423T180346
CREATED:20211231T160157Z
LAST-MODIFIED:20220128T154959Z
UID:4034-1664910000-1664910000@www.mvcca.org
SUMMARY:Public Safety
DESCRIPTION:
URL:https://www.mvcca.org/event/public-safety-74/
LOCATION:Zoom Meeting
CATEGORIES:Committee,Meetings,Public Safety
END:VEVENT
BEGIN:VEVENT
DTSTART;TZID=America/New_York:20220829T190000
DTEND;TZID=America/New_York:20220829T190000
DTSTAMP:20260423T180346
CREATED:20211231T160116Z
LAST-MODIFIED:20220718T134546Z
UID:4032-1661799600-1661799600@www.mvcca.org
SUMMARY:Public Safety - Joint Meeting with Transportation
DESCRIPTION:
URL:https://www.mvcca.org/event/public-safety-73/
LOCATION:Zoom Meeting
CATEGORIES:Committee,Meetings,Public Safety
END:VEVENT
BEGIN:VEVENT
DTSTART;TZID=America/New_York:20220705T190000
DTEND;TZID=America/New_York:20220705T190000
DTSTAMP:20260423T180346
CREATED:20211231T160032Z
LAST-MODIFIED:20220128T154853Z
UID:4030-1657047600-1657047600@www.mvcca.org
SUMMARY:Public Safety
DESCRIPTION:
URL:https://www.mvcca.org/event/public-safety-72/
LOCATION:Zoom Meeting
CATEGORIES:Committee,Meetings,Public Safety
END:VEVENT
BEGIN:VEVENT
DTSTART;TZID=America/New_York:20220607T190000
DTEND;TZID=America/New_York:20220607T190000
DTSTAMP:20260423T180346
CREATED:20211231T155942Z
LAST-MODIFIED:20220128T154816Z
UID:4028-1654628400-1654628400@www.mvcca.org
SUMMARY:Public Safety
DESCRIPTION:
URL:https://www.mvcca.org/event/public-safety-71/
LOCATION:Zoom Meeting
CATEGORIES:Committee,Meetings,Public Safety
END:VEVENT
BEGIN:VEVENT
DTSTART;TZID=America/New_York:20220503T190000
DTEND;TZID=America/New_York:20220503T190000
DTSTAMP:20260423T180346
CREATED:20211231T155838Z
LAST-MODIFIED:20220128T154745Z
UID:4026-1651604400-1651604400@www.mvcca.org
SUMMARY:Public Safety
DESCRIPTION:
URL:https://www.mvcca.org/event/public-safety-70/
LOCATION:Zoom Meeting
CATEGORIES:Committee,Meetings,Public Safety
END:VEVENT
BEGIN:VEVENT
DTSTART;TZID=America/New_York:20220405T190000
DTEND;TZID=America/New_York:20220405T190000
DTSTAMP:20260423T180346
CREATED:20211231T155741Z
LAST-MODIFIED:20220128T154705Z
UID:4024-1649185200-1649185200@www.mvcca.org
SUMMARY:Public Safety
DESCRIPTION:
URL:https://www.mvcca.org/event/public-safety-69/
LOCATION:Zoom Meeting
CATEGORIES:Committee,Meetings,Public Safety
END:VEVENT
BEGIN:VEVENT
DTSTART;TZID=America/New_York:20220301T190000
DTEND;TZID=America/New_York:20220301T190000
DTSTAMP:20260423T180346
CREATED:20211231T155647Z
LAST-MODIFIED:20220128T154635Z
UID:4022-1646161200-1646161200@www.mvcca.org
SUMMARY:Public Safety
DESCRIPTION:
URL:https://www.mvcca.org/event/public-safety-68/
LOCATION:Zoom Meeting
CATEGORIES:Committee,Meetings,Public Safety
END:VEVENT
BEGIN:VEVENT
DTSTART;TZID=America/New_York:20220201T190000
DTEND;TZID=America/New_York:20220201T190000
DTSTAMP:20260423T180346
CREATED:20211229T192238Z
LAST-MODIFIED:20220128T154552Z
UID:3941-1643742000-1643742000@www.mvcca.org
SUMMARY:Public Safety
DESCRIPTION:
URL:https://www.mvcca.org/event/public-safety-67/
LOCATION:Zoom Meeting
CATEGORIES:Committee,Meetings,Public Safety
END:VEVENT
BEGIN:VEVENT
DTSTART;TZID=America/New_York:20220104T193000
DTEND;TZID=America/New_York:20220104T193000
DTSTAMP:20260423T180346
CREATED:20211229T162559Z
LAST-MODIFIED:20211229T162559Z
UID:3927-1641324600-1641324600@www.mvcca.org
SUMMARY:Public Safety
DESCRIPTION:
URL:https://www.mvcca.org/event/public-safety-66/
LOCATION:Zoom Meeting
CATEGORIES:Committee,Meetings,Public Safety
END:VEVENT
BEGIN:VEVENT
DTSTART;TZID=America/New_York:20211207T190000
DTEND;TZID=America/New_York:20211207T190000
DTSTAMP:20260423T180346
CREATED:20201211T161820Z
LAST-MODIFIED:20211207T183657Z
UID:3460-1638903600-1638903600@www.mvcca.org
SUMMARY:Public Safety CANCELLED
DESCRIPTION:
URL:https://www.mvcca.org/event/public-safety-65/
LOCATION:Zoom Meeting
CATEGORIES:Committee,Public Safety
END:VEVENT
BEGIN:VEVENT
DTSTART;TZID=America/New_York:20211108T190000
DTEND;TZID=America/New_York:20211108T190000
DTSTAMP:20260423T180346
CREATED:20201211T161740Z
LAST-MODIFIED:20211020T120142Z
UID:3458-1636398000-1636398000@www.mvcca.org
SUMMARY:Public Safety with Transportation Committee
DESCRIPTION:
URL:https://www.mvcca.org/event/public-safety-64/
LOCATION:Zoom Meeting
CATEGORIES:Committee,Meetings,Public Safety
END:VEVENT
BEGIN:VEVENT
DTSTART;TZID=America/New_York:20211005T190000
DTEND;TZID=America/New_York:20211005T193000
DTSTAMP:20260423T180346
CREATED:20201211T161657Z
LAST-MODIFIED:20210927T125023Z
UID:3456-1633460400-1633462200@www.mvcca.org
SUMMARY:Public Safety
DESCRIPTION:
URL:https://www.mvcca.org/event/public-safety-63/
LOCATION:Zoom Meeting
CATEGORIES:Committee,Meetings,Public Safety
END:VEVENT
BEGIN:VEVENT
DTSTART;TZID=America/New_York:20210909T193000
DTEND;TZID=America/New_York:20210909T193000
DTSTAMP:20260423T180346
CREATED:20201211T161611Z
LAST-MODIFIED:20210830T185032Z
UID:3454-1631215800-1631215800@www.mvcca.org
SUMMARY:Public Safety
DESCRIPTION:
URL:https://www.mvcca.org/event/public-safety-62/
LOCATION:Zoom Meeting
CATEGORIES:Committee,Meetings,Public Safety
END:VEVENT
BEGIN:VEVENT
DTSTART;TZID=America/New_York:20210701T193000
DTEND;TZID=America/New_York:20210701T193000
DTSTAMP:20260423T180346
CREATED:20201211T161534Z
LAST-MODIFIED:20201211T161534Z
UID:3452-1625167800-1625167800@www.mvcca.org
SUMMARY:Public Safety
DESCRIPTION:
URL:https://www.mvcca.org/event/public-safety-61/
LOCATION:Zoom Meeting
CATEGORIES:Committee,Meetings,Public Safety
END:VEVENT
BEGIN:VEVENT
DTSTART;TZID=America/New_York:20210603T193000
DTEND;TZID=America/New_York:20210603T193000
DTSTAMP:20260423T180346
CREATED:20201211T161457Z
LAST-MODIFIED:20201211T161457Z
UID:3450-1622748600-1622748600@www.mvcca.org
SUMMARY:Public Safety
DESCRIPTION:
URL:https://www.mvcca.org/event/public-safety-60/
LOCATION:Zoom Meeting
CATEGORIES:Committee,Meetings,Public Safety
END:VEVENT
BEGIN:VEVENT
DTSTART;TZID=America/New_York:20210506T193000
DTEND;TZID=America/New_York:20210506T193000
DTSTAMP:20260423T180346
CREATED:20201211T161410Z
LAST-MODIFIED:20201211T161410Z
UID:3448-1620329400-1620329400@www.mvcca.org
SUMMARY:Public Safety
DESCRIPTION:
URL:https://www.mvcca.org/event/public-safety-59/
LOCATION:Zoom Meeting
CATEGORIES:Committee,Meetings,Public Safety
END:VEVENT
BEGIN:VEVENT
DTSTART;TZID=America/New_York:20210405T190000
DTEND;TZID=America/New_York:20210405T190000
DTSTAMP:20260423T180346
CREATED:20201211T161328Z
LAST-MODIFIED:20210308T174935Z
UID:3446-1617649200-1617649200@www.mvcca.org
SUMMARY:Public Safety with Transportation Committee
DESCRIPTION:
URL:https://www.mvcca.org/event/public-safety-58/
LOCATION:Zoom Meeting
CATEGORIES:Committee,Meetings,Public Safety
END:VEVENT
BEGIN:VEVENT
DTSTART;TZID=America/New_York:20210304T193000
DTEND;TZID=America/New_York:20210304T193000
DTSTAMP:20260423T180346
CREATED:20201211T161246Z
LAST-MODIFIED:20201211T161246Z
UID:3444-1614886200-1614886200@www.mvcca.org
SUMMARY:Public Safety
DESCRIPTION:
URL:https://www.mvcca.org/event/public-safety-57/
LOCATION:Zoom Meeting
CATEGORIES:Committee,Meetings,Public Safety
END:VEVENT
BEGIN:VEVENT
DTSTART;TZID=America/New_York:20210204T193000
DTEND;TZID=America/New_York:20210204T193000
DTSTAMP:20260423T180346
CREATED:20201211T154124Z
LAST-MODIFIED:20210126T203558Z
UID:3442-1612467000-1612467000@www.mvcca.org
SUMMARY:Public Safety (Joint Meeting with Transportation)
DESCRIPTION:
URL:https://www.mvcca.org/event/public-safety-56/
LOCATION:Zoom Meeting
CATEGORIES:Committee,Meetings,Public Safety
END:VEVENT
BEGIN:VEVENT
DTSTART;TZID=America/New_York:20210107T193000
DTEND;TZID=America/New_York:20210107T193000
DTSTAMP:20260423T180346
CREATED:20201211T151419Z
LAST-MODIFIED:20201211T152407Z
UID:3416-1610047800-1610047800@www.mvcca.org
SUMMARY:Public Safety
DESCRIPTION:
URL:https://www.mvcca.org/event/public-safety-55/
LOCATION:Zoom Meeting
CATEGORIES:Committee,Meetings,Public Safety
END:VEVENT
BEGIN:VEVENT
DTSTART;TZID=America/New_York:20201203T193000
DTEND;TZID=America/New_York:20201203T193000
DTSTAMP:20260423T180346
CREATED:20191217T145205Z
LAST-MODIFIED:20201123T173454Z
UID:3209-1607023800-1607023800@www.mvcca.org
SUMMARY:Public Safety
DESCRIPTION:
URL:https://www.mvcca.org/event/public-safety-54/
LOCATION:Zoom Meeting
CATEGORIES:Meetings,Public Safety
END:VEVENT
BEGIN:VEVENT
DTSTART;TZID=America/New_York:20201105T193000
DTEND;TZID=America/New_York:20201105T193000
DTSTAMP:20260423T180346
CREATED:20191217T145123Z
LAST-MODIFIED:20191217T145123Z
UID:3207-1604604600-1604604600@www.mvcca.org
SUMMARY:Public Safety
DESCRIPTION:
URL:https://www.mvcca.org/event/public-safety-53/
LOCATION:Mount Vernon Government Center\, 2511 Parkers Lane\, Alexandria\, 22306\, United States
CATEGORIES:Meetings,Public Safety
END:VEVENT
BEGIN:VEVENT
DTSTART;TZID=America/New_York:20201001T193000
DTEND;TZID=America/New_York:20201001T193000
DTSTAMP:20260423T180346
CREATED:20191217T145033Z
LAST-MODIFIED:20191217T145033Z
UID:3205-1601580600-1601580600@www.mvcca.org
SUMMARY:Public Safety
DESCRIPTION:
URL:https://www.mvcca.org/event/public-safety-52/
LOCATION:Mount Vernon Government Center\, 2511 Parkers Lane\, Alexandria\, 22306\, United States
CATEGORIES:Meetings,Public Safety
END:VEVENT
BEGIN:VEVENT
DTSTART;TZID=America/New_York:20200903T193000
DTEND;TZID=America/New_York:20200903T193000
DTSTAMP:20260423T180346
CREATED:20191217T144948Z
LAST-MODIFIED:20191217T144948Z
UID:3203-1599161400-1599161400@www.mvcca.org
SUMMARY:Public Safety
DESCRIPTION:
URL:https://www.mvcca.org/event/public-safety-51/
LOCATION:Mount Vernon Government Center\, 2511 Parkers Lane\, Alexandria\, 22306\, United States
CATEGORIES:Meetings,Public Safety
END:VEVENT
BEGIN:VEVENT
DTSTART;TZID=America/New_York:20200702T193000
DTEND;TZID=America/New_York:20200702T193000
DTSTAMP:20260423T180346
CREATED:20191217T144836Z
LAST-MODIFIED:20191217T144836Z
UID:3201-1593718200-1593718200@www.mvcca.org
SUMMARY:Public Safety
DESCRIPTION:
URL:https://www.mvcca.org/event/public-safety-50/
LOCATION:Mount Vernon Government Center\, 2511 Parkers Lane\, Alexandria\, 22306\, United States
CATEGORIES:Meetings,Public Safety
END:VEVENT
BEGIN:VEVENT
DTSTART;TZID=America/New_York:20200604T193000
DTEND;TZID=America/New_York:20200604T193000
DTSTAMP:20260423T180346
CREATED:20191217T144442Z
LAST-MODIFIED:20191217T144442Z
UID:3199-1591299000-1591299000@www.mvcca.org
SUMMARY:Public Safety
DESCRIPTION:
URL:https://www.mvcca.org/event/public-safety-49/
LOCATION:Mount Vernon Government Center\, 2511 Parkers Lane\, Alexandria\, 22306\, United States
CATEGORIES:Meetings,Public Safety
END:VEVENT
BEGIN:VEVENT
DTSTART;TZID=America/New_York:20200507T193000
DTEND;TZID=America/New_York:20200507T193000
DTSTAMP:20260423T180346
CREATED:20191217T143235Z
LAST-MODIFIED:20191217T145421Z
UID:3197-1588879800-1588879800@www.mvcca.org
SUMMARY:Public Safety
DESCRIPTION:
URL:https://www.mvcca.org/event/public-safety-48/
LOCATION:Mount Vernon Government Center\, 2511 Parkers Lane\, Alexandria\, 22306\, United States
CATEGORIES:Meetings,Public Safety
END:VEVENT
BEGIN:VEVENT
DTSTART;TZID=America/New_York:20200402T193000
DTEND;TZID=America/New_York:20200402T193000
DTSTAMP:20260423T180346
CREATED:20191217T143153Z
LAST-MODIFIED:20191217T143153Z
UID:3195-1585855800-1585855800@www.mvcca.org
SUMMARY:Public Safety
DESCRIPTION:
URL:https://www.mvcca.org/event/public-safety-47/
LOCATION:Mount Vernon Government Center\, 2511 Parkers Lane\, Alexandria\, 22306\, United States
CATEGORIES:Meetings,Public Safety
END:VEVENT
BEGIN:VEVENT
DTSTART;TZID=America/New_York:20200305T193000
DTEND;TZID=America/New_York:20200305T193000
DTSTAMP:20260423T180346
CREATED:20191217T143107Z
LAST-MODIFIED:20200303T160002Z
UID:3193-1583436600-1583436600@www.mvcca.org
SUMMARY:Public Safety - CANCELLED
DESCRIPTION:
URL:https://www.mvcca.org/event/public-safety-46/
LOCATION:Mount Vernon Government Center\, 2511 Parkers Lane\, Alexandria\, 22306\, United States
CATEGORIES:Meetings,Public Safety
END:VEVENT
END:VCALENDAR