BEGIN:VCALENDAR
VERSION:2.0
PRODID:-//Mount Vernon Council of Citizens&#039; Associations, Inc. - ECPv6.15.20//NONSGML v1.0//EN
CALSCALE:GREGORIAN
METHOD:PUBLISH
X-WR-CALNAME:Mount Vernon Council of Citizens&#039; Associations, Inc.
X-ORIGINAL-URL:https://www.mvcca.org
X-WR-CALDESC:Events for Mount Vernon Council of Citizens&#039; Associations, Inc.
REFRESH-INTERVAL;VALUE=DURATION:PT1H
X-Robots-Tag:noindex
X-PUBLISHED-TTL:PT1H
BEGIN:VTIMEZONE
TZID:America/New_York
BEGIN:DAYLIGHT
TZOFFSETFROM:-0500
TZOFFSETTO:-0400
TZNAME:EDT
DTSTART:20170312T070000
END:DAYLIGHT
BEGIN:STANDARD
TZOFFSETFROM:-0400
TZOFFSETTO:-0500
TZNAME:EST
DTSTART:20171105T060000
END:STANDARD
BEGIN:DAYLIGHT
TZOFFSETFROM:-0500
TZOFFSETTO:-0400
TZNAME:EDT
DTSTART:20180311T070000
END:DAYLIGHT
BEGIN:STANDARD
TZOFFSETFROM:-0400
TZOFFSETTO:-0500
TZNAME:EST
DTSTART:20181104T060000
END:STANDARD
BEGIN:DAYLIGHT
TZOFFSETFROM:-0500
TZOFFSETTO:-0400
TZNAME:EDT
DTSTART:20190310T070000
END:DAYLIGHT
BEGIN:STANDARD
TZOFFSETFROM:-0400
TZOFFSETTO:-0500
TZNAME:EST
DTSTART:20191103T060000
END:STANDARD
BEGIN:DAYLIGHT
TZOFFSETFROM:-0500
TZOFFSETTO:-0400
TZNAME:EDT
DTSTART:20200308T070000
END:DAYLIGHT
BEGIN:STANDARD
TZOFFSETFROM:-0400
TZOFFSETTO:-0500
TZNAME:EST
DTSTART:20201101T060000
END:STANDARD
BEGIN:DAYLIGHT
TZOFFSETFROM:-0500
TZOFFSETTO:-0400
TZNAME:EDT
DTSTART:20210314T070000
END:DAYLIGHT
BEGIN:STANDARD
TZOFFSETFROM:-0400
TZOFFSETTO:-0500
TZNAME:EST
DTSTART:20211107T060000
END:STANDARD
END:VTIMEZONE
BEGIN:VEVENT
DTSTART;TZID=America/New_York:20200206T193000
DTEND;TZID=America/New_York:20200206T193000
DTSTAMP:20260423T214959
CREATED:20191217T143008Z
LAST-MODIFIED:20191217T143008Z
UID:3191-1581017400-1581017400@www.mvcca.org
SUMMARY:Public Safety
DESCRIPTION:
URL:https://www.mvcca.org/event/public-safety-45/
LOCATION:Mount Vernon Government Center\, 2511 Parkers Lane\, Alexandria\, 22306\, United States
CATEGORIES:Meetings,Public Safety
END:VEVENT
BEGIN:VEVENT
DTSTART;TZID=America/New_York:20200106T193000
DTEND;TZID=America/New_York:20200106T193000
DTSTAMP:20260423T214959
CREATED:20191213T143328Z
LAST-MODIFIED:20200105T232148Z
UID:3089-1578339000-1578339000@www.mvcca.org
SUMMARY:Public Safety - CANCELLED
DESCRIPTION:
URL:https://www.mvcca.org/event/public-safety-44/
LOCATION:Mount Vernon Government Center\, 2511 Parkers Lane\, Alexandria\, 22306\, United States
CATEGORIES:Meetings,Public Safety
END:VEVENT
BEGIN:VEVENT
DTSTART;TZID=America/New_York:20191205T193000
DTEND;TZID=America/New_York:20191205T193000
DTSTAMP:20260423T214959
CREATED:20181214T182044Z
LAST-MODIFIED:20181214T182044Z
UID:2655-1575574200-1575574200@www.mvcca.org
SUMMARY:Public Safety
DESCRIPTION:
URL:https://www.mvcca.org/event/public-safety-43/
LOCATION:Mount Vernon Government Center\, 2511 Parkers Lane\, Alexandria\, 22306\, United States
CATEGORIES:Public Safety
END:VEVENT
BEGIN:VEVENT
DTSTART;TZID=America/New_York:20191107T193000
DTEND;TZID=America/New_York:20191107T193000
DTSTAMP:20260423T214959
CREATED:20181214T182004Z
LAST-MODIFIED:20191107T143827Z
UID:2653-1573155000-1573155000@www.mvcca.org
SUMMARY:Public Safety - CANCELLED
DESCRIPTION:
URL:https://www.mvcca.org/event/public-safety-42/
LOCATION:Mount Vernon Government Center\, 2511 Parkers Lane\, Alexandria\, 22306\, United States
CATEGORIES:Public Safety
END:VEVENT
BEGIN:VEVENT
DTSTART;TZID=America/New_York:20191003T193000
DTEND;TZID=America/New_York:20191003T193000
DTSTAMP:20260423T214959
CREATED:20181214T181923Z
LAST-MODIFIED:20191001T173013Z
UID:2651-1570131000-1570131000@www.mvcca.org
SUMMARY:Public Safety - CANCELLED
DESCRIPTION:
URL:https://www.mvcca.org/event/public-safety-41/
LOCATION:Mount Vernon Government Center\, 2511 Parkers Lane\, Alexandria\, 22306\, United States
CATEGORIES:Public Safety
END:VEVENT
BEGIN:VEVENT
DTSTART;TZID=America/New_York:20190905T193000
DTEND;TZID=America/New_York:20190905T193000
DTSTAMP:20260423T214959
CREATED:20181214T181841Z
LAST-MODIFIED:20181214T181841Z
UID:2649-1567711800-1567711800@www.mvcca.org
SUMMARY:Public Safety
DESCRIPTION:
URL:https://www.mvcca.org/event/public-safety-40/
LOCATION:Mount Vernon Government Center\, 2511 Parkers Lane\, Alexandria\, 22306\, United States
CATEGORIES:Public Safety
END:VEVENT
BEGIN:VEVENT
DTSTART;TZID=America/New_York:20190703T193000
DTEND;TZID=America/New_York:20190703T193000
DTSTAMP:20260423T214959
CREATED:20181214T181802Z
LAST-MODIFIED:20190529T150418Z
UID:2647-1562182200-1562182200@www.mvcca.org
SUMMARY:Public Safety - CANCELLED
DESCRIPTION:
URL:https://www.mvcca.org/event/public-safety-39/
LOCATION:Mount Vernon Government Center\, 2511 Parkers Lane\, Alexandria\, 22306\, United States
CATEGORIES:Public Safety
END:VEVENT
BEGIN:VEVENT
DTSTART;TZID=America/New_York:20190606T193000
DTEND;TZID=America/New_York:20190606T193000
DTSTAMP:20260423T214959
CREATED:20181214T181726Z
LAST-MODIFIED:20190531T141158Z
UID:2645-1559849400-1559849400@www.mvcca.org
SUMMARY:Public Safety
DESCRIPTION:
URL:https://www.mvcca.org/event/public-safety-38/
LOCATION:Mount Vernon Government Center\, 2511 Parkers Lane\, Alexandria\, 22306\, United States
CATEGORIES:Public Safety
END:VEVENT
BEGIN:VEVENT
DTSTART;TZID=America/New_York:20190502T193000
DTEND;TZID=America/New_York:20190502T193000
DTSTAMP:20260423T214959
CREATED:20181214T181649Z
LAST-MODIFIED:20190501T134325Z
UID:2643-1556825400-1556825400@www.mvcca.org
SUMMARY:Public Safety - CANCELLED
DESCRIPTION:
URL:https://www.mvcca.org/event/public-safety-37/
LOCATION:Mount Vernon Government Center\, 2511 Parkers Lane\, Alexandria\, 22306\, United States
CATEGORIES:Public Safety
END:VEVENT
BEGIN:VEVENT
DTSTART;TZID=America/New_York:20190404T193000
DTEND;TZID=America/New_York:20190404T193000
DTSTAMP:20260423T214959
CREATED:20181214T181608Z
LAST-MODIFIED:20181214T181608Z
UID:2641-1554406200-1554406200@www.mvcca.org
SUMMARY:Public Safety
DESCRIPTION:
URL:https://www.mvcca.org/event/public-safety-36/
LOCATION:Mount Vernon Government Center\, 2511 Parkers Lane\, Alexandria\, 22306\, United States
CATEGORIES:Public Safety
END:VEVENT
BEGIN:VEVENT
DTSTART;TZID=America/New_York:20190307T193000
DTEND;TZID=America/New_York:20190307T193000
DTSTAMP:20260423T214959
CREATED:20181214T181500Z
LAST-MODIFIED:20181214T181500Z
UID:2639-1551987000-1551987000@www.mvcca.org
SUMMARY:Public Safety
DESCRIPTION:
URL:https://www.mvcca.org/event/public-safety-35/
LOCATION:Mount Vernon Government Center\, 2511 Parkers Lane\, Alexandria\, 22306\, United States
CATEGORIES:Public Safety
END:VEVENT
BEGIN:VEVENT
DTSTART;TZID=America/New_York:20190207T193000
DTEND;TZID=America/New_York:20190207T193000
DTSTAMP:20260423T214959
CREATED:20181214T181426Z
LAST-MODIFIED:20190204T200745Z
UID:2637-1549567800-1549567800@www.mvcca.org
SUMMARY:Public Safety -CANCELLED
DESCRIPTION:
URL:https://www.mvcca.org/event/public-safety-34/
LOCATION:Mount Vernon Government Center\, 2511 Parkers Lane\, Alexandria\, 22306\, United States
CATEGORIES:Public Safety
END:VEVENT
BEGIN:VEVENT
DTSTART;TZID=America/New_York:20190103T193000
DTEND;TZID=America/New_York:20190103T193000
DTSTAMP:20260423T214959
CREATED:20181214T170054Z
LAST-MODIFIED:20181214T170054Z
UID:2528-1546543800-1546543800@www.mvcca.org
SUMMARY:Public Safety
DESCRIPTION:
URL:https://www.mvcca.org/event/public-safety-33/
LOCATION:Mount Vernon Government Center\, 2511 Parkers Lane\, Alexandria\, 22306\, United States
CATEGORIES:Public Safety
END:VEVENT
BEGIN:VEVENT
DTSTART;TZID=America/New_York:20181206T193000
DTEND;TZID=America/New_York:20181206T193000
DTSTAMP:20260423T214959
CREATED:20171227T195100Z
LAST-MODIFIED:20171227T195100Z
UID:1834-1544124600-1544124600@www.mvcca.org
SUMMARY:Public Safety
DESCRIPTION:
URL:https://www.mvcca.org/event/public-safety-32/
LOCATION:Mount Vernon Government Center\, 2511 Parkers Lane\, Alexandria\, 22306\, United States
CATEGORIES:Committee,Meetings,Public Safety
END:VEVENT
BEGIN:VEVENT
DTSTART;TZID=America/New_York:20181108T193000
DTEND;TZID=America/New_York:20181108T193000
DTSTAMP:20260423T214959
CREATED:20171227T195059Z
LAST-MODIFIED:20181029T202605Z
UID:1833-1541705400-1541705400@www.mvcca.org
SUMMARY:Public Safety - CANCELLED
DESCRIPTION:
URL:https://www.mvcca.org/event/public-safety-31/
LOCATION:Location TBD
CATEGORIES:Committee,Meetings,Public Safety
END:VEVENT
BEGIN:VEVENT
DTSTART;TZID=America/New_York:20181004T193000
DTEND;TZID=America/New_York:20181004T193000
DTSTAMP:20260423T214959
CREATED:20171227T195059Z
LAST-MODIFIED:20180930T145817Z
UID:1832-1538681400-1538681400@www.mvcca.org
SUMMARY:Public Safety
DESCRIPTION:
URL:https://www.mvcca.org/event/public-safety-30/
LOCATION:Mount Vernon Fire Station\, 2601 Sherwood Hall Lane\, Alexandria\, 22306
CATEGORIES:Committee,Meetings,Public Safety
END:VEVENT
BEGIN:VEVENT
DTSTART;TZID=America/New_York:20180906T193000
DTEND;TZID=America/New_York:20180906T193000
DTSTAMP:20260423T214959
CREATED:20171227T195057Z
LAST-MODIFIED:20171227T195057Z
UID:1831-1536262200-1536262200@www.mvcca.org
SUMMARY:Public Safety
DESCRIPTION:
URL:https://www.mvcca.org/event/public-safety-29/
LOCATION:Mount Vernon Government Center\, 2511 Parkers Lane\, Alexandria\, 22306\, United States
CATEGORIES:Committee,Meetings,Public Safety
END:VEVENT
BEGIN:VEVENT
DTSTART;TZID=America/New_York:20180705T193000
DTEND;TZID=America/New_York:20180705T193000
DTSTAMP:20260423T214959
CREATED:20171227T195056Z
LAST-MODIFIED:20180515T180746Z
UID:1830-1530819000-1530819000@www.mvcca.org
SUMMARY:Public Safety CANCELLED
DESCRIPTION:
URL:https://www.mvcca.org/event/public-safety-28/
LOCATION:Mount Vernon Government Center\, 2511 Parkers Lane\, Alexandria\, 22306\, United States
CATEGORIES:Committee,Meetings,Public Safety
END:VEVENT
BEGIN:VEVENT
DTSTART;TZID=America/New_York:20180607T193000
DTEND;TZID=America/New_York:20180607T193000
DTSTAMP:20260423T214959
CREATED:20171227T195056Z
LAST-MODIFIED:20180607T180006Z
UID:1829-1528399800-1528399800@www.mvcca.org
SUMMARY:Public Safety - CANCELLED
DESCRIPTION:
URL:https://www.mvcca.org/event/public-safety-27/
LOCATION:Mount Vernon Government Center\, 2511 Parkers Lane\, Alexandria\, 22306\, United States
CATEGORIES:Committee,Meetings,Public Safety
END:VEVENT
BEGIN:VEVENT
DTSTART;TZID=America/New_York:20180503T193000
DTEND;TZID=America/New_York:20180503T193000
DTSTAMP:20260423T214959
CREATED:20171227T195055Z
LAST-MODIFIED:20171227T195055Z
UID:1828-1525375800-1525375800@www.mvcca.org
SUMMARY:Public Safety
DESCRIPTION:
URL:https://www.mvcca.org/event/public-safety-26/
LOCATION:Mount Vernon Government Center\, 2511 Parkers Lane\, Alexandria\, 22306\, United States
CATEGORIES:Committee,Meetings,Public Safety
END:VEVENT
BEGIN:VEVENT
DTSTART;TZID=America/New_York:20180405T193000
DTEND;TZID=America/New_York:20180405T193000
DTSTAMP:20260423T214959
CREATED:20171227T195055Z
LAST-MODIFIED:20171227T195055Z
UID:1827-1522956600-1522956600@www.mvcca.org
SUMMARY:Public Safety
DESCRIPTION:
URL:https://www.mvcca.org/event/public-safety-25/
LOCATION:Mount Vernon Government Center\, 2511 Parkers Lane\, Alexandria\, 22306\, United States
CATEGORIES:Committee,Meetings,Public Safety
END:VEVENT
END:VCALENDAR