BEGIN:VCALENDAR
VERSION:2.0
PRODID:-//Mount Vernon Council of Citizens&#039; Associations, Inc. - ECPv6.15.20//NONSGML v1.0//EN
CALSCALE:GREGORIAN
METHOD:PUBLISH
X-ORIGINAL-URL:https://www.mvcca.org
X-WR-CALDESC:Events for Mount Vernon Council of Citizens&#039; Associations, Inc.
REFRESH-INTERVAL;VALUE=DURATION:PT1H
X-Robots-Tag:noindex
X-PUBLISHED-TTL:PT1H
BEGIN:VTIMEZONE
TZID:America/New_York
BEGIN:DAYLIGHT
TZOFFSETFROM:-0500
TZOFFSETTO:-0400
TZNAME:EDT
DTSTART:20190310T070000
END:DAYLIGHT
BEGIN:STANDARD
TZOFFSETFROM:-0400
TZOFFSETTO:-0500
TZNAME:EST
DTSTART:20191103T060000
END:STANDARD
BEGIN:DAYLIGHT
TZOFFSETFROM:-0500
TZOFFSETTO:-0400
TZNAME:EDT
DTSTART:20200308T070000
END:DAYLIGHT
BEGIN:STANDARD
TZOFFSETFROM:-0400
TZOFFSETTO:-0500
TZNAME:EST
DTSTART:20201101T060000
END:STANDARD
BEGIN:DAYLIGHT
TZOFFSETFROM:-0500
TZOFFSETTO:-0400
TZNAME:EDT
DTSTART:20210314T070000
END:DAYLIGHT
BEGIN:STANDARD
TZOFFSETFROM:-0400
TZOFFSETTO:-0500
TZNAME:EST
DTSTART:20211107T060000
END:STANDARD
BEGIN:DAYLIGHT
TZOFFSETFROM:-0500
TZOFFSETTO:-0400
TZNAME:EDT
DTSTART:20220313T070000
END:DAYLIGHT
BEGIN:STANDARD
TZOFFSETFROM:-0400
TZOFFSETTO:-0500
TZNAME:EST
DTSTART:20221106T060000
END:STANDARD
BEGIN:DAYLIGHT
TZOFFSETFROM:-0500
TZOFFSETTO:-0400
TZNAME:EDT
DTSTART:20230312T070000
END:DAYLIGHT
BEGIN:STANDARD
TZOFFSETFROM:-0400
TZOFFSETTO:-0500
TZNAME:EST
DTSTART:20231105T060000
END:STANDARD
END:VTIMEZONE
BEGIN:VEVENT
DTSTART;TZID=America/New_York:20221003T190000
DTEND;TZID=America/New_York:20221003T190000
DTSTAMP:20260424T004009
CREATED:20211231T150421Z
LAST-MODIFIED:20211231T150421Z
UID:3961-1664823600-1664823600@www.mvcca.org
SUMMARY:Planning & Zoning
DESCRIPTION:
URL:https://www.mvcca.org/event/planning-zoning-74/
LOCATION:Zoom Meeting
CATEGORIES:Committee,Meetings,Planning & Zoning
END:VEVENT
BEGIN:VEVENT
DTSTART;TZID=America/New_York:20220829T190000
DTEND;TZID=America/New_York:20220829T190000
DTSTAMP:20260424T004009
CREATED:20211231T150329Z
LAST-MODIFIED:20211231T150329Z
UID:3959-1661799600-1661799600@www.mvcca.org
SUMMARY:Planning & Zoning
DESCRIPTION:
URL:https://www.mvcca.org/event/planning-zoning-73/
LOCATION:Zoom Meeting
CATEGORIES:Committee,Meetings,Planning & Zoning
END:VEVENT
BEGIN:VEVENT
DTSTART;TZID=America/New_York:20220711T190000
DTEND;TZID=America/New_York:20220711T190000
DTSTAMP:20260424T004009
CREATED:20211231T150232Z
LAST-MODIFIED:20211231T150232Z
UID:3957-1657566000-1657566000@www.mvcca.org
SUMMARY:Planning & Zoning
DESCRIPTION:
URL:https://www.mvcca.org/event/planning-zoning-72/
LOCATION:Zoom Meeting
CATEGORIES:Committee,Meetings,Planning & Zoning
END:VEVENT
BEGIN:VEVENT
DTSTART;TZID=America/New_York:20220606T190000
DTEND;TZID=America/New_York:20220606T190000
DTSTAMP:20260424T004009
CREATED:20211231T150132Z
LAST-MODIFIED:20211231T150132Z
UID:3955-1654542000-1654542000@www.mvcca.org
SUMMARY:Planning & Zoning
DESCRIPTION:
URL:https://www.mvcca.org/event/planning-zoning-71/
LOCATION:Zoom Meeting
CATEGORIES:Committee,Meetings,Planning & Zoning
END:VEVENT
BEGIN:VEVENT
DTSTART;TZID=America/New_York:20220502T190000
DTEND;TZID=America/New_York:20220502T190000
DTSTAMP:20260424T004009
CREATED:20211231T150004Z
LAST-MODIFIED:20211231T150004Z
UID:3953-1651518000-1651518000@www.mvcca.org
SUMMARY:Planning & Zoning
DESCRIPTION:
URL:https://www.mvcca.org/event/planning-zoning-70/
LOCATION:Zoom Meeting
CATEGORIES:Committee,Meetings,Planning & Zoning
END:VEVENT
BEGIN:VEVENT
DTSTART;TZID=America/New_York:20220404T190000
DTEND;TZID=America/New_York:20220404T190000
DTSTAMP:20260424T004009
CREATED:20211231T145917Z
LAST-MODIFIED:20211231T145917Z
UID:3951-1649098800-1649098800@www.mvcca.org
SUMMARY:Planning & Zoning
DESCRIPTION:
URL:https://www.mvcca.org/event/planning-zoning-69/
LOCATION:Zoom Meeting
CATEGORIES:Committee,Meetings,Planning & Zoning
END:VEVENT
BEGIN:VEVENT
DTSTART;TZID=America/New_York:20220307T190000
DTEND;TZID=America/New_York:20220307T190000
DTSTAMP:20260424T004009
CREATED:20211231T145544Z
LAST-MODIFIED:20211231T145544Z
UID:3948-1646679600-1646679600@www.mvcca.org
SUMMARY:Planning & Zoning
DESCRIPTION:
URL:https://www.mvcca.org/event/planning-zoning-68/
LOCATION:Zoom Meeting
CATEGORIES:Committee,Meetings,Planning & Zoning
END:VEVENT
BEGIN:VEVENT
DTSTART;TZID=America/New_York:20220207T190000
DTEND;TZID=America/New_York:20220207T190000
DTSTAMP:20260424T004009
CREATED:20211229T191836Z
LAST-MODIFIED:20211229T191836Z
UID:3933-1644260400-1644260400@www.mvcca.org
SUMMARY:Planning & Zoning
DESCRIPTION:
URL:https://www.mvcca.org/event/planning-zoning-67/
LOCATION:Zoom Meeting
CATEGORIES:Committee,Meetings,Planning & Zoning
END:VEVENT
BEGIN:VEVENT
DTSTART;TZID=America/New_York:20220103T190000
DTEND;TZID=America/New_York:20220103T190000
DTSTAMP:20260424T004009
CREATED:20211229T161145Z
LAST-MODIFIED:20211229T163008Z
UID:3919-1641236400-1641236400@www.mvcca.org
SUMMARY:Planning & Zoning
DESCRIPTION:
URL:https://www.mvcca.org/event/planning-zoning-61/
LOCATION:Zoom Meeting
CATEGORIES:Committee,Meetings,Planning & Zoning
END:VEVENT
BEGIN:VEVENT
DTSTART;TZID=America/New_York:20211206T190000
DTEND;TZID=America/New_York:20211206T190000
DTSTAMP:20260424T004009
CREATED:20210107T130354Z
LAST-MODIFIED:20210107T130354Z
UID:3583-1638817200-1638817200@www.mvcca.org
SUMMARY:Planning & Zoning
DESCRIPTION:
URL:https://www.mvcca.org/event/planning-zoning-65/
LOCATION:Zoom Meeting
CATEGORIES:Meetings,Planning & Zoning
END:VEVENT
BEGIN:VEVENT
DTSTART;TZID=America/New_York:20211101T190000
DTEND;TZID=America/New_York:20211101T190000
DTSTAMP:20260424T004009
CREATED:20210107T130318Z
LAST-MODIFIED:20210107T130318Z
UID:3581-1635793200-1635793200@www.mvcca.org
SUMMARY:Planning & Zoning
DESCRIPTION:
URL:https://www.mvcca.org/event/planning-zoning-64/
LOCATION:Zoom Meeting
CATEGORIES:Meetings,Planning & Zoning
END:VEVENT
BEGIN:VEVENT
DTSTART;TZID=America/New_York:20211004T190000
DTEND;TZID=America/New_York:20211004T190000
DTSTAMP:20260424T004009
CREATED:20210107T130240Z
LAST-MODIFIED:20210107T130240Z
UID:3579-1633374000-1633374000@www.mvcca.org
SUMMARY:Planning & Zoning
DESCRIPTION:
URL:https://www.mvcca.org/event/planning-zoning-63/
LOCATION:Zoom Meeting
CATEGORIES:Planning & Zoning
END:VEVENT
BEGIN:VEVENT
DTSTART;TZID=America/New_York:20210913T070000
DTEND;TZID=America/New_York:20210913T070000
DTSTAMP:20260424T004009
CREATED:20210107T130143Z
LAST-MODIFIED:20210823T195153Z
UID:3577-1631516400-1631516400@www.mvcca.org
SUMMARY:Planning & Zoning Joint Meeting w/Transportation
DESCRIPTION:
URL:https://www.mvcca.org/event/planning-zoning-62/
LOCATION:Zoom Meeting
CATEGORIES:Meetings,Planning & Zoning,Transportation
END:VEVENT
BEGIN:VEVENT
DTSTART;TZID=America/New_York:20210712T190000
DTEND;TZID=America/New_York:20210712T190000
DTSTAMP:20260424T004009
CREATED:20210111T215048Z
LAST-MODIFIED:20210111T215457Z
UID:3607-1626116400-1626116400@www.mvcca.org
SUMMARY:Planning & Zoning
DESCRIPTION:
URL:https://www.mvcca.org/event/planning-zoning-66/
LOCATION:Zoom Meeting
CATEGORIES:Committee,Meetings,Planning & Zoning
END:VEVENT
BEGIN:VEVENT
DTSTART;TZID=America/New_York:20210607T190000
DTEND;TZID=America/New_York:20210607T190000
DTSTAMP:20260424T004009
CREATED:20210107T125754Z
LAST-MODIFIED:20210519T173045Z
UID:3573-1623092400-1623092400@www.mvcca.org
SUMMARY:Planning & Zoning
DESCRIPTION:
URL:https://www.mvcca.org/event/planning-zoning-60/
LOCATION:Zoom Meeting
CATEGORIES:Meetings,Planning & Zoning
END:VEVENT
BEGIN:VEVENT
DTSTART;TZID=America/New_York:20210503T190000
DTEND;TZID=America/New_York:20210503T190000
DTSTAMP:20260424T004009
CREATED:20210107T125108Z
LAST-MODIFIED:20210107T125108Z
UID:3571-1620068400-1620068400@www.mvcca.org
SUMMARY:Planning & Zoning
DESCRIPTION:
URL:https://www.mvcca.org/event/planning-zoning-59/
LOCATION:Zoom Meeting
CATEGORIES:Meetings,Planning & Zoning
END:VEVENT
BEGIN:VEVENT
DTSTART;TZID=America/New_York:20210405T190000
DTEND;TZID=America/New_York:20210405T190000
DTSTAMP:20260424T004009
CREATED:20210107T125032Z
LAST-MODIFIED:20210107T125032Z
UID:3569-1617649200-1617649200@www.mvcca.org
SUMMARY:Planning & Zoning
DESCRIPTION:
URL:https://www.mvcca.org/event/planning-zoning-58/
LOCATION:Zoom Meeting
CATEGORIES:Meetings,Planning & Zoning
END:VEVENT
BEGIN:VEVENT
DTSTART;TZID=America/New_York:20210301T190000
DTEND;TZID=America/New_York:20210301T190000
DTSTAMP:20260424T004009
CREATED:20210107T124637Z
LAST-MODIFIED:20210107T124637Z
UID:3567-1614625200-1614625200@www.mvcca.org
SUMMARY:Planning & Zoning
DESCRIPTION:
URL:https://www.mvcca.org/event/planning-zoning-57/
LOCATION:Zoom Meeting
CATEGORIES:Meetings,Planning & Zoning
END:VEVENT
BEGIN:VEVENT
DTSTART;TZID=America/New_York:20210201T190000
DTEND;TZID=America/New_York:20210201T190000
DTSTAMP:20260424T004009
CREATED:20210107T124543Z
LAST-MODIFIED:20210107T124543Z
UID:3565-1612206000-1612206000@www.mvcca.org
SUMMARY:Planning & Zoning
DESCRIPTION:
URL:https://www.mvcca.org/event/planning-zoning-46/
LOCATION:Zoom Meeting
CATEGORIES:Meetings,Planning & Zoning
END:VEVENT
BEGIN:VEVENT
DTSTART;TZID=America/New_York:20210111T190000
DTEND;TZID=America/New_York:20210111T190000
DTSTAMP:20260424T004009
CREATED:20201223T161427Z
LAST-MODIFIED:20201223T161427Z
UID:3493-1610391600-1610391600@www.mvcca.org
SUMMARY:Planning and Zoning (Joint w/ Transportation)
DESCRIPTION:
URL:https://www.mvcca.org/event/planning-zoning-joint-w-transportation/
LOCATION:Zoom Meeting
CATEGORIES:Meetings,Planning & Zoning
END:VEVENT
BEGIN:VEVENT
DTSTART;TZID=America/New_York:20201207T190000
DTEND;TZID=America/New_York:20201207T190000
DTSTAMP:20260424T004009
CREATED:20191217T133938Z
LAST-MODIFIED:20191217T133938Z
UID:3124-1607367600-1607367600@www.mvcca.org
SUMMARY:Planning & Zoning
DESCRIPTION:
URL:https://www.mvcca.org/event/planning-zoning-56/
LOCATION:Mount Vernon Government Center\, 2511 Parkers Lane\, Alexandria\, 22306\, United States
CATEGORIES:Meetings,Planning & Zoning
END:VEVENT
BEGIN:VEVENT
DTSTART;TZID=America/New_York:20201109T190000
DTEND;TZID=America/New_York:20201109T190000
DTSTAMP:20260424T004009
CREATED:20191217T133853Z
LAST-MODIFIED:20201103T134413Z
UID:3122-1604948400-1604948400@www.mvcca.org
SUMMARY:Planning & Zoning
DESCRIPTION:
URL:https://www.mvcca.org/event/planning-zoning-55/
LOCATION:Mount Vernon Government Center\, 2511 Parkers Lane\, Alexandria\, 22306\, United States
CATEGORIES:Meetings,Planning & Zoning
END:VEVENT
BEGIN:VEVENT
DTSTART;TZID=America/New_York:20201005T190000
DTEND;TZID=America/New_York:20201005T190000
DTSTAMP:20260424T004009
CREATED:20191217T133815Z
LAST-MODIFIED:20191217T133815Z
UID:3120-1601924400-1601924400@www.mvcca.org
SUMMARY:Planning & Zoning
DESCRIPTION:
URL:https://www.mvcca.org/event/planning-zoning-54/
LOCATION:Mount Vernon Government Center\, 2511 Parkers Lane\, Alexandria\, 22306\, United States
CATEGORIES:Meetings,Planning & Zoning
END:VEVENT
BEGIN:VEVENT
DTSTART;TZID=America/New_York:20200831T190000
DTEND;TZID=America/New_York:20200831T190000
DTSTAMP:20260424T004009
CREATED:20191217T133729Z
LAST-MODIFIED:20200601T211723Z
UID:3118-1598900400-1598900400@www.mvcca.org
SUMMARY:Planning & Zoning
DESCRIPTION:
URL:https://www.mvcca.org/event/planning-zoning-53/
LOCATION:Mount Vernon Government Center\, 2511 Parkers Lane\, Alexandria\, 22306\, United States
CATEGORIES:Meetings,Planning & Zoning
END:VEVENT
BEGIN:VEVENT
DTSTART;TZID=America/New_York:20200706T190000
DTEND;TZID=America/New_York:20200706T190000
DTSTAMP:20260424T004009
CREATED:20191217T133626Z
LAST-MODIFIED:20191217T133626Z
UID:3116-1594062000-1594062000@www.mvcca.org
SUMMARY:Planning & Zoning
DESCRIPTION:
URL:https://www.mvcca.org/event/planning-zoning-52/
LOCATION:Mount Vernon Government Center\, 2511 Parkers Lane\, Alexandria\, 22306\, United States
CATEGORIES:Meetings,Planning & Zoning
END:VEVENT
BEGIN:VEVENT
DTSTART;TZID=America/New_York:20200601T190000
DTEND;TZID=America/New_York:20200601T190000
DTSTAMP:20260424T004009
CREATED:20191217T133544Z
LAST-MODIFIED:20191217T133544Z
UID:3114-1591038000-1591038000@www.mvcca.org
SUMMARY:Planning & Zoning
DESCRIPTION:
URL:https://www.mvcca.org/event/planning-zoning-51/
LOCATION:Mount Vernon Government Center\, 2511 Parkers Lane\, Alexandria\, 22306\, United States
CATEGORIES:Meetings,Planning & Zoning
END:VEVENT
BEGIN:VEVENT
DTSTART;TZID=America/New_York:20200504T190000
DTEND;TZID=America/New_York:20200504T190000
DTSTAMP:20260424T004009
CREATED:20191217T133452Z
LAST-MODIFIED:20191217T133452Z
UID:3112-1588618800-1588618800@www.mvcca.org
SUMMARY:Planning & Zoning
DESCRIPTION:
URL:https://www.mvcca.org/event/planning-zoning-50/
LOCATION:Mount Vernon Government Center\, 2511 Parkers Lane\, Alexandria\, 22306\, United States
CATEGORIES:Meetings,Planning & Zoning
END:VEVENT
BEGIN:VEVENT
DTSTART;TZID=America/New_York:20200406T190000
DTEND;TZID=America/New_York:20200406T190000
DTSTAMP:20260424T004009
CREATED:20191217T133400Z
LAST-MODIFIED:20191217T133400Z
UID:3110-1586199600-1586199600@www.mvcca.org
SUMMARY:Planning  & Zoning
DESCRIPTION:
URL:https://www.mvcca.org/event/planning-zoning-49/
LOCATION:Mount Vernon Government Center\, 2511 Parkers Lane\, Alexandria\, 22306\, United States
CATEGORIES:Meetings,Planning & Zoning
END:VEVENT
BEGIN:VEVENT
DTSTART;TZID=America/New_York:20200302T190000
DTEND;TZID=America/New_York:20200302T190000
DTSTAMP:20260424T004009
CREATED:20191217T133325Z
LAST-MODIFIED:20191217T133325Z
UID:3108-1583175600-1583175600@www.mvcca.org
SUMMARY:Planning  & Zoning
DESCRIPTION:
URL:https://www.mvcca.org/event/planning-zoning-48/
LOCATION:Mount Vernon Government Center\, 2511 Parkers Lane\, Alexandria\, 22306\, United States
CATEGORIES:Meetings,Planning & Zoning
END:VEVENT
BEGIN:VEVENT
DTSTART;TZID=America/New_York:20200203T190000
DTEND;TZID=America/New_York:20200203T190000
DTSTAMP:20260424T004009
CREATED:20191217T133245Z
LAST-MODIFIED:20191217T133245Z
UID:3106-1580756400-1580756400@www.mvcca.org
SUMMARY:Planning  & Zoning
DESCRIPTION:
URL:https://www.mvcca.org/event/planning-zoning-47/
LOCATION:Mount Vernon Government Center\, 2511 Parkers Lane\, Alexandria\, 22306\, United States
CATEGORIES:Meetings,Planning & Zoning
END:VEVENT
END:VCALENDAR