BEGIN:VCALENDAR
VERSION:2.0
PRODID:-//Mount Vernon Council of Citizens&#039; Associations, Inc. - ECPv6.15.20//NONSGML v1.0//EN
CALSCALE:GREGORIAN
METHOD:PUBLISH
X-WR-CALNAME:Mount Vernon Council of Citizens&#039; Associations, Inc.
X-ORIGINAL-URL:https://www.mvcca.org
X-WR-CALDESC:Events for Mount Vernon Council of Citizens&#039; Associations, Inc.
REFRESH-INTERVAL;VALUE=DURATION:PT1H
X-Robots-Tag:noindex
X-PUBLISHED-TTL:PT1H
BEGIN:VTIMEZONE
TZID:America/New_York
BEGIN:DAYLIGHT
TZOFFSETFROM:-0500
TZOFFSETTO:-0400
TZNAME:EDT
DTSTART:20200308T070000
END:DAYLIGHT
BEGIN:STANDARD
TZOFFSETFROM:-0400
TZOFFSETTO:-0500
TZNAME:EST
DTSTART:20201101T060000
END:STANDARD
BEGIN:DAYLIGHT
TZOFFSETFROM:-0500
TZOFFSETTO:-0400
TZNAME:EDT
DTSTART:20210314T070000
END:DAYLIGHT
BEGIN:STANDARD
TZOFFSETFROM:-0400
TZOFFSETTO:-0500
TZNAME:EST
DTSTART:20211107T060000
END:STANDARD
BEGIN:DAYLIGHT
TZOFFSETFROM:-0500
TZOFFSETTO:-0400
TZNAME:EDT
DTSTART:20220313T070000
END:DAYLIGHT
BEGIN:STANDARD
TZOFFSETFROM:-0400
TZOFFSETTO:-0500
TZNAME:EST
DTSTART:20221106T060000
END:STANDARD
BEGIN:DAYLIGHT
TZOFFSETFROM:-0500
TZOFFSETTO:-0400
TZNAME:EDT
DTSTART:20230312T070000
END:DAYLIGHT
BEGIN:STANDARD
TZOFFSETFROM:-0400
TZOFFSETTO:-0500
TZNAME:EST
DTSTART:20231105T060000
END:STANDARD
BEGIN:DAYLIGHT
TZOFFSETFROM:-0500
TZOFFSETTO:-0400
TZNAME:EDT
DTSTART:20240310T070000
END:DAYLIGHT
BEGIN:STANDARD
TZOFFSETFROM:-0400
TZOFFSETTO:-0500
TZNAME:EST
DTSTART:20241103T060000
END:STANDARD
BEGIN:DAYLIGHT
TZOFFSETFROM:-0500
TZOFFSETTO:-0400
TZNAME:EDT
DTSTART:20250309T070000
END:DAYLIGHT
BEGIN:STANDARD
TZOFFSETFROM:-0400
TZOFFSETTO:-0500
TZNAME:EST
DTSTART:20251102T060000
END:STANDARD
END:VTIMEZONE
BEGIN:VEVENT
DTSTART;TZID=America/New_York:20240408T190000
DTEND;TZID=America/New_York:20240408T190000
DTSTAMP:20260423T165401
CREATED:20231205T194149Z
LAST-MODIFIED:20231205T194149Z
UID:4914-1712602800-1712602800@www.mvcca.org
SUMMARY:Transportation Committee Meeting
DESCRIPTION:
URL:https://www.mvcca.org/event/transportation-committee-meeting-15/
LOCATION:Zoom Meeting
CATEGORIES:Transportation
END:VEVENT
BEGIN:VEVENT
DTSTART;TZID=America/New_York:20240311T190000
DTEND;TZID=America/New_York:20240311T190000
DTSTAMP:20260423T165401
CREATED:20231205T193528Z
LAST-MODIFIED:20231205T193528Z
UID:4908-1710183600-1710183600@www.mvcca.org
SUMMARY:Transportation Committee Meeting
DESCRIPTION:
URL:https://www.mvcca.org/event/transportation-committee-meeting-14/
LOCATION:Zoom Meeting
CATEGORIES:Transportation
END:VEVENT
BEGIN:VEVENT
DTSTART;TZID=America/New_York:20240108T190000
DTEND;TZID=America/New_York:20240108T190000
DTSTAMP:20260423T165401
CREATED:20231116T185902Z
LAST-MODIFIED:20240103T213510Z
UID:4822-1704740400-1704740400@www.mvcca.org
SUMMARY:Transportation Committee Meeting-Cancelled to attend the Potomac Yard Arena Proposal meeting
DESCRIPTION:Cancelled to permit committee members to attend the Potomac Yard Arena Proposal zoom meeting which is scheduled for the same date/time.
URL:https://www.mvcca.org/event/transportation-committee-meeting-12/
CATEGORIES:Transportation
END:VEVENT
BEGIN:VEVENT
DTSTART;TZID=America/New_York:20231211T190000
DTEND;TZID=America/New_York:20231211T190000
DTSTAMP:20260423T165401
CREATED:20230103T201110Z
LAST-MODIFIED:20230902T201633Z
UID:4401-1702321200-1702321200@www.mvcca.org
SUMMARY:Transportation Committee Meeting
DESCRIPTION:
URL:https://www.mvcca.org/event/transportation-committee-meeting-11/
LOCATION:Zoom Meeting
CATEGORIES:Committee,Meetings,Transportation
END:VEVENT
BEGIN:VEVENT
DTSTART;TZID=America/New_York:20231113T190000
DTEND;TZID=America/New_York:20231113T190000
DTSTAMP:20260423T165401
CREATED:20230103T201035Z
LAST-MODIFIED:20230902T201721Z
UID:4399-1699902000-1699902000@www.mvcca.org
SUMMARY:Transportation Committee Meeting
DESCRIPTION:
URL:https://www.mvcca.org/event/transportation-committee-meeting-10/
LOCATION:Zoom Meeting
CATEGORIES:Committee,Meetings,Transportation
END:VEVENT
BEGIN:VEVENT
DTSTART;TZID=America/New_York:20231003T190000
DTEND;TZID=America/New_York:20231003T190000
DTSTAMP:20260423T165401
CREATED:20230103T200938Z
LAST-MODIFIED:20230902T201752Z
UID:4397-1696359600-1696359600@www.mvcca.org
SUMMARY:Transportation Committee Meeting
DESCRIPTION:
URL:https://www.mvcca.org/event/transportation-committee-meeting-9/
LOCATION:Zoom Meeting
CATEGORIES:Committee,Meetings,Transportation
END:VEVENT
BEGIN:VEVENT
DTSTART;TZID=America/New_York:20230828T190000
DTEND;TZID=America/New_York:20230828T190000
DTSTAMP:20260423T165401
CREATED:20230103T200901Z
LAST-MODIFIED:20230103T200901Z
UID:4395-1693249200-1693249200@www.mvcca.org
SUMMARY:Transportation Committee Meeting
DESCRIPTION:
URL:https://www.mvcca.org/event/transportation-committee-meeting-8/
LOCATION:Zoom Meeting
CATEGORIES:Committee,Meetings,Transportation
END:VEVENT
BEGIN:VEVENT
DTSTART;TZID=America/New_York:20230710T190000
DTEND;TZID=America/New_York:20230710T190000
DTSTAMP:20260423T165401
CREATED:20230103T200805Z
LAST-MODIFIED:20230103T200805Z
UID:4393-1689015600-1689015600@www.mvcca.org
SUMMARY:Transportation Committee Meeting
DESCRIPTION:
URL:https://www.mvcca.org/event/transportation-committee-meeting-7/
LOCATION:Zoom Meeting
CATEGORIES:Committee,Meetings,Transportation
END:VEVENT
BEGIN:VEVENT
DTSTART;TZID=America/New_York:20230605T190000
DTEND;TZID=America/New_York:20230605T190000
DTSTAMP:20260423T165401
CREATED:20230103T200734Z
LAST-MODIFIED:20230103T200734Z
UID:4391-1685991600-1685991600@www.mvcca.org
SUMMARY:Transportation Committee Meeting
DESCRIPTION:
URL:https://www.mvcca.org/event/transportation-committee-meeting-6/
LOCATION:Zoom Meeting
CATEGORIES:Committee,Meetings,Transportation
END:VEVENT
BEGIN:VEVENT
DTSTART;TZID=America/New_York:20230508T190000
DTEND;TZID=America/New_York:20230508T190000
DTSTAMP:20260423T165401
CREATED:20230103T200654Z
LAST-MODIFIED:20230426T155720Z
UID:4389-1683572400-1683572400@www.mvcca.org
SUMMARY:Transportation Committee Meeting
DESCRIPTION:
URL:https://www.mvcca.org/event/transportation-committee-meeting-5/
LOCATION:Zoom Meeting
CATEGORIES:Committee,Meetings,Transportation
END:VEVENT
BEGIN:VEVENT
DTSTART;TZID=America/New_York:20230403T190000
DTEND;TZID=America/New_York:20230403T190000
DTSTAMP:20260423T165401
CREATED:20230103T200438Z
LAST-MODIFIED:20230103T200438Z
UID:4387-1680548400-1680548400@www.mvcca.org
SUMMARY:Transportation Committee Meeting
DESCRIPTION:
URL:https://www.mvcca.org/event/transportation-committee-meeting-4/
LOCATION:Zoom Meeting
CATEGORIES:Committee,Meetings,Transportation
END:VEVENT
BEGIN:VEVENT
DTSTART;TZID=America/New_York:20230306T190000
DTEND;TZID=America/New_York:20230306T190000
DTSTAMP:20260423T165401
CREATED:20230103T200344Z
LAST-MODIFIED:20230103T200503Z
UID:4385-1678129200-1678129200@www.mvcca.org
SUMMARY:Transportation Committee Meeting
DESCRIPTION:
URL:https://www.mvcca.org/event/transportation-committee-meeting-3/
LOCATION:Zoom Meeting
CATEGORIES:Committee,Meetings,Transportation
END:VEVENT
BEGIN:VEVENT
DTSTART;TZID=America/New_York:20230206T190000
DTEND;TZID=America/New_York:20230206T190000
DTSTAMP:20260423T165401
CREATED:20230103T170453Z
LAST-MODIFIED:20230113T165302Z
UID:4383-1675710000-1675710000@www.mvcca.org
SUMMARY:Transportation/Public Safety Committee Meeting
DESCRIPTION:
URL:https://www.mvcca.org/event/transportation-committee-meeting-2/
LOCATION:Zoom Meeting
CATEGORIES:Committee,Meetings,Public Safety,Transportation
END:VEVENT
BEGIN:VEVENT
DTSTART;TZID=America/New_York:20230109T190000
DTEND;TZID=America/New_York:20230109T190000
DTSTAMP:20260423T165401
CREATED:20230103T170420Z
LAST-MODIFIED:20230103T170420Z
UID:4381-1673290800-1673290800@www.mvcca.org
SUMMARY:Transportation Committee Meeting
DESCRIPTION:
URL:https://www.mvcca.org/event/transportation-committee-meeting/
LOCATION:Zoom Meeting
CATEGORIES:Committee,Meetings,Transportation
END:VEVENT
BEGIN:VEVENT
DTSTART;TZID=America/New_York:20221205T190000
DTEND;TZID=America/New_York:20221205T190000
DTSTAMP:20260423T165401
CREATED:20211231T152643Z
LAST-MODIFIED:20211231T152643Z
UID:3983-1670266800-1670266800@www.mvcca.org
SUMMARY:Transportation
DESCRIPTION:
URL:https://www.mvcca.org/event/transportation-77/
LOCATION:Zoom Meeting
CATEGORIES:Committee,Meetings,Transportation
END:VEVENT
BEGIN:VEVENT
DTSTART;TZID=America/New_York:20221107T190000
DTEND;TZID=America/New_York:20221107T190000
DTSTAMP:20260423T165401
CREATED:20211231T152547Z
LAST-MODIFIED:20211231T152547Z
UID:3981-1667847600-1667847600@www.mvcca.org
SUMMARY:Transportation
DESCRIPTION:
URL:https://www.mvcca.org/event/transportation-76/
LOCATION:Zoom Meeting
CATEGORIES:Committee,Meetings,Transportation
END:VEVENT
BEGIN:VEVENT
DTSTART;TZID=America/New_York:20221003T190000
DTEND;TZID=America/New_York:20221003T190000
DTSTAMP:20260423T165401
CREATED:20211231T152507Z
LAST-MODIFIED:20211231T152507Z
UID:3979-1664823600-1664823600@www.mvcca.org
SUMMARY:Transportation
DESCRIPTION:
URL:https://www.mvcca.org/event/transportation-75/
LOCATION:Zoom Meeting
CATEGORIES:Committee,Meetings,Transportation
END:VEVENT
BEGIN:VEVENT
DTSTART;TZID=America/New_York:20220829T190000
DTEND;TZID=America/New_York:20220829T190000
DTSTAMP:20260423T165401
CREATED:20211231T152418Z
LAST-MODIFIED:20211231T152418Z
UID:3977-1661799600-1661799600@www.mvcca.org
SUMMARY:Transportation
DESCRIPTION:
URL:https://www.mvcca.org/event/transportation-74/
LOCATION:Zoom Meeting
CATEGORIES:Committee,Meetings,Transportation
END:VEVENT
BEGIN:VEVENT
DTSTART;TZID=America/New_York:20220711T190000
DTEND;TZID=America/New_York:20220711T190000
DTSTAMP:20260423T165401
CREATED:20211231T152335Z
LAST-MODIFIED:20211231T152335Z
UID:3975-1657566000-1657566000@www.mvcca.org
SUMMARY:Transportation
DESCRIPTION:
URL:https://www.mvcca.org/event/transportation-73/
LOCATION:Zoom Meeting
CATEGORIES:Committee,Meetings,Transportation
END:VEVENT
BEGIN:VEVENT
DTSTART;TZID=America/New_York:20220606T190000
DTEND;TZID=America/New_York:20220606T190000
DTSTAMP:20260423T165401
CREATED:20211231T152252Z
LAST-MODIFIED:20211231T152252Z
UID:3973-1654542000-1654542000@www.mvcca.org
SUMMARY:Transportation
DESCRIPTION:
URL:https://www.mvcca.org/event/transportation-72/
LOCATION:Zoom Meeting
CATEGORIES:Committee,Meetings,Transportation
END:VEVENT
BEGIN:VEVENT
DTSTART;TZID=America/New_York:20220502T190000
DTEND;TZID=America/New_York:20220502T190000
DTSTAMP:20260423T165401
CREATED:20211231T152207Z
LAST-MODIFIED:20211231T152207Z
UID:3971-1651518000-1651518000@www.mvcca.org
SUMMARY:Transportation
DESCRIPTION:
URL:https://www.mvcca.org/event/transportation-71/
LOCATION:Zoom Meeting
CATEGORIES:Committee,Meetings,Transportation
END:VEVENT
BEGIN:VEVENT
DTSTART;TZID=America/New_York:20220404T190000
DTEND;TZID=America/New_York:20220404T190000
DTSTAMP:20260423T165401
CREATED:20211231T152121Z
LAST-MODIFIED:20211231T152121Z
UID:3969-1649098800-1649098800@www.mvcca.org
SUMMARY:Transportation
DESCRIPTION:
URL:https://www.mvcca.org/event/transportation-70/
LOCATION:Zoom Meeting
CATEGORIES:Committee,Meetings,Transportation
END:VEVENT
BEGIN:VEVENT
DTSTART;TZID=America/New_York:20220307T190000
DTEND;TZID=America/New_York:20220307T190000
DTSTAMP:20260423T165401
CREATED:20211231T151446Z
LAST-MODIFIED:20211231T151446Z
UID:3967-1646679600-1646679600@www.mvcca.org
SUMMARY:Transportation
DESCRIPTION:
URL:https://www.mvcca.org/event/transportation-69/
LOCATION:Zoom Meeting
CATEGORIES:Committee,Meetings,Transportation
END:VEVENT
BEGIN:VEVENT
DTSTART;TZID=America/New_York:20220207T190000
DTEND;TZID=America/New_York:20220207T190000
DTSTAMP:20260423T165401
CREATED:20211229T191938Z
LAST-MODIFIED:20211229T191938Z
UID:3935-1644260400-1644260400@www.mvcca.org
SUMMARY:Transportation
DESCRIPTION:
URL:https://www.mvcca.org/event/transportation-68/
LOCATION:Zoom Meeting
CATEGORIES:Committee,Meetings,Transportation
END:VEVENT
BEGIN:VEVENT
DTSTART;TZID=America/New_York:20220110T190000
DTEND;TZID=America/New_York:20220110T190000
DTSTAMP:20260423T165401
CREATED:20211229T162248Z
LAST-MODIFIED:20211229T162248Z
UID:3921-1641841200-1641841200@www.mvcca.org
SUMMARY:Transportation
DESCRIPTION:
URL:https://www.mvcca.org/event/transportation-67/
LOCATION:Zoom Meeting
CATEGORIES:Committee,Meetings,Transportation
END:VEVENT
BEGIN:VEVENT
DTSTART;TZID=America/New_York:20211206T190000
DTEND;TZID=America/New_York:20211206T190000
DTSTAMP:20260423T165401
CREATED:20201211T153136Z
LAST-MODIFIED:20201211T153258Z
UID:3440-1638817200-1638817200@www.mvcca.org
SUMMARY:Transportation
DESCRIPTION:
URL:https://www.mvcca.org/event/transportation-66/
LOCATION:Zoom Meeting
CATEGORIES:Committee,Meetings,Transportation
END:VEVENT
BEGIN:VEVENT
DTSTART;TZID=America/New_York:20211108T190000
DTEND;TZID=America/New_York:20211108T190000
DTSTAMP:20260423T165401
CREATED:20201211T153052Z
LAST-MODIFIED:20201211T153052Z
UID:3438-1636398000-1636398000@www.mvcca.org
SUMMARY:Transportation
DESCRIPTION:
URL:https://www.mvcca.org/event/transportation-65/
LOCATION:Zoom Meeting
CATEGORIES:Meetings,Transportation
END:VEVENT
BEGIN:VEVENT
DTSTART;TZID=America/New_York:20211004T190000
DTEND;TZID=America/New_York:20211004T190000
DTSTAMP:20260423T165401
CREATED:20201211T153012Z
LAST-MODIFIED:20201211T153012Z
UID:3436-1633374000-1633374000@www.mvcca.org
SUMMARY:Transportation
DESCRIPTION:
URL:https://www.mvcca.org/event/transportation-64/
LOCATION:Zoom Meeting
CATEGORIES:Committee,Meetings,Transportation
END:VEVENT
BEGIN:VEVENT
DTSTART;TZID=America/New_York:20210913T070000
DTEND;TZID=America/New_York:20210913T070000
DTSTAMP:20260423T165401
CREATED:20210107T130143Z
LAST-MODIFIED:20210823T195153Z
UID:3577-1631516400-1631516400@www.mvcca.org
SUMMARY:Planning & Zoning Joint Meeting w/Transportation
DESCRIPTION:
URL:https://www.mvcca.org/event/planning-zoning-62/
LOCATION:Zoom Meeting
CATEGORIES:Meetings,Planning & Zoning,Transportation
END:VEVENT
BEGIN:VEVENT
DTSTART;TZID=America/New_York:20210830T190000
DTEND;TZID=America/New_York:20210830T190000
DTSTAMP:20260423T165401
CREATED:20201211T152935Z
LAST-MODIFIED:20210823T195018Z
UID:3434-1630350000-1630350000@www.mvcca.org
SUMMARY:Transportation - CANCELLED
DESCRIPTION:
URL:https://www.mvcca.org/event/transportation-63/
LOCATION:Zoom Meeting
CATEGORIES:Committee,Meetings,Transportation
END:VEVENT
END:VCALENDAR