BEGIN:VCALENDAR
VERSION:2.0
PRODID:-//Mount Vernon Council of Citizens&#039; Associations, Inc. - ECPv6.15.20//NONSGML v1.0//EN
CALSCALE:GREGORIAN
METHOD:PUBLISH
X-ORIGINAL-URL:https://www.mvcca.org
X-WR-CALDESC:Events for Mount Vernon Council of Citizens&#039; Associations, Inc.
REFRESH-INTERVAL;VALUE=DURATION:PT1H
X-Robots-Tag:noindex
X-PUBLISHED-TTL:PT1H
BEGIN:VTIMEZONE
TZID:America/New_York
BEGIN:DAYLIGHT
TZOFFSETFROM:-0500
TZOFFSETTO:-0400
TZNAME:EDT
DTSTART:20170312T070000
END:DAYLIGHT
BEGIN:STANDARD
TZOFFSETFROM:-0400
TZOFFSETTO:-0500
TZNAME:EST
DTSTART:20171105T060000
END:STANDARD
BEGIN:DAYLIGHT
TZOFFSETFROM:-0500
TZOFFSETTO:-0400
TZNAME:EDT
DTSTART:20180311T070000
END:DAYLIGHT
BEGIN:STANDARD
TZOFFSETFROM:-0400
TZOFFSETTO:-0500
TZNAME:EST
DTSTART:20181104T060000
END:STANDARD
BEGIN:DAYLIGHT
TZOFFSETFROM:-0500
TZOFFSETTO:-0400
TZNAME:EDT
DTSTART:20190310T070000
END:DAYLIGHT
BEGIN:STANDARD
TZOFFSETFROM:-0400
TZOFFSETTO:-0500
TZNAME:EST
DTSTART:20191103T060000
END:STANDARD
BEGIN:DAYLIGHT
TZOFFSETFROM:-0500
TZOFFSETTO:-0400
TZNAME:EDT
DTSTART:20200308T070000
END:DAYLIGHT
BEGIN:STANDARD
TZOFFSETFROM:-0400
TZOFFSETTO:-0500
TZNAME:EST
DTSTART:20201101T060000
END:STANDARD
END:VTIMEZONE
BEGIN:VEVENT
DTSTART;TZID=America/New_York:20191007T190000
DTEND;TZID=America/New_York:20191007T190000
DTSTAMP:20260423T234259
CREATED:20181214T173042Z
LAST-MODIFIED:20190108T141251Z
UID:2568-1570474800-1570474800@www.mvcca.org
SUMMARY:Transportation
DESCRIPTION:
URL:https://www.mvcca.org/event/transportation-42/
LOCATION:Mount Vernon Government Center\, 2511 Parkers Lane\, Alexandria\, 22306\, United States
CATEGORIES:Transportation
END:VEVENT
BEGIN:VEVENT
DTSTART;TZID=America/New_York:20190909T190000
DTEND;TZID=America/New_York:20190909T190000
DTSTAMP:20260423T234259
CREATED:20181214T172942Z
LAST-MODIFIED:20190614T202742Z
UID:2566-1568055600-1568055600@www.mvcca.org
SUMMARY:Transportation
DESCRIPTION:
URL:https://www.mvcca.org/event/transportation-41/
LOCATION:Mount Vernon Government Center\, 2511 Parkers Lane\, Alexandria\, 22306\, United States
CATEGORIES:Transportation
END:VEVENT
BEGIN:VEVENT
DTSTART;TZID=America/New_York:20190708T190000
DTEND;TZID=America/New_York:20190708T190000
DTSTAMP:20260423T234259
CREATED:20181214T172857Z
LAST-MODIFIED:20190614T202926Z
UID:2564-1562612400-1562612400@www.mvcca.org
SUMMARY:Transportation
DESCRIPTION:
URL:https://www.mvcca.org/event/transportation-40/
LOCATION:Mount Vernon Government Center\, 2511 Parkers Lane\, Alexandria\, 22306\, United States
CATEGORIES:Transportation
END:VEVENT
BEGIN:VEVENT
DTSTART;TZID=America/New_York:20190603T190000
DTEND;TZID=America/New_York:20190603T190000
DTSTAMP:20260423T234259
CREATED:20181214T172810Z
LAST-MODIFIED:20190531T205311Z
UID:2562-1559588400-1559588400@www.mvcca.org
SUMMARY:Transportation - CANCELLED
DESCRIPTION:
URL:https://www.mvcca.org/event/transportation-39/
LOCATION:Mount Vernon Government Center\, 2511 Parkers Lane\, Alexandria\, 22306\, United States
CATEGORIES:Transportation
END:VEVENT
BEGIN:VEVENT
DTSTART;TZID=America/New_York:20190506T190000
DTEND;TZID=America/New_York:20190506T190000
DTSTAMP:20260423T234259
CREATED:20181214T172728Z
LAST-MODIFIED:20190108T141103Z
UID:2560-1557169200-1557169200@www.mvcca.org
SUMMARY:Transportation
DESCRIPTION:
URL:https://www.mvcca.org/event/transportation-38/
LOCATION:Mount Vernon Government Center\, 2511 Parkers Lane\, Alexandria\, 22306\, United States
CATEGORIES:Transportation
END:VEVENT
BEGIN:VEVENT
DTSTART;TZID=America/New_York:20190401T190000
DTEND;TZID=America/New_York:20190401T190000
DTSTAMP:20260423T234259
CREATED:20181214T172647Z
LAST-MODIFIED:20190108T141035Z
UID:2558-1554145200-1554145200@www.mvcca.org
SUMMARY:Transportation
DESCRIPTION:
URL:https://www.mvcca.org/event/transportation-37/
LOCATION:Mount Vernon Government Center\, 2511 Parkers Lane\, Alexandria\, 22306\, United States
CATEGORIES:Transportation
END:VEVENT
BEGIN:VEVENT
DTSTART;TZID=America/New_York:20190304T190000
DTEND;TZID=America/New_York:20190304T190000
DTSTAMP:20260423T234259
CREATED:20181214T172611Z
LAST-MODIFIED:20190108T140931Z
UID:2556-1551726000-1551726000@www.mvcca.org
SUMMARY:Transportation
DESCRIPTION:
URL:https://www.mvcca.org/event/transportation-36/
LOCATION:Mount Vernon Government Center\, 2511 Parkers Lane\, Alexandria\, 22306\, United States
CATEGORIES:Transportation
END:VEVENT
BEGIN:VEVENT
DTSTART;TZID=America/New_York:20190204T190000
DTEND;TZID=America/New_York:20190204T190000
DTSTAMP:20260423T234259
CREATED:20181214T172525Z
LAST-MODIFIED:20190108T140854Z
UID:2554-1549306800-1549306800@www.mvcca.org
SUMMARY:Transportation
DESCRIPTION:
URL:https://www.mvcca.org/event/transportation-35/
LOCATION:Mount Vernon Government Center\, 2511 Parkers Lane\, Alexandria\, 22306\, United States
CATEGORIES:Transportation
END:VEVENT
BEGIN:VEVENT
DTSTART;TZID=America/New_York:20190107T190000
DTEND;TZID=America/New_York:20190107T190000
DTSTAMP:20260423T234259
CREATED:20181214T165447Z
LAST-MODIFIED:20190104T160106Z
UID:2520-1546887600-1546887600@www.mvcca.org
SUMMARY:Transportation
DESCRIPTION:
URL:https://www.mvcca.org/event/transportation-34/
LOCATION:Mount Vernon Government Center\, 2511 Parkers Lane\, Alexandria\, 22306\, United States
CATEGORIES:Transportation
END:VEVENT
BEGIN:VEVENT
DTSTART;TZID=America/New_York:20181203T190000
DTEND;TZID=America/New_York:20181203T190000
DTSTAMP:20260423T234259
CREATED:20171227T195050Z
LAST-MODIFIED:20180504T200844Z
UID:1823-1543863600-1543863600@www.mvcca.org
SUMMARY:Transportation
DESCRIPTION:
URL:https://www.mvcca.org/event/transportation-31/
LOCATION:Mount Vernon Government Center\, 2511 Parkers Lane\, Alexandria\, 22306\, United States
CATEGORIES:Committee,Meetings,Transportation
END:VEVENT
BEGIN:VEVENT
DTSTART;TZID=America/New_York:20181105T190000
DTEND;TZID=America/New_York:20181105T190000
DTSTAMP:20260423T234259
CREATED:20171227T195049Z
LAST-MODIFIED:20181104T151320Z
UID:1822-1541444400-1541444400@www.mvcca.org
SUMMARY:Transportation - Please note change of location
DESCRIPTION:
URL:https://www.mvcca.org/event/transportation-30/
LOCATION:South County Center\, Room 221A-B\, 8350 Richmond Highway\, Alexandria\, 22309\, United States
CATEGORIES:Committee,Meetings,Transportation
END:VEVENT
BEGIN:VEVENT
DTSTART;TZID=America/New_York:20181009T190000
DTEND;TZID=America/New_York:20181009T190000
DTSTAMP:20260423T234259
CREATED:20171227T195047Z
LAST-MODIFIED:20181009T204334Z
UID:1821-1539111600-1539111600@www.mvcca.org
SUMMARY:Transportation
DESCRIPTION:
URL:https://www.mvcca.org/event/transportation-29/
LOCATION:South County Center\, Room 221-C\, 8350 Richmond Highway\, Alexandria\, 22309
CATEGORIES:Committee,Meetings,Transportation
END:VEVENT
BEGIN:VEVENT
DTSTART;TZID=America/New_York:20180910T190000
DTEND;TZID=America/New_York:20180910T190000
DTSTAMP:20260423T234259
CREATED:20171227T195046Z
LAST-MODIFIED:20180504T201127Z
UID:1820-1536606000-1536606000@www.mvcca.org
SUMMARY:Transportation
DESCRIPTION:
URL:https://www.mvcca.org/event/transportation-28/
LOCATION:Mount Vernon Government Center\, 2511 Parkers Lane\, Alexandria\, 22306\, United States
CATEGORIES:Committee,Meetings,Transportation
END:VEVENT
BEGIN:VEVENT
DTSTART;TZID=America/New_York:20180709T190000
DTEND;TZID=America/New_York:20180709T190000
DTSTAMP:20260423T234259
CREATED:20180504T143558Z
LAST-MODIFIED:20180504T143558Z
UID:2306-1531162800-1531162800@www.mvcca.org
SUMMARY:Transportation
DESCRIPTION:
URL:https://www.mvcca.org/event/transportation-33/
LOCATION:Mount Vernon Government Center\, 2511 Parkers Lane\, Alexandria\, 22306\, United States
CATEGORIES:Committee,Meetings,Transportation
END:VEVENT
BEGIN:VEVENT
DTSTART;TZID=America/New_York:20180604T190000
DTEND;TZID=America/New_York:20180604T190000
DTSTAMP:20260423T234259
CREATED:20171227T195045Z
LAST-MODIFIED:20180504T201247Z
UID:1818-1528138800-1528138800@www.mvcca.org
SUMMARY:Transportation
DESCRIPTION:
URL:https://www.mvcca.org/event/transportation-26/
LOCATION:Mount Vernon Government Center\, 2511 Parkers Lane\, Alexandria\, 22306\, United States
CATEGORIES:Committee,Meetings,Transportation
END:VEVENT
BEGIN:VEVENT
DTSTART;TZID=America/New_York:20180507T190000
DTEND;TZID=America/New_York:20180507T190000
DTSTAMP:20260423T234259
CREATED:20171227T195045Z
LAST-MODIFIED:20180504T201357Z
UID:1817-1525719600-1525719600@www.mvcca.org
SUMMARY:Transportation
DESCRIPTION:
URL:https://www.mvcca.org/event/transportation-25/
LOCATION:Mount Vernon Government Center\, 2511 Parkers Lane\, Alexandria\, 22306\, United States
CATEGORIES:Committee,Meetings,Transportation
END:VEVENT
BEGIN:VEVENT
DTSTART;TZID=America/New_York:20180402T190000
DTEND;TZID=America/New_York:20180402T193000
DTSTAMP:20260423T234259
CREATED:20180330T230042Z
LAST-MODIFIED:20180403T135400Z
UID:2277-1522695600-1522697400@www.mvcca.org
SUMMARY:Transportation
DESCRIPTION:
URL:https://www.mvcca.org/event/transportation-32/
LOCATION:Mount Vernon Government Center\, 2511 Parkers Lane\, Alexandria\, 22306\, United States
CATEGORIES:Committee,Meetings,Transportation
END:VEVENT
END:VCALENDAR