BEGIN:VCALENDAR
VERSION:2.0
PRODID:-//Mount Vernon Council of Citizens&#039; Associations, Inc. - ECPv6.15.20//NONSGML v1.0//EN
CALSCALE:GREGORIAN
METHOD:PUBLISH
X-WR-CALNAME:Mount Vernon Council of Citizens&#039; Associations, Inc.
X-ORIGINAL-URL:https://www.mvcca.org
X-WR-CALDESC:Events for Mount Vernon Council of Citizens&#039; Associations, Inc.
REFRESH-INTERVAL;VALUE=DURATION:PT1H
X-Robots-Tag:noindex
X-PUBLISHED-TTL:PT1H
BEGIN:VTIMEZONE
TZID:America/New_York
BEGIN:DAYLIGHT
TZOFFSETFROM:-0500
TZOFFSETTO:-0400
TZNAME:EDT
DTSTART:20250309T070000
END:DAYLIGHT
BEGIN:STANDARD
TZOFFSETFROM:-0400
TZOFFSETTO:-0500
TZNAME:EST
DTSTART:20251102T060000
END:STANDARD
BEGIN:DAYLIGHT
TZOFFSETFROM:-0500
TZOFFSETTO:-0400
TZNAME:EDT
DTSTART:20260308T070000
END:DAYLIGHT
BEGIN:STANDARD
TZOFFSETFROM:-0400
TZOFFSETTO:-0500
TZNAME:EST
DTSTART:20261101T060000
END:STANDARD
BEGIN:DAYLIGHT
TZOFFSETFROM:-0500
TZOFFSETTO:-0400
TZNAME:EDT
DTSTART:20270314T070000
END:DAYLIGHT
BEGIN:STANDARD
TZOFFSETFROM:-0400
TZOFFSETTO:-0500
TZNAME:EST
DTSTART:20271107T060000
END:STANDARD
END:VTIMEZONE
BEGIN:VEVENT
DTSTART;TZID=America/New_York:20260406T190000
DTEND;TZID=America/New_York:20260406T190000
DTSTAMP:20260423T200848
CREATED:20251229T021430Z
LAST-MODIFIED:20251229T021430Z
UID:6228-1775502000-1775502000@www.mvcca.org
SUMMARY:Budget & Finance Committee Meeting
DESCRIPTION:
URL:https://www.mvcca.org/event/budget-finance-committee-meeting-3/
LOCATION:Zoom Meeting
CATEGORIES:Budget & Finance
END:VEVENT
BEGIN:VEVENT
DTSTART;TZID=America/New_York:20260406T190000
DTEND;TZID=America/New_York:20260406T190000
DTSTAMP:20260423T200848
CREATED:20251229T021536Z
LAST-MODIFIED:20251229T021536Z
UID:6230-1775502000-1775502000@www.mvcca.org
SUMMARY:Planning & Zoning Committee Meeting
DESCRIPTION:
URL:https://www.mvcca.org/event/planning-zoning-committee-meeting-4/
LOCATION:Zoom Meeting
CATEGORIES:Planning & Zoning
END:VEVENT
END:VCALENDAR