BEGIN:VCALENDAR
VERSION:2.0
PRODID:-//Mount Vernon Council of Citizens&#039; Associations, Inc. - ECPv6.15.20//NONSGML v1.0//EN
CALSCALE:GREGORIAN
METHOD:PUBLISH
X-ORIGINAL-URL:https://www.mvcca.org
X-WR-CALDESC:Events for Mount Vernon Council of Citizens&#039; Associations, Inc.
REFRESH-INTERVAL;VALUE=DURATION:PT1H
X-Robots-Tag:noindex
X-PUBLISHED-TTL:PT1H
BEGIN:VTIMEZONE
TZID:America/New_York
BEGIN:DAYLIGHT
TZOFFSETFROM:-0500
TZOFFSETTO:-0400
TZNAME:EDT
DTSTART:20210314T070000
END:DAYLIGHT
BEGIN:STANDARD
TZOFFSETFROM:-0400
TZOFFSETTO:-0500
TZNAME:EST
DTSTART:20211107T060000
END:STANDARD
BEGIN:DAYLIGHT
TZOFFSETFROM:-0500
TZOFFSETTO:-0400
TZNAME:EDT
DTSTART:20220313T070000
END:DAYLIGHT
BEGIN:STANDARD
TZOFFSETFROM:-0400
TZOFFSETTO:-0500
TZNAME:EST
DTSTART:20221106T060000
END:STANDARD
BEGIN:DAYLIGHT
TZOFFSETFROM:-0500
TZOFFSETTO:-0400
TZNAME:EDT
DTSTART:20230312T070000
END:DAYLIGHT
BEGIN:STANDARD
TZOFFSETFROM:-0400
TZOFFSETTO:-0500
TZNAME:EST
DTSTART:20231105T060000
END:STANDARD
BEGIN:DAYLIGHT
TZOFFSETFROM:-0500
TZOFFSETTO:-0400
TZNAME:EDT
DTSTART:20240310T070000
END:DAYLIGHT
BEGIN:STANDARD
TZOFFSETFROM:-0400
TZOFFSETTO:-0500
TZNAME:EST
DTSTART:20241103T060000
END:STANDARD
BEGIN:DAYLIGHT
TZOFFSETFROM:-0500
TZOFFSETTO:-0400
TZNAME:EDT
DTSTART:20250309T070000
END:DAYLIGHT
BEGIN:STANDARD
TZOFFSETFROM:-0400
TZOFFSETTO:-0500
TZNAME:EST
DTSTART:20251102T060000
END:STANDARD
BEGIN:DAYLIGHT
TZOFFSETFROM:-0500
TZOFFSETTO:-0400
TZNAME:EDT
DTSTART:20260308T070000
END:DAYLIGHT
BEGIN:STANDARD
TZOFFSETFROM:-0400
TZOFFSETTO:-0500
TZNAME:EST
DTSTART:20261101T060000
END:STANDARD
END:VTIMEZONE
BEGIN:VEVENT
DTSTART;TZID=America/New_York:20250528T190000
DTEND;TZID=America/New_York:20250528T190000
DTSTAMP:20260423T150831
CREATED:20241114T212905Z
LAST-MODIFIED:20241114T212905Z
UID:5707-1748458800-1748458800@www.mvcca.org
SUMMARY:General Council Meeting
DESCRIPTION:
URL:https://www.mvcca.org/event/general-council-meeting-6/
LOCATION:Zoom Meeting
CATEGORIES:General Council
END:VEVENT
BEGIN:VEVENT
DTSTART;TZID=America/New_York:20250423T190000
DTEND;TZID=America/New_York:20250423T190000
DTSTAMP:20260423T150831
CREATED:20241114T212744Z
LAST-MODIFIED:20241114T212744Z
UID:5705-1745434800-1745434800@www.mvcca.org
SUMMARY:General Council Meeting
DESCRIPTION:
URL:https://www.mvcca.org/event/general-council-meeting-5/
LOCATION:Zoom Meeting
CATEGORIES:General Council
END:VEVENT
BEGIN:VEVENT
DTSTART;TZID=America/New_York:20250326T190000
DTEND;TZID=America/New_York:20250326T190000
DTSTAMP:20260423T150831
CREATED:20241114T212647Z
LAST-MODIFIED:20241114T212647Z
UID:5703-1743015600-1743015600@www.mvcca.org
SUMMARY:General Council Meeting
DESCRIPTION:
URL:https://www.mvcca.org/event/general-council-meeting-4/
LOCATION:Zoom Meeting
CATEGORIES:General Council
END:VEVENT
BEGIN:VEVENT
DTSTART;TZID=America/New_York:20250226T190000
DTEND;TZID=America/New_York:20250226T190000
DTSTAMP:20260423T150831
CREATED:20241114T212556Z
LAST-MODIFIED:20250212T131436Z
UID:5701-1740596400-1740596400@www.mvcca.org
SUMMARY:General Council Meeting - Cancelled to attend 2/25 Budget Town Hall
DESCRIPTION:
URL:https://www.mvcca.org/event/general-council-meeting-3/
LOCATION:Zoom Meeting
CATEGORIES:General Council
END:VEVENT
BEGIN:VEVENT
DTSTART;TZID=America/New_York:20250122T190000
DTEND;TZID=America/New_York:20250122T190000
DTSTAMP:20260423T150831
CREATED:20241114T212503Z
LAST-MODIFIED:20241114T212503Z
UID:5699-1737572400-1737572400@www.mvcca.org
SUMMARY:General Council Meeting
DESCRIPTION:
URL:https://www.mvcca.org/event/general-council-meeting-2/
LOCATION:Zoom Meeting
CATEGORIES:General Council
END:VEVENT
BEGIN:VEVENT
DTSTART;TZID=America/New_York:20241218T190000
DTEND;TZID=America/New_York:20241218T190000
DTSTAMP:20260423T150831
CREATED:20231201T190625Z
LAST-MODIFIED:20231201T190625Z
UID:4874-1734548400-1734548400@www.mvcca.org
SUMMARY:General Council Meeting
DESCRIPTION:
URL:https://www.mvcca.org/event/general-council-meeting-56/
LOCATION:Zoom Meeting
CATEGORIES:General Council
END:VEVENT
BEGIN:VEVENT
DTSTART;TZID=America/New_York:20241120T190000
DTEND;TZID=America/New_York:20241120T190000
DTSTAMP:20260423T150831
CREATED:20231201T190351Z
LAST-MODIFIED:20231201T190351Z
UID:4870-1732129200-1732129200@www.mvcca.org
SUMMARY:General Council Meeting
DESCRIPTION:
URL:https://www.mvcca.org/event/general-council-meeting-55/
LOCATION:Zoom Meeting
CATEGORIES:General Council
END:VEVENT
BEGIN:VEVENT
DTSTART;TZID=America/New_York:20241023T190000
DTEND;TZID=America/New_York:20241023T190000
DTSTAMP:20260423T150831
CREATED:20231201T190152Z
LAST-MODIFIED:20231201T190152Z
UID:4866-1729710000-1729710000@www.mvcca.org
SUMMARY:General Council Meeting
DESCRIPTION:
URL:https://www.mvcca.org/event/general-council-meeting-54/
LOCATION:Zoom Meeting
CATEGORIES:General Council
END:VEVENT
BEGIN:VEVENT
DTSTART;TZID=America/New_York:20240724T190000
DTEND;TZID=America/New_York:20240724T190000
DTSTAMP:20260423T150831
CREATED:20231201T185600Z
LAST-MODIFIED:20231201T185600Z
UID:4858-1721847600-1721847600@www.mvcca.org
SUMMARY:General Council Meeting
DESCRIPTION:
URL:https://www.mvcca.org/event/general-council-meeting-52/
LOCATION:Zoom Meeting
CATEGORIES:General Council
END:VEVENT
BEGIN:VEVENT
DTSTART;TZID=America/New_York:20240626T190000
DTEND;TZID=America/New_York:20240626T190000
DTSTAMP:20260423T150831
CREATED:20231201T185035Z
LAST-MODIFIED:20231201T185035Z
UID:4854-1719428400-1719428400@www.mvcca.org
SUMMARY:General Council Meeting
DESCRIPTION:
URL:https://www.mvcca.org/event/general-council-meeting-51/
LOCATION:Zoom Meeting
CATEGORIES:General Council
END:VEVENT
BEGIN:VEVENT
DTSTART;TZID=America/New_York:20240522T190000
DTEND;TZID=America/New_York:20240522T190000
DTSTAMP:20260423T150831
CREATED:20231201T184818Z
LAST-MODIFIED:20231201T184818Z
UID:4850-1716404400-1716404400@www.mvcca.org
SUMMARY:General Council Meeting
DESCRIPTION:
URL:https://www.mvcca.org/event/general-council-meeting-50/
LOCATION:Zoom Meeting
CATEGORIES:General Council
END:VEVENT
BEGIN:VEVENT
DTSTART;TZID=America/New_York:20240424T190000
DTEND;TZID=America/New_York:20240424T190000
DTSTAMP:20260423T150831
CREATED:20231201T184538Z
LAST-MODIFIED:20231201T184538Z
UID:4846-1713985200-1713985200@www.mvcca.org
SUMMARY:General Council Meeting
DESCRIPTION:
URL:https://www.mvcca.org/event/general-council-meeting-49/
LOCATION:Zoom Meeting
CATEGORIES:General Council
END:VEVENT
BEGIN:VEVENT
DTSTART;TZID=America/New_York:20240327T190000
DTEND;TZID=America/New_York:20240327T190000
DTSTAMP:20260423T150831
CREATED:20231201T184324Z
LAST-MODIFIED:20231201T184324Z
UID:4842-1711566000-1711566000@www.mvcca.org
SUMMARY:General Council Meeting
DESCRIPTION:
URL:https://www.mvcca.org/event/general-council-meeting-48/
LOCATION:Zoom Meeting
CATEGORIES:General Council
END:VEVENT
BEGIN:VEVENT
DTSTART;TZID=America/New_York:20240228T190000
DTEND;TZID=America/New_York:20240228T190000
DTSTAMP:20260423T150831
CREATED:20231201T183813Z
LAST-MODIFIED:20231201T183813Z
UID:4835-1709146800-1709146800@www.mvcca.org
SUMMARY:General Council Meeting
DESCRIPTION:
URL:https://www.mvcca.org/event/general-council-meeting-47/
LOCATION:Zoom Meeting
CATEGORIES:General Council
END:VEVENT
BEGIN:VEVENT
DTSTART;TZID=America/New_York:20240124T190000
DTEND;TZID=America/New_York:20240124T190000
DTSTAMP:20260423T150831
CREATED:20231109T133702Z
LAST-MODIFIED:20231201T185232Z
UID:4808-1706122800-1706122800@www.mvcca.org
SUMMARY:General Council Meeting
DESCRIPTION:
URL:https://www.mvcca.org/event/general-council-meeting-46/
LOCATION:Zoom Meeting
CATEGORIES:General Council
END:VEVENT
BEGIN:VEVENT
DTSTART;TZID=America/New_York:20231220T190000
DTEND;TZID=America/New_York:20231220T190000
DTSTAMP:20260423T150831
CREATED:20230103T201719Z
LAST-MODIFIED:20230103T201719Z
UID:4419-1703098800-1703098800@www.mvcca.org
SUMMARY:General Council Meeting
DESCRIPTION:
URL:https://www.mvcca.org/event/general-council-meeting-45/
LOCATION:Zoom Meeting
CATEGORIES:General Council,Meetings
END:VEVENT
BEGIN:VEVENT
DTSTART;TZID=America/New_York:20231115T190000
DTEND;TZID=America/New_York:20231115T190000
DTSTAMP:20260423T150831
CREATED:20230103T201642Z
LAST-MODIFIED:20231019T122958Z
UID:4417-1700074800-1700074800@www.mvcca.org
SUMMARY:General Council Meeting
DESCRIPTION:
URL:https://www.mvcca.org/event/general-council-meeting-44/
LOCATION:Zoom Meeting
CATEGORIES:General Council,Meetings
END:VEVENT
BEGIN:VEVENT
DTSTART;TZID=America/New_York:20231025T190000
DTEND;TZID=America/New_York:20231025T190000
DTSTAMP:20260423T150831
CREATED:20230103T201613Z
LAST-MODIFIED:20230103T201613Z
UID:4415-1698260400-1698260400@www.mvcca.org
SUMMARY:General Council Meeting
DESCRIPTION:
URL:https://www.mvcca.org/event/general-council-meeting-43/
LOCATION:Zoom Meeting
CATEGORIES:General Council,Meetings
END:VEVENT
BEGIN:VEVENT
DTSTART;TZID=America/New_York:20230927T190000
DTEND;TZID=America/New_York:20230927T190000
DTSTAMP:20260423T150831
CREATED:20230103T201545Z
LAST-MODIFIED:20230103T201545Z
UID:4413-1695841200-1695841200@www.mvcca.org
SUMMARY:General Council Meeting
DESCRIPTION:
URL:https://www.mvcca.org/event/general-council-meeting-42/
LOCATION:Zoom Meeting
CATEGORIES:General Council,Meetings
END:VEVENT
BEGIN:VEVENT
DTSTART;TZID=America/New_York:20230726T190000
DTEND;TZID=America/New_York:20230726T190000
DTSTAMP:20260423T150831
CREATED:20230103T201509Z
LAST-MODIFIED:20230608T114511Z
UID:4411-1690398000-1690398000@www.mvcca.org
SUMMARY:General Council Meeting
DESCRIPTION:
URL:https://www.mvcca.org/event/general-council-meeting-41/
LOCATION:Zoom Meeting
CATEGORIES:General Council,Meetings
END:VEVENT
BEGIN:VEVENT
DTSTART;TZID=America/New_York:20230628T190000
DTEND;TZID=America/New_York:20230628T190000
DTSTAMP:20260423T150831
CREATED:20230103T201443Z
LAST-MODIFIED:20230103T201443Z
UID:4409-1687978800-1687978800@www.mvcca.org
SUMMARY:General Council Meeting
DESCRIPTION:
URL:https://www.mvcca.org/event/general-council-meeting-40/
LOCATION:Zoom Meeting
CATEGORIES:General Council,Meetings
END:VEVENT
BEGIN:VEVENT
DTSTART;TZID=America/New_York:20230524T190000
DTEND;TZID=America/New_York:20230524T190000
DTSTAMP:20260423T150831
CREATED:20230103T201401Z
LAST-MODIFIED:20230103T201401Z
UID:4407-1684954800-1684954800@www.mvcca.org
SUMMARY:General Council Meeting
DESCRIPTION:
URL:https://www.mvcca.org/event/general-council-meeting-39/
LOCATION:Zoom Meeting
CATEGORIES:General Council,Meetings
END:VEVENT
BEGIN:VEVENT
DTSTART;TZID=America/New_York:20230426T190000
DTEND;TZID=America/New_York:20230426T190000
DTSTAMP:20260423T150831
CREATED:20230103T201325Z
LAST-MODIFIED:20230103T201325Z
UID:4405-1682535600-1682535600@www.mvcca.org
SUMMARY:General Council Meeting
DESCRIPTION:
URL:https://www.mvcca.org/event/general-council-meeting-38/
LOCATION:Zoom Meeting
CATEGORIES:General Council,Meetings
END:VEVENT
BEGIN:VEVENT
DTSTART;TZID=America/New_York:20230322T190000
DTEND;TZID=America/New_York:20230322T190000
DTSTAMP:20260423T150831
CREATED:20230103T201239Z
LAST-MODIFIED:20230103T201239Z
UID:4403-1679511600-1679511600@www.mvcca.org
SUMMARY:General Council Meeting
DESCRIPTION:
URL:https://www.mvcca.org/event/general-council-meeting-37/
LOCATION:Zoom Meeting
CATEGORIES:General Council,Meetings
END:VEVENT
BEGIN:VEVENT
DTSTART;TZID=America/New_York:20230222T190000
DTEND;TZID=America/New_York:20230222T190000
DTSTAMP:20260423T150831
CREATED:20230103T170136Z
LAST-MODIFIED:20230103T170136Z
UID:4375-1677092400-1677092400@www.mvcca.org
SUMMARY:General Council Meeting
DESCRIPTION:
URL:https://www.mvcca.org/event/general-council-meeting-36/
LOCATION:Zoom Meeting
CATEGORIES:General Council,Meetings
END:VEVENT
BEGIN:VEVENT
DTSTART;TZID=America/New_York:20230125T190000
DTEND;TZID=America/New_York:20230125T190000
DTSTAMP:20260423T150831
CREATED:20230103T170058Z
LAST-MODIFIED:20230103T170058Z
UID:4373-1674673200-1674673200@www.mvcca.org
SUMMARY:General Council Meeting
DESCRIPTION:
URL:https://www.mvcca.org/event/general-council-meeting-35/
LOCATION:Zoom Meeting
CATEGORIES:General Council,Meetings
END:VEVENT
BEGIN:VEVENT
DTSTART;TZID=America/New_York:20221214T190000
DTEND;TZID=America/New_York:20221214T190000
DTSTAMP:20260423T150831
CREATED:20211231T163007Z
LAST-MODIFIED:20211231T163007Z
UID:4074-1671044400-1671044400@www.mvcca.org
SUMMARY:General Council
DESCRIPTION:
URL:https://www.mvcca.org/event/general-council-43/
LOCATION:Zoom Meeting
CATEGORIES:General Council,Meetings
END:VEVENT
BEGIN:VEVENT
DTSTART;TZID=America/New_York:20221116T190000
DTEND;TZID=America/New_York:20221116T190000
DTSTAMP:20260423T150831
CREATED:20211231T162930Z
LAST-MODIFIED:20211231T162930Z
UID:4072-1668625200-1668625200@www.mvcca.org
SUMMARY:General Council
DESCRIPTION:
URL:https://www.mvcca.org/event/general-council-42/
LOCATION:Zoom Meeting
CATEGORIES:General Council,Meetings
END:VEVENT
BEGIN:VEVENT
DTSTART;TZID=America/New_York:20221026T190000
DTEND;TZID=America/New_York:20221026T190000
DTSTAMP:20260423T150831
CREATED:20211231T162847Z
LAST-MODIFIED:20211231T162847Z
UID:4070-1666810800-1666810800@www.mvcca.org
SUMMARY:General Council
DESCRIPTION:
URL:https://www.mvcca.org/event/general-council-41/
LOCATION:Zoom Meeting
CATEGORIES:General Council,Meetings
END:VEVENT
BEGIN:VEVENT
DTSTART;TZID=America/New_York:20220928T190000
DTEND;TZID=America/New_York:20220928T190000
DTSTAMP:20260423T150831
CREATED:20211231T162811Z
LAST-MODIFIED:20211231T162811Z
UID:4068-1664391600-1664391600@www.mvcca.org
SUMMARY:General Council
DESCRIPTION:
URL:https://www.mvcca.org/event/general-council-40/
LOCATION:Zoom Meeting
CATEGORIES:General Council,Meetings
END:VEVENT
END:VCALENDAR