BEGIN:VCALENDAR
VERSION:2.0
PRODID:-//Mount Vernon Council of Citizens&#039; Associations, Inc. - ECPv6.15.20//NONSGML v1.0//EN
CALSCALE:GREGORIAN
METHOD:PUBLISH
X-WR-CALNAME:Mount Vernon Council of Citizens&#039; Associations, Inc.
X-ORIGINAL-URL:https://www.mvcca.org
X-WR-CALDESC:Events for Mount Vernon Council of Citizens&#039; Associations, Inc.
REFRESH-INTERVAL;VALUE=DURATION:PT1H
X-Robots-Tag:noindex
X-PUBLISHED-TTL:PT1H
BEGIN:VTIMEZONE
TZID:America/New_York
BEGIN:DAYLIGHT
TZOFFSETFROM:-0500
TZOFFSETTO:-0400
TZNAME:EDT
DTSTART:20170312T070000
END:DAYLIGHT
BEGIN:STANDARD
TZOFFSETFROM:-0400
TZOFFSETTO:-0500
TZNAME:EST
DTSTART:20171105T060000
END:STANDARD
BEGIN:DAYLIGHT
TZOFFSETFROM:-0500
TZOFFSETTO:-0400
TZNAME:EDT
DTSTART:20180311T070000
END:DAYLIGHT
BEGIN:STANDARD
TZOFFSETFROM:-0400
TZOFFSETTO:-0500
TZNAME:EST
DTSTART:20181104T060000
END:STANDARD
BEGIN:DAYLIGHT
TZOFFSETFROM:-0500
TZOFFSETTO:-0400
TZNAME:EDT
DTSTART:20190310T070000
END:DAYLIGHT
BEGIN:STANDARD
TZOFFSETFROM:-0400
TZOFFSETTO:-0500
TZNAME:EST
DTSTART:20191103T060000
END:STANDARD
BEGIN:DAYLIGHT
TZOFFSETFROM:-0500
TZOFFSETTO:-0400
TZNAME:EDT
DTSTART:20200308T070000
END:DAYLIGHT
BEGIN:STANDARD
TZOFFSETFROM:-0400
TZOFFSETTO:-0500
TZNAME:EST
DTSTART:20201101T060000
END:STANDARD
END:VTIMEZONE
BEGIN:VEVENT
DTSTART;TZID=America/New_York:20191120T190000
DTEND;TZID=America/New_York:20191120T190000
DTSTAMP:20260423T222952
CREATED:20190711T182247Z
LAST-MODIFIED:20190711T182434Z
UID:2994-1574276400-1574276400@www.mvcca.org
SUMMARY:General Council and 50th Anniversary Celebration
DESCRIPTION:
URL:https://www.mvcca.org/event/general-council-50th-anniversary-celebration/
LOCATION:Mount Vernon Government Center\, 2511 Parkers Lane\, Alexandria\, 22306\, United States
CATEGORIES:General Council,Meetings
END:VEVENT
BEGIN:VEVENT
DTSTART;TZID=America/New_York:20191023T190000
DTEND;TZID=America/New_York:20191023T200000
DTSTAMP:20260423T222952
CREATED:20181214T183511Z
LAST-MODIFIED:20190712T203709Z
UID:2691-1571857200-1571860800@www.mvcca.org
SUMMARY:General Council
DESCRIPTION:
URL:https://www.mvcca.org/event/general-council-9/
LOCATION:South County Center\, Room 220\, 8350 Richmond Highway\, Alexandria\, VA\, VA\, 22309\, United States
CATEGORIES:General Council
END:VEVENT
BEGIN:VEVENT
DTSTART;TZID=America/New_York:20190925T190000
DTEND;TZID=America/New_York:20190925T200000
DTSTAMP:20260423T222952
CREATED:20181214T183425Z
LAST-MODIFIED:20190308T200105Z
UID:2689-1569438000-1569441600@www.mvcca.org
SUMMARY:General Council
DESCRIPTION:
URL:https://www.mvcca.org/event/general-council-8/
LOCATION:Mount Vernon Government Center\, 2511 Parkers Lane\, Alexandria\, 22306\, United States
CATEGORIES:General Council
END:VEVENT
BEGIN:VEVENT
DTSTART;TZID=America/New_York:20190724T190000
DTEND;TZID=America/New_York:20190724T200000
DTSTAMP:20260423T222952
CREATED:20181214T183350Z
LAST-MODIFIED:20190308T200032Z
UID:2687-1563994800-1563998400@www.mvcca.org
SUMMARY:General Council
DESCRIPTION:
URL:https://www.mvcca.org/event/general-council-7/
LOCATION:Mount Vernon Government Center\, 2511 Parkers Lane\, Alexandria\, 22306\, United States
CATEGORIES:General Council
END:VEVENT
BEGIN:VEVENT
DTSTART;TZID=America/New_York:20190626T190000
DTEND;TZID=America/New_York:20190626T200000
DTSTAMP:20260423T222952
CREATED:20181214T183302Z
LAST-MODIFIED:20190308T195955Z
UID:2685-1561575600-1561579200@www.mvcca.org
SUMMARY:General Council
DESCRIPTION:
URL:https://www.mvcca.org/event/general-council-6/
LOCATION:Mount Vernon Government Center\, 2511 Parkers Lane\, Alexandria\, 22306\, United States
CATEGORIES:General Council
END:VEVENT
BEGIN:VEVENT
DTSTART;TZID=America/New_York:20190522T190000
DTEND;TZID=America/New_York:20190522T200000
DTSTAMP:20260423T222952
CREATED:20181214T183207Z
LAST-MODIFIED:20190512T194309Z
UID:2683-1558551600-1558555200@www.mvcca.org
SUMMARY:General Council
DESCRIPTION:
URL:https://www.mvcca.org/event/general-council-5/
LOCATION:Walt Whitman Middle School Cafeteria
CATEGORIES:General Council
END:VEVENT
BEGIN:VEVENT
DTSTART;TZID=America/New_York:20190424T190000
DTEND;TZID=America/New_York:20190424T200000
DTSTAMP:20260423T222952
CREATED:20181214T183132Z
LAST-MODIFIED:20190308T195824Z
UID:2681-1556132400-1556136000@www.mvcca.org
SUMMARY:General Council
DESCRIPTION:
URL:https://www.mvcca.org/event/general-council-4/
LOCATION:Mount Vernon Government Center\, 2511 Parkers Lane\, Alexandria\, 22306\, United States
CATEGORIES:General Council
END:VEVENT
BEGIN:VEVENT
DTSTART;TZID=America/New_York:20190327T190000
DTEND;TZID=America/New_York:20190327T190000
DTSTAMP:20260423T222952
CREATED:20181214T183042Z
LAST-MODIFIED:20190320T212814Z
UID:2679-1553713200-1553713200@www.mvcca.org
SUMMARY:General Council
DESCRIPTION:
URL:https://www.mvcca.org/event/general-council-3/
LOCATION:South County Center\, Room 217\, 8350 Richmond Highway\, Alexandria\, VA\, 22309\, United States
CATEGORIES:General Council,Meetings
END:VEVENT
BEGIN:VEVENT
DTSTART;TZID=America/New_York:20190227T200000
DTEND;TZID=America/New_York:20190227T200000
DTSTAMP:20260423T222952
CREATED:20181214T183007Z
LAST-MODIFIED:20181214T183007Z
UID:2677-1551297600-1551297600@www.mvcca.org
SUMMARY:General Council
DESCRIPTION:
URL:https://www.mvcca.org/event/general-council-2/
LOCATION:Mount Vernon Government Center\, 2511 Parkers Lane\, Alexandria\, 22306\, United States
CATEGORIES:General Council
END:VEVENT
BEGIN:VEVENT
DTSTART;TZID=America/New_York:20190123T200000
DTEND;TZID=America/New_York:20190123T200000
DTSTAMP:20260423T222952
CREATED:20181214T170241Z
LAST-MODIFIED:20181214T170241Z
UID:2532-1548273600-1548273600@www.mvcca.org
SUMMARY:General Council
DESCRIPTION:
URL:https://www.mvcca.org/event/general-council/
LOCATION:Mount Vernon Government Center\, 2511 Parkers Lane\, Alexandria\, 22306\, United States
CATEGORIES:General Council
END:VEVENT
BEGIN:VEVENT
DTSTART;TZID=America/New_York:20181226T200000
DTEND;TZID=America/New_York:20181226T200000
DTSTAMP:20260423T222952
CREATED:20171227T195031Z
LAST-MODIFIED:20181213T172147Z
UID:1801-1545854400-1545854400@www.mvcca.org
SUMMARY:General Council Meeting - CANCELLED
DESCRIPTION:
URL:https://www.mvcca.org/event/general-council-meeting-34/
LOCATION:Mount Vernon Government Center\, 2511 Parkers Lane\, Alexandria\, 22306\, United States
CATEGORIES:General Council,Meetings
END:VEVENT
BEGIN:VEVENT
DTSTART;TZID=America/New_York:20181219T200000
DTEND;TZID=America/New_York:20181219T200000
DTSTAMP:20260423T222952
CREATED:20181214T162645Z
LAST-MODIFIED:20181214T162759Z
UID:2516-1545249600-1545249600@www.mvcca.org
SUMMARY:General Council Meeting - CANCELLED
DESCRIPTION:
URL:https://www.mvcca.org/event/general-council-meeting-cancelled/
CATEGORIES:General Council
END:VEVENT
BEGIN:VEVENT
DTSTART;TZID=America/New_York:20181128T200000
DTEND;TZID=America/New_York:20181128T200000
DTSTAMP:20260423T222952
CREATED:20171227T195030Z
LAST-MODIFIED:20171227T195030Z
UID:1800-1543435200-1543435200@www.mvcca.org
SUMMARY:General Council Meeting
DESCRIPTION:
URL:https://www.mvcca.org/event/general-council-meeting-33/
LOCATION:Mount Vernon Government Center\, 2511 Parkers Lane\, Alexandria\, 22306\, United States
CATEGORIES:General Council,Meetings
END:VEVENT
BEGIN:VEVENT
DTSTART;TZID=America/New_York:20181024T200000
DTEND;TZID=America/New_York:20181024T200000
DTSTAMP:20260423T222952
CREATED:20171227T195030Z
LAST-MODIFIED:20181024T170027Z
UID:1799-1540411200-1540411200@www.mvcca.org
SUMMARY:General Council Meeting
DESCRIPTION:
URL:https://www.mvcca.org/event/general-council-meeting-32/
LOCATION:Walt Whitman Middle School\, Lecture Hall\, 2500 Parkers Lane\, Alexandria\, VA\, 22306\, United States
CATEGORIES:General Council,Meetings
END:VEVENT
BEGIN:VEVENT
DTSTART;TZID=America/New_York:20180926T200000
DTEND;TZID=America/New_York:20180926T200000
DTSTAMP:20260423T222952
CREATED:20171227T195029Z
LAST-MODIFIED:20171227T195029Z
UID:1798-1537992000-1537992000@www.mvcca.org
SUMMARY:General Council Meeting
DESCRIPTION:
URL:https://www.mvcca.org/event/general-council-meeting-31/
LOCATION:Mount Vernon Government Center\, 2511 Parkers Lane\, Alexandria\, 22306\, United States
CATEGORIES:General Council,Meetings
END:VEVENT
BEGIN:VEVENT
DTSTART;TZID=America/New_York:20180725T200000
DTEND;TZID=America/New_York:20180725T200000
DTSTAMP:20260423T222952
CREATED:20171227T195029Z
LAST-MODIFIED:20171227T195029Z
UID:1797-1532548800-1532548800@www.mvcca.org
SUMMARY:General Council Meeting
DESCRIPTION:
URL:https://www.mvcca.org/event/general-council-meeting-30/
LOCATION:Mount Vernon Government Center\, 2511 Parkers Lane\, Alexandria\, 22306\, United States
CATEGORIES:General Council,Meetings
END:VEVENT
BEGIN:VEVENT
DTSTART;TZID=America/New_York:20180627T200000
DTEND;TZID=America/New_York:20180627T200000
DTSTAMP:20260423T222952
CREATED:20171227T195026Z
LAST-MODIFIED:20171227T195026Z
UID:1796-1530129600-1530129600@www.mvcca.org
SUMMARY:General Council Meeting
DESCRIPTION:
URL:https://www.mvcca.org/event/general-council-meeting-29/
LOCATION:Mount Vernon Government Center\, 2511 Parkers Lane\, Alexandria\, 22306\, United States
CATEGORIES:General Council,Meetings
END:VEVENT
BEGIN:VEVENT
DTSTART;TZID=America/New_York:20180523T200000
DTEND;TZID=America/New_York:20180523T200000
DTSTAMP:20260423T222952
CREATED:20171227T195026Z
LAST-MODIFIED:20180418T175728Z
UID:1795-1527105600-1527105600@www.mvcca.org
SUMMARY:General Council Meeting
DESCRIPTION:
URL:https://www.mvcca.org/event/general-council-meeting-28/
LOCATION:Mount Vernon Government Center\, 2511 Parkers Lane\, Alexandria\, 22306\, United States
CATEGORIES:General Council,Meetings
END:VEVENT
BEGIN:VEVENT
DTSTART;TZID=America/New_York:20180425T193000
DTEND;TZID=America/New_York:20180425T200000
DTSTAMP:20260423T222952
CREATED:20171227T195025Z
LAST-MODIFIED:20180418T175807Z
UID:1794-1524684600-1524686400@www.mvcca.org
SUMMARY:General Council Meeting
DESCRIPTION:
URL:https://www.mvcca.org/event/general-council-meeting-27/
LOCATION:Mount Vernon Government Center\, 2511 Parkers Lane\, Alexandria\, 22306\, United States
CATEGORIES:General Council,Meetings
END:VEVENT
BEGIN:VEVENT
DTSTART;TZID=America/New_York:20180328T200000
DTEND;TZID=America/New_York:20180328T200000
DTSTAMP:20260423T222952
CREATED:20171227T195024Z
LAST-MODIFIED:20171227T195024Z
UID:1793-1522267200-1522267200@www.mvcca.org
SUMMARY:General Council Meeting
DESCRIPTION:
URL:https://www.mvcca.org/event/general-council-meeting-26/
LOCATION:Mount Vernon Government Center\, 2511 Parkers Lane\, Alexandria\, 22306\, United States
CATEGORIES:General Council,Meetings
END:VEVENT
END:VCALENDAR