BEGIN:VCALENDAR
VERSION:2.0
PRODID:-//Mount Vernon Council of Citizens&#039; Associations, Inc. - ECPv6.15.20//NONSGML v1.0//EN
CALSCALE:GREGORIAN
METHOD:PUBLISH
X-WR-CALNAME:Mount Vernon Council of Citizens&#039; Associations, Inc.
X-ORIGINAL-URL:https://www.mvcca.org
X-WR-CALDESC:Events for Mount Vernon Council of Citizens&#039; Associations, Inc.
REFRESH-INTERVAL;VALUE=DURATION:PT1H
X-Robots-Tag:noindex
X-PUBLISHED-TTL:PT1H
BEGIN:VTIMEZONE
TZID:America/New_York
BEGIN:DAYLIGHT
TZOFFSETFROM:-0500
TZOFFSETTO:-0400
TZNAME:EDT
DTSTART:20240310T070000
END:DAYLIGHT
BEGIN:STANDARD
TZOFFSETFROM:-0400
TZOFFSETTO:-0500
TZNAME:EST
DTSTART:20241103T060000
END:STANDARD
BEGIN:DAYLIGHT
TZOFFSETFROM:-0500
TZOFFSETTO:-0400
TZNAME:EDT
DTSTART:20250309T070000
END:DAYLIGHT
BEGIN:STANDARD
TZOFFSETFROM:-0400
TZOFFSETTO:-0500
TZNAME:EST
DTSTART:20251102T060000
END:STANDARD
BEGIN:DAYLIGHT
TZOFFSETFROM:-0500
TZOFFSETTO:-0400
TZNAME:EDT
DTSTART:20260308T070000
END:DAYLIGHT
BEGIN:STANDARD
TZOFFSETFROM:-0400
TZOFFSETTO:-0500
TZNAME:EST
DTSTART:20261101T060000
END:STANDARD
BEGIN:DAYLIGHT
TZOFFSETFROM:-0500
TZOFFSETTO:-0400
TZNAME:EDT
DTSTART:20270314T070000
END:DAYLIGHT
BEGIN:STANDARD
TZOFFSETFROM:-0400
TZOFFSETTO:-0500
TZNAME:EST
DTSTART:20271107T060000
END:STANDARD
END:VTIMEZONE
BEGIN:VEVENT
DTSTART;TZID=America/New_York:20250924T190000
DTEND;TZID=America/New_York:20250924T190000
DTSTAMP:20260424T121310
CREATED:20241114T213203Z
LAST-MODIFIED:20241114T213203Z
UID:5713-1758740400-1758740400@www.mvcca.org
SUMMARY:General Council Meeting
DESCRIPTION:
URL:https://www.mvcca.org/event/general-council-meeting-9/
LOCATION:Zoom Meeting
CATEGORIES:General Council
END:VEVENT
BEGIN:VEVENT
DTSTART;TZID=America/New_York:20251001T190000
DTEND;TZID=America/New_York:20251001T190000
DTSTAMP:20260424T121310
CREATED:20241119T140040Z
LAST-MODIFIED:20241119T140040Z
UID:5770-1759345200-1759345200@www.mvcca.org
SUMMARY:Environment and Recreation Committee Meeting
DESCRIPTION:
URL:https://www.mvcca.org/event/environment-and-recreation-committee-meeting-30/
LOCATION:Zoom Meeting
CATEGORIES:Environment & Recreation
END:VEVENT
BEGIN:VEVENT
DTSTART;TZID=America/New_York:20251001T190000
DTEND;TZID=America/New_York:20251001T190000
DTSTAMP:20260424T121310
CREATED:20241123T154701Z
LAST-MODIFIED:20241123T154701Z
UID:5865-1759345200-1759345200@www.mvcca.org
SUMMARY:Education Committee Meeting
DESCRIPTION:
URL:https://www.mvcca.org/event/education-committee-meeting-17/
LOCATION:Zoom Meeting
CATEGORIES:Education
END:VEVENT
BEGIN:VEVENT
DTSTART;TZID=America/New_York:20251002T190000
DTEND;TZID=America/New_York:20251002T190000
DTSTAMP:20260424T121310
CREATED:20241218T142729Z
LAST-MODIFIED:20250325T124947Z
UID:5937-1759431600-1759431600@www.mvcca.org
SUMMARY:Stormwater Committee Meeting
DESCRIPTION:
URL:https://www.mvcca.org/event/stormwater-committee-meeting-9/
LOCATION:Zoom Meeting
CATEGORIES:Special Committee - Storm Water Management
END:VEVENT
BEGIN:VEVENT
DTSTART;TZID=America/New_York:20251006T190000
DTEND;TZID=America/New_York:20251006T190000
DTSTAMP:20260424T121310
CREATED:20241116T161130Z
LAST-MODIFIED:20241116T161130Z
UID:5747-1759777200-1759777200@www.mvcca.org
SUMMARY:Planning and Zoning Committee Meeting
DESCRIPTION:
URL:https://www.mvcca.org/event/planning-and-zoning-committee-meeting-31/
LOCATION:Zoom Meeting
CATEGORIES:Planning & Zoning
END:VEVENT
BEGIN:VEVENT
DTSTART;TZID=America/New_York:20251006T190000
DTEND;TZID=America/New_York:20251006T190000
DTSTAMP:20260424T121310
CREATED:20241123T145058Z
LAST-MODIFIED:20241123T145058Z
UID:5819-1759777200-1759777200@www.mvcca.org
SUMMARY:Budget and Finance Committee Meeting
DESCRIPTION:
URL:https://www.mvcca.org/event/budget-and-finance-committee-meeting-9/
LOCATION:Zoom Meeting
CATEGORIES:Budget & Finance
END:VEVENT
BEGIN:VEVENT
DTSTART;TZID=America/New_York:20251007T190000
DTEND;TZID=America/New_York:20251007T190000
DTSTAMP:20260424T121310
CREATED:20241123T143153Z
LAST-MODIFIED:20250131T141750Z
UID:5797-1759863600-1759863600@www.mvcca.org
SUMMARY:Public Safety Committee Meeting Cancelled - Will Meet with Transportation Committee on 13 October
DESCRIPTION:
URL:https://www.mvcca.org/event/public-safety-committee-meeting-12/
CATEGORIES:Public Safety
END:VEVENT
BEGIN:VEVENT
DTSTART;TZID=America/New_York:20251014T190000
DTEND;TZID=America/New_York:20251014T190000
DTSTAMP:20260424T121310
CREATED:20241114T211923Z
LAST-MODIFIED:20241114T211923Z
UID:5693-1760468400-1760468400@www.mvcca.org
SUMMARY:Board Meeting
DESCRIPTION:
URL:https://www.mvcca.org/event/board-meeting-9/
LOCATION:Zoom Meeting
CATEGORIES:Board
END:VEVENT
BEGIN:VEVENT
DTSTART;TZID=America/New_York:20251016T190000
DTEND;TZID=America/New_York:20251016T190000
DTSTAMP:20260424T121310
CREATED:20241123T151525Z
LAST-MODIFIED:20251008T205901Z
UID:5841-1760641200-1760641200@www.mvcca.org
SUMMARY:Public Safety and Transportation Committee Meeting
DESCRIPTION:
URL:https://www.mvcca.org/event/transportation-committee-meeting-29/
LOCATION:Zoom Meeting
CATEGORIES:Transportation
END:VEVENT
BEGIN:VEVENT
DTSTART;TZID=America/New_York:20251022T190000
DTEND;TZID=America/New_York:20251022T190000
DTSTAMP:20260424T121310
CREATED:20241114T213307Z
LAST-MODIFIED:20241114T213307Z
UID:5715-1761159600-1761159600@www.mvcca.org
SUMMARY:General Council Meeting
DESCRIPTION:
URL:https://www.mvcca.org/event/general-council-meeting-10/
LOCATION:Zoom Meeting
CATEGORIES:General Council
END:VEVENT
BEGIN:VEVENT
DTSTART;TZID=America/New_York:20251103T190000
DTEND;TZID=America/New_York:20251103T190000
DTSTAMP:20260424T121310
CREATED:20241116T161249Z
LAST-MODIFIED:20241116T161249Z
UID:5749-1762196400-1762196400@www.mvcca.org
SUMMARY:Planning and Zoning Committee Meeting
DESCRIPTION:
URL:https://www.mvcca.org/event/planning-and-zoning-committee-meeting-32/
LOCATION:Zoom Meeting
CATEGORIES:Planning & Zoning
END:VEVENT
BEGIN:VEVENT
DTSTART;TZID=America/New_York:20251103T190000
DTEND;TZID=America/New_York:20251103T190000
DTSTAMP:20260424T121310
CREATED:20241123T145203Z
LAST-MODIFIED:20241123T145203Z
UID:5821-1762196400-1762196400@www.mvcca.org
SUMMARY:Budget and Finance Committee Meeting
DESCRIPTION:
URL:https://www.mvcca.org/event/budget-and-finance-committee-meeting-10/
LOCATION:Zoom Meeting
CATEGORIES:Budget & Finance
END:VEVENT
BEGIN:VEVENT
DTSTART;TZID=America/New_York:20251104T190000
DTEND;TZID=America/New_York:20251104T190000
DTSTAMP:20260424T121310
CREATED:20241123T143305Z
LAST-MODIFIED:20250131T141837Z
UID:5799-1762282800-1762282800@www.mvcca.org
SUMMARY:Public Safety Committee Meeting Cancelled - Will Meet with Transportation Committee on 10 November
DESCRIPTION:
URL:https://www.mvcca.org/event/public-safety-committee-meeting-13/
LOCATION:Zoom Meeting
CATEGORIES:Public Safety
END:VEVENT
BEGIN:VEVENT
DTSTART;TZID=America/New_York:20251105T190000
DTEND;TZID=America/New_York:20251105T190000
DTSTAMP:20260424T121310
CREATED:20241119T140138Z
LAST-MODIFIED:20241119T140138Z
UID:5772-1762369200-1762369200@www.mvcca.org
SUMMARY:Environment and Recreation Committee Meeting
DESCRIPTION:
URL:https://www.mvcca.org/event/environment-and-recreation-committee-meeting-31/
LOCATION:Zoom Meeting
CATEGORIES:Environment & Recreation
END:VEVENT
BEGIN:VEVENT
DTSTART;TZID=America/New_York:20251105T190000
DTEND;TZID=America/New_York:20251105T190000
DTSTAMP:20260424T121310
CREATED:20241123T154808Z
LAST-MODIFIED:20241123T154808Z
UID:5867-1762369200-1762369200@www.mvcca.org
SUMMARY:Education Committee Meeting
DESCRIPTION:
URL:https://www.mvcca.org/event/education-committee-meeting-18/
LOCATION:Zoom Meeting
CATEGORIES:Education
END:VEVENT
BEGIN:VEVENT
DTSTART;TZID=America/New_York:20251106T190000
DTEND;TZID=America/New_York:20251106T190000
DTSTAMP:20260424T121310
CREATED:20241218T142855Z
LAST-MODIFIED:20250325T125052Z
UID:5939-1762455600-1762455600@www.mvcca.org
SUMMARY:Stormwater Committee Meeting
DESCRIPTION:
URL:https://www.mvcca.org/event/stormwater-committee-meeting-10/
LOCATION:Zoom Meeting
CATEGORIES:Special Committee - Storm Water Management
END:VEVENT
BEGIN:VEVENT
DTSTART;TZID=America/New_York:20251110T190000
DTEND;TZID=America/New_York:20251110T190000
DTSTAMP:20260424T121310
CREATED:20241123T151639Z
LAST-MODIFIED:20250214T205008Z
UID:5843-1762801200-1762801200@www.mvcca.org
SUMMARY:Public Safety and Transportation Committee Meeting
DESCRIPTION:
URL:https://www.mvcca.org/event/transportation-committee-meeting-30/
LOCATION:Zoom Meeting
CATEGORIES:Transportation
END:VEVENT
BEGIN:VEVENT
DTSTART;TZID=America/New_York:20251111T190000
DTEND;TZID=America/New_York:20251111T190000
DTSTAMP:20260424T121310
CREATED:20241114T212026Z
LAST-MODIFIED:20241114T212026Z
UID:5695-1762887600-1762887600@www.mvcca.org
SUMMARY:Board Meeting
DESCRIPTION:
URL:https://www.mvcca.org/event/board-meeting-10/
LOCATION:Zoom Meeting
CATEGORIES:Board
END:VEVENT
BEGIN:VEVENT
DTSTART;TZID=America/New_York:20251119T190000
DTEND;TZID=America/New_York:20251119T190000
DTSTAMP:20260424T121310
CREATED:20241114T213447Z
LAST-MODIFIED:20241114T213447Z
UID:5717-1763578800-1763578800@www.mvcca.org
SUMMARY:General Council Meeting
DESCRIPTION:
URL:https://www.mvcca.org/event/general-council-meeting-11/
LOCATION:Zoom Meeting
CATEGORIES:General Council
END:VEVENT
BEGIN:VEVENT
DTSTART;TZID=America/New_York:20251201T190000
DTEND;TZID=America/New_York:20251201T190000
DTSTAMP:20260424T121310
CREATED:20241116T161344Z
LAST-MODIFIED:20241116T161344Z
UID:5751-1764615600-1764615600@www.mvcca.org
SUMMARY:Planning and Zoning Committee Meeting
DESCRIPTION:
URL:https://www.mvcca.org/event/planning-and-zoning-committee-meeting-33/
LOCATION:Zoom Meeting
CATEGORIES:Planning & Zoning
END:VEVENT
BEGIN:VEVENT
DTSTART;TZID=America/New_York:20251201T190000
DTEND;TZID=America/New_York:20251201T190000
DTSTAMP:20260424T121310
CREATED:20241123T145320Z
LAST-MODIFIED:20241123T145320Z
UID:5823-1764615600-1764615600@www.mvcca.org
SUMMARY:Budget and Finance Committee Meeting
DESCRIPTION:
URL:https://www.mvcca.org/event/budget-and-finance-committee-meeting-11/
LOCATION:Zoom Meeting
CATEGORIES:Budget & Finance
END:VEVENT
BEGIN:VEVENT
DTSTART;TZID=America/New_York:20251202T190000
DTEND;TZID=America/New_York:20251202T190000
DTSTAMP:20260424T121310
CREATED:20241123T143401Z
LAST-MODIFIED:20250131T141929Z
UID:5801-1764702000-1764702000@www.mvcca.org
SUMMARY:Public Safety Committee Meeting Cancelled - Will Meet with Transportation Committee on 8 December
DESCRIPTION:
URL:https://www.mvcca.org/event/public-safety-committee-meeting-14/
LOCATION:Zoom Meeting
CATEGORIES:Public Safety
END:VEVENT
BEGIN:VEVENT
DTSTART;TZID=America/New_York:20251203T190000
DTEND;TZID=America/New_York:20251203T190000
DTSTAMP:20260424T121310
CREATED:20241119T140246Z
LAST-MODIFIED:20241119T140246Z
UID:5774-1764788400-1764788400@www.mvcca.org
SUMMARY:Environment and Recreation Committee Meeting
DESCRIPTION:
URL:https://www.mvcca.org/event/environment-and-recreation-committee-meeting-32/
LOCATION:Zoom Meeting
CATEGORIES:Environment & Recreation
END:VEVENT
BEGIN:VEVENT
DTSTART;TZID=America/New_York:20251203T190000
DTEND;TZID=America/New_York:20251203T190000
DTSTAMP:20260424T121310
CREATED:20241123T154912Z
LAST-MODIFIED:20241123T154912Z
UID:5869-1764788400-1764788400@www.mvcca.org
SUMMARY:Education Committee Meeting
DESCRIPTION:
URL:https://www.mvcca.org/event/education-committee-meeting-19/
LOCATION:Zoom Meeting
CATEGORIES:Education
END:VEVENT
BEGIN:VEVENT
DTSTART;TZID=America/New_York:20251204T190000
DTEND;TZID=America/New_York:20251204T190000
DTSTAMP:20260424T121310
CREATED:20241218T143004Z
LAST-MODIFIED:20250325T125127Z
UID:5941-1764874800-1764874800@www.mvcca.org
SUMMARY:Stormwater Committee Meeting
DESCRIPTION:
URL:https://www.mvcca.org/event/stormwater-committee-meeting-11/
LOCATION:Zoom Meeting
CATEGORIES:Special Committee - Storm Water Management
END:VEVENT
BEGIN:VEVENT
DTSTART;TZID=America/New_York:20251208T190000
DTEND;TZID=America/New_York:20251208T190000
DTSTAMP:20260424T121310
CREATED:20241123T151759Z
LAST-MODIFIED:20250214T205035Z
UID:5845-1765220400-1765220400@www.mvcca.org
SUMMARY:Public Safety and Transportation Committee Meeting
DESCRIPTION:
URL:https://www.mvcca.org/event/transportation-committee-meeting-31/
LOCATION:Zoom Meeting
CATEGORIES:Transportation
END:VEVENT
BEGIN:VEVENT
DTSTART;TZID=America/New_York:20251209T190000
DTEND;TZID=America/New_York:20251209T190000
DTSTAMP:20260424T121310
CREATED:20241114T212121Z
LAST-MODIFIED:20241114T212121Z
UID:5697-1765306800-1765306800@www.mvcca.org
SUMMARY:Board Meeting
DESCRIPTION:
URL:https://www.mvcca.org/event/board-meeting-11/
LOCATION:Zoom Meeting
CATEGORIES:Board
END:VEVENT
BEGIN:VEVENT
DTSTART;TZID=America/New_York:20251217T190000
DTEND;TZID=America/New_York:20251217T190000
DTSTAMP:20260424T121310
CREATED:20241114T213549Z
LAST-MODIFIED:20241114T213549Z
UID:5719-1765998000-1765998000@www.mvcca.org
SUMMARY:General Council Meeting
DESCRIPTION:
URL:https://www.mvcca.org/event/general-council-meeting-12/
LOCATION:Zoom Meeting
CATEGORIES:General Council
END:VEVENT
BEGIN:VEVENT
DTSTART;TZID=America/New_York:20260105T190000
DTEND;TZID=America/New_York:20260105T190000
DTSTAMP:20260424T121310
CREATED:20251229T012705Z
LAST-MODIFIED:20251229T013302Z
UID:6164-1767639600-1767639600@www.mvcca.org
SUMMARY:Budget & Finance Committee Meeting
DESCRIPTION:
URL:https://www.mvcca.org/event/budget-and-finance-committee-meeting-12/
LOCATION:Zoom Meeting
CATEGORIES:Budget & Finance
END:VEVENT
BEGIN:VEVENT
DTSTART;TZID=America/New_York:20260105T190000
DTEND;TZID=America/New_York:20260105T190000
DTSTAMP:20260424T121310
CREATED:20251229T012818Z
LAST-MODIFIED:20251229T013219Z
UID:6166-1767639600-1767639600@www.mvcca.org
SUMMARY:Planning & Zoning Committee Meeting
DESCRIPTION:
URL:https://www.mvcca.org/event/planning-and-zoning-committee-meeting-34/
LOCATION:Zoom Meeting
CATEGORIES:Planning & Zoning
END:VEVENT
END:VCALENDAR