BEGIN:VCALENDAR
VERSION:2.0
PRODID:-//Mount Vernon Council of Citizens&#039; Associations, Inc. - ECPv6.15.20//NONSGML v1.0//EN
CALSCALE:GREGORIAN
METHOD:PUBLISH
X-ORIGINAL-URL:https://www.mvcca.org
X-WR-CALDESC:Events for Mount Vernon Council of Citizens&#039; Associations, Inc.
REFRESH-INTERVAL;VALUE=DURATION:PT1H
X-Robots-Tag:noindex
X-PUBLISHED-TTL:PT1H
BEGIN:VTIMEZONE
TZID:America/New_York
BEGIN:DAYLIGHT
TZOFFSETFROM:-0500
TZOFFSETTO:-0400
TZNAME:EDT
DTSTART:20210314T070000
END:DAYLIGHT
BEGIN:STANDARD
TZOFFSETFROM:-0400
TZOFFSETTO:-0500
TZNAME:EST
DTSTART:20211107T060000
END:STANDARD
BEGIN:DAYLIGHT
TZOFFSETFROM:-0500
TZOFFSETTO:-0400
TZNAME:EDT
DTSTART:20220313T070000
END:DAYLIGHT
BEGIN:STANDARD
TZOFFSETFROM:-0400
TZOFFSETTO:-0500
TZNAME:EST
DTSTART:20221106T060000
END:STANDARD
BEGIN:DAYLIGHT
TZOFFSETFROM:-0500
TZOFFSETTO:-0400
TZNAME:EDT
DTSTART:20230312T070000
END:DAYLIGHT
BEGIN:STANDARD
TZOFFSETFROM:-0400
TZOFFSETTO:-0500
TZNAME:EST
DTSTART:20231105T060000
END:STANDARD
END:VTIMEZONE
BEGIN:VEVENT
DTSTART;TZID=America/New_York:20220601T200000
DTEND;TZID=America/New_York:20220601T200000
DTSTAMP:20260425T071406
CREATED:20211231T154124Z
LAST-MODIFIED:20211231T154124Z
UID:3991-1654113600-1654113600@www.mvcca.org
SUMMARY:Education
DESCRIPTION:
URL:https://www.mvcca.org/event/education-70/
LOCATION:Zoom Meeting
CATEGORIES:Committee,Education,Meetings
END:VEVENT
BEGIN:VEVENT
DTSTART;TZID=America/New_York:20220601T190000
DTEND;TZID=America/New_York:20220601T190000
DTSTAMP:20260425T071406
CREATED:20211231T155135Z
LAST-MODIFIED:20211231T155135Z
UID:4010-1654110000-1654110000@www.mvcca.org
SUMMARY:Environment & Recreation
DESCRIPTION:
URL:https://www.mvcca.org/event/environment-recreation-72/
LOCATION:Zoom Meeting
CATEGORIES:Committee,Environment & Recreation,Meetings
END:VEVENT
BEGIN:VEVENT
DTSTART;TZID=America/New_York:20220525T190000
DTEND;TZID=America/New_York:20220525T190000
DTSTAMP:20260425T071406
CREATED:20211231T162613Z
LAST-MODIFIED:20211231T162613Z
UID:4062-1653505200-1653505200@www.mvcca.org
SUMMARY:General Council
DESCRIPTION:
URL:https://www.mvcca.org/event/general-council-37/
LOCATION:Zoom Meeting
CATEGORIES:General Council,Meetings
END:VEVENT
BEGIN:VEVENT
DTSTART;TZID=America/New_York:20220510T190000
DTEND;TZID=America/New_York:20220510T190000
DTSTAMP:20260425T071406
CREATED:20211231T161836Z
LAST-MODIFIED:20211231T164015Z
UID:4044-1652209200-1652209200@www.mvcca.org
SUMMARY:Board
DESCRIPTION:
URL:https://www.mvcca.org/event/board-25/
LOCATION:Zoom Meeting
CATEGORIES:Board,Meetings
END:VEVENT
BEGIN:VEVENT
DTSTART;TZID=America/New_York:20220504T200000
DTEND;TZID=America/New_York:20220504T200000
DTSTAMP:20260425T071406
CREATED:20211231T153935Z
LAST-MODIFIED:20211231T153935Z
UID:3987-1651694400-1651694400@www.mvcca.org
SUMMARY:Education
DESCRIPTION:
URL:https://www.mvcca.org/event/education-68/
LOCATION:Zoom Meeting
CATEGORIES:Committee,Education,Meetings
END:VEVENT
BEGIN:VEVENT
DTSTART;TZID=America/New_York:20220504T190000
DTEND;TZID=America/New_York:20220504T190000
DTSTAMP:20260425T071406
CREATED:20211231T154954Z
LAST-MODIFIED:20211231T164921Z
UID:4007-1651690800-1651690800@www.mvcca.org
SUMMARY:Environment & Recreation
DESCRIPTION:
URL:https://www.mvcca.org/event/environment-recreation-71/
LOCATION:Zoom Meeting
CATEGORIES:Committee,Environment & Recreation,Meetings
END:VEVENT
BEGIN:VEVENT
DTSTART;TZID=America/New_York:20220503T190000
DTEND;TZID=America/New_York:20220503T190000
DTSTAMP:20260425T071406
CREATED:20211231T155838Z
LAST-MODIFIED:20220128T154745Z
UID:4026-1651604400-1651604400@www.mvcca.org
SUMMARY:Public Safety
DESCRIPTION:
URL:https://www.mvcca.org/event/public-safety-70/
LOCATION:Zoom Meeting
CATEGORIES:Committee,Meetings,Public Safety
END:VEVENT
BEGIN:VEVENT
DTSTART;TZID=America/New_York:20220502T190000
DTEND;TZID=America/New_York:20220502T190000
DTSTAMP:20260425T071406
CREATED:20211231T152207Z
LAST-MODIFIED:20211231T152207Z
UID:3971-1651518000-1651518000@www.mvcca.org
SUMMARY:Transportation
DESCRIPTION:
URL:https://www.mvcca.org/event/transportation-71/
LOCATION:Zoom Meeting
CATEGORIES:Committee,Meetings,Transportation
END:VEVENT
BEGIN:VEVENT
DTSTART;TZID=America/New_York:20220502T190000
DTEND;TZID=America/New_York:20220502T190000
DTSTAMP:20260425T071406
CREATED:20211231T150004Z
LAST-MODIFIED:20211231T150004Z
UID:3953-1651518000-1651518000@www.mvcca.org
SUMMARY:Planning & Zoning
DESCRIPTION:
URL:https://www.mvcca.org/event/planning-zoning-70/
LOCATION:Zoom Meeting
CATEGORIES:Committee,Meetings,Planning & Zoning
END:VEVENT
BEGIN:VEVENT
DTSTART;TZID=America/New_York:20220427T190000
DTEND;TZID=America/New_York:20220427T190000
DTSTAMP:20260425T071406
CREATED:20211231T162508Z
LAST-MODIFIED:20211231T162508Z
UID:4060-1651086000-1651086000@www.mvcca.org
SUMMARY:General Council
DESCRIPTION:
URL:https://www.mvcca.org/event/general-council-36/
LOCATION:Zoom Meeting
CATEGORIES:General Council,Meetings
END:VEVENT
BEGIN:VEVENT
DTSTART;TZID=America/New_York:20220412T190000
DTEND;TZID=America/New_York:20220412T190000
DTSTAMP:20260425T071406
CREATED:20211231T161809Z
LAST-MODIFIED:20211231T161809Z
UID:4042-1649790000-1649790000@www.mvcca.org
SUMMARY:Board
DESCRIPTION:
URL:https://www.mvcca.org/event/board-24/
LOCATION:Zoom Meeting
CATEGORIES:Board,Meetings
END:VEVENT
BEGIN:VEVENT
DTSTART;TZID=America/New_York:20220406T200000
DTEND;TZID=America/New_York:20220406T200000
DTSTAMP:20260425T071406
CREATED:20211231T154042Z
LAST-MODIFIED:20211231T154042Z
UID:3989-1649275200-1649275200@www.mvcca.org
SUMMARY:Education
DESCRIPTION:
URL:https://www.mvcca.org/event/education-69/
LOCATION:Zoom Meeting
CATEGORIES:Committee,Education,Meetings
END:VEVENT
BEGIN:VEVENT
DTSTART;TZID=America/New_York:20220406T190000
DTEND;TZID=America/New_York:20220406T190000
DTSTAMP:20260425T071406
CREATED:20211231T154902Z
LAST-MODIFIED:20211231T154902Z
UID:4005-1649271600-1649271600@www.mvcca.org
SUMMARY:Environment & Recreation
DESCRIPTION:
URL:https://www.mvcca.org/event/environment-recreation-70/
LOCATION:Zoom Meeting
CATEGORIES:Committee,Environment & Recreation,Meetings
END:VEVENT
BEGIN:VEVENT
DTSTART;TZID=America/New_York:20220405T190000
DTEND;TZID=America/New_York:20220405T190000
DTSTAMP:20260425T071406
CREATED:20211231T155741Z
LAST-MODIFIED:20220128T154705Z
UID:4024-1649185200-1649185200@www.mvcca.org
SUMMARY:Public Safety
DESCRIPTION:
URL:https://www.mvcca.org/event/public-safety-69/
LOCATION:Zoom Meeting
CATEGORIES:Committee,Meetings,Public Safety
END:VEVENT
BEGIN:VEVENT
DTSTART;TZID=America/New_York:20220404T190000
DTEND;TZID=America/New_York:20220404T190000
DTSTAMP:20260425T071406
CREATED:20211231T152121Z
LAST-MODIFIED:20211231T152121Z
UID:3969-1649098800-1649098800@www.mvcca.org
SUMMARY:Transportation
DESCRIPTION:
URL:https://www.mvcca.org/event/transportation-70/
LOCATION:Zoom Meeting
CATEGORIES:Committee,Meetings,Transportation
END:VEVENT
BEGIN:VEVENT
DTSTART;TZID=America/New_York:20220404T190000
DTEND;TZID=America/New_York:20220404T190000
DTSTAMP:20260425T071406
CREATED:20211231T145917Z
LAST-MODIFIED:20211231T145917Z
UID:3951-1649098800-1649098800@www.mvcca.org
SUMMARY:Planning & Zoning
DESCRIPTION:
URL:https://www.mvcca.org/event/planning-zoning-69/
LOCATION:Zoom Meeting
CATEGORIES:Committee,Meetings,Planning & Zoning
END:VEVENT
BEGIN:VEVENT
DTSTART;TZID=America/New_York:20220323T190000
DTEND;TZID=America/New_York:20220323T190000
DTSTAMP:20260425T071406
CREATED:20211231T162420Z
LAST-MODIFIED:20211231T164701Z
UID:4058-1648062000-1648062000@www.mvcca.org
SUMMARY:General Council
DESCRIPTION:
URL:https://www.mvcca.org/event/general-council-35/
LOCATION:Zoom Meeting
CATEGORIES:General Council,Meetings
END:VEVENT
BEGIN:VEVENT
DTSTART;TZID=America/New_York:20220308T190000
DTEND;TZID=America/New_York:20220308T190000
DTSTAMP:20260425T071406
CREATED:20211231T161732Z
LAST-MODIFIED:20211231T161732Z
UID:4040-1646766000-1646766000@www.mvcca.org
SUMMARY:Board
DESCRIPTION:
URL:https://www.mvcca.org/event/board-23/
LOCATION:Zoom Meeting
CATEGORIES:Board,Meetings
END:VEVENT
BEGIN:VEVENT
DTSTART;TZID=America/New_York:20220307T190000
DTEND;TZID=America/New_York:20220307T190000
DTSTAMP:20260425T071406
CREATED:20211231T151446Z
LAST-MODIFIED:20211231T151446Z
UID:3967-1646679600-1646679600@www.mvcca.org
SUMMARY:Transportation
DESCRIPTION:
URL:https://www.mvcca.org/event/transportation-69/
LOCATION:Zoom Meeting
CATEGORIES:Committee,Meetings,Transportation
END:VEVENT
BEGIN:VEVENT
DTSTART;TZID=America/New_York:20220307T190000
DTEND;TZID=America/New_York:20220307T190000
DTSTAMP:20260425T071406
CREATED:20211231T145544Z
LAST-MODIFIED:20211231T145544Z
UID:3948-1646679600-1646679600@www.mvcca.org
SUMMARY:Planning & Zoning
DESCRIPTION:
URL:https://www.mvcca.org/event/planning-zoning-68/
LOCATION:Zoom Meeting
CATEGORIES:Committee,Meetings,Planning & Zoning
END:VEVENT
BEGIN:VEVENT
DTSTART;TZID=America/New_York:20220302T200000
DTEND;TZID=America/New_York:20220302T200000
DTSTAMP:20260425T071406
CREATED:20211231T153840Z
LAST-MODIFIED:20211231T153840Z
UID:3985-1646251200-1646251200@www.mvcca.org
SUMMARY:Education
DESCRIPTION:
URL:https://www.mvcca.org/event/education-67/
LOCATION:Zoom Meeting
CATEGORIES:Committee,Education,Meetings
END:VEVENT
BEGIN:VEVENT
DTSTART;TZID=America/New_York:20220302T190000
DTEND;TZID=America/New_York:20220302T190000
DTSTAMP:20260425T071406
CREATED:20211231T154823Z
LAST-MODIFIED:20211231T154823Z
UID:4003-1646247600-1646247600@www.mvcca.org
SUMMARY:Environment & Recreation
DESCRIPTION:
URL:https://www.mvcca.org/event/environment-recreation-69/
LOCATION:Zoom Meeting
CATEGORIES:Committee,Environment & Recreation,Meetings
END:VEVENT
BEGIN:VEVENT
DTSTART;TZID=America/New_York:20220301T190000
DTEND;TZID=America/New_York:20220301T190000
DTSTAMP:20260425T071406
CREATED:20211231T155647Z
LAST-MODIFIED:20220128T154635Z
UID:4022-1646161200-1646161200@www.mvcca.org
SUMMARY:Public Safety
DESCRIPTION:
URL:https://www.mvcca.org/event/public-safety-68/
LOCATION:Zoom Meeting
CATEGORIES:Committee,Meetings,Public Safety
END:VEVENT
BEGIN:VEVENT
DTSTART;TZID=America/New_York:20220223T190000
DTEND;TZID=America/New_York:20220223T190000
DTSTAMP:20260425T071406
CREATED:20211229T192415Z
LAST-MODIFIED:20211229T192415Z
UID:3945-1645642800-1645642800@www.mvcca.org
SUMMARY:General Council
DESCRIPTION:
URL:https://www.mvcca.org/event/general-council-34/
LOCATION:Zoom Meeting
CATEGORIES:General Council,Meetings
END:VEVENT
BEGIN:VEVENT
DTSTART;TZID=America/New_York:20220208T190000
DTEND;TZID=America/New_York:20220208T190000
DTSTAMP:20260425T071406
CREATED:20211229T192327Z
LAST-MODIFIED:20211229T192327Z
UID:3943-1644346800-1644346800@www.mvcca.org
SUMMARY:Board
DESCRIPTION:
URL:https://www.mvcca.org/event/board-22/
LOCATION:Zoom Meeting
CATEGORIES:Board,Meetings
END:VEVENT
BEGIN:VEVENT
DTSTART;TZID=America/New_York:20220207T190000
DTEND;TZID=America/New_York:20220207T190000
DTSTAMP:20260425T071406
CREATED:20211229T191938Z
LAST-MODIFIED:20211229T191938Z
UID:3935-1644260400-1644260400@www.mvcca.org
SUMMARY:Transportation
DESCRIPTION:
URL:https://www.mvcca.org/event/transportation-68/
LOCATION:Zoom Meeting
CATEGORIES:Committee,Meetings,Transportation
END:VEVENT
BEGIN:VEVENT
DTSTART;TZID=America/New_York:20220207T190000
DTEND;TZID=America/New_York:20220207T190000
DTSTAMP:20260425T071406
CREATED:20211229T191836Z
LAST-MODIFIED:20211229T191836Z
UID:3933-1644260400-1644260400@www.mvcca.org
SUMMARY:Planning & Zoning
DESCRIPTION:
URL:https://www.mvcca.org/event/planning-zoning-67/
LOCATION:Zoom Meeting
CATEGORIES:Committee,Meetings,Planning & Zoning
END:VEVENT
BEGIN:VEVENT
DTSTART;TZID=America/New_York:20220202T200000
DTEND;TZID=America/New_York:20220202T200000
DTSTAMP:20260425T071406
CREATED:20211229T192052Z
LAST-MODIFIED:20211229T192052Z
UID:3937-1643832000-1643832000@www.mvcca.org
SUMMARY:Education
DESCRIPTION:
URL:https://www.mvcca.org/event/education-66/
LOCATION:Zoom Meeting
CATEGORIES:Committee,Education,Meetings
END:VEVENT
BEGIN:VEVENT
DTSTART;TZID=America/New_York:20220202T190000
DTEND;TZID=America/New_York:20220202T200000
DTSTAMP:20260425T071406
CREATED:20211229T192148Z
LAST-MODIFIED:20211231T163757Z
UID:3939-1643828400-1643832000@www.mvcca.org
SUMMARY:Environment & Recreation
DESCRIPTION:
URL:https://www.mvcca.org/event/environment-recreation-68/
LOCATION:Zoom Meeting
CATEGORIES:Committee,Environment & Recreation,Meetings
END:VEVENT
BEGIN:VEVENT
DTSTART;TZID=America/New_York:20220201T190000
DTEND;TZID=America/New_York:20220201T190000
DTSTAMP:20260425T071406
CREATED:20211229T192238Z
LAST-MODIFIED:20220128T154552Z
UID:3941-1643742000-1643742000@www.mvcca.org
SUMMARY:Public Safety
DESCRIPTION:
URL:https://www.mvcca.org/event/public-safety-67/
LOCATION:Zoom Meeting
CATEGORIES:Committee,Meetings,Public Safety
END:VEVENT
END:VCALENDAR