BEGIN:VCALENDAR
VERSION:2.0
PRODID:-//Mount Vernon Council of Citizens&#039; Associations, Inc. - ECPv6.15.20//NONSGML v1.0//EN
CALSCALE:GREGORIAN
METHOD:PUBLISH
X-WR-CALNAME:Mount Vernon Council of Citizens&#039; Associations, Inc.
X-ORIGINAL-URL:https://www.mvcca.org
X-WR-CALDESC:Events for Mount Vernon Council of Citizens&#039; Associations, Inc.
REFRESH-INTERVAL;VALUE=DURATION:PT1H
X-Robots-Tag:noindex
X-PUBLISHED-TTL:PT1H
BEGIN:VTIMEZONE
TZID:America/New_York
BEGIN:DAYLIGHT
TZOFFSETFROM:-0500
TZOFFSETTO:-0400
TZNAME:EDT
DTSTART:20190310T070000
END:DAYLIGHT
BEGIN:STANDARD
TZOFFSETFROM:-0400
TZOFFSETTO:-0500
TZNAME:EST
DTSTART:20191103T060000
END:STANDARD
BEGIN:DAYLIGHT
TZOFFSETFROM:-0500
TZOFFSETTO:-0400
TZNAME:EDT
DTSTART:20200308T070000
END:DAYLIGHT
BEGIN:STANDARD
TZOFFSETFROM:-0400
TZOFFSETTO:-0500
TZNAME:EST
DTSTART:20201101T060000
END:STANDARD
BEGIN:DAYLIGHT
TZOFFSETFROM:-0500
TZOFFSETTO:-0400
TZNAME:EDT
DTSTART:20210314T070000
END:DAYLIGHT
BEGIN:STANDARD
TZOFFSETFROM:-0400
TZOFFSETTO:-0500
TZNAME:EST
DTSTART:20211107T060000
END:STANDARD
BEGIN:DAYLIGHT
TZOFFSETFROM:-0500
TZOFFSETTO:-0400
TZNAME:EDT
DTSTART:20220313T070000
END:DAYLIGHT
BEGIN:STANDARD
TZOFFSETFROM:-0400
TZOFFSETTO:-0500
TZNAME:EST
DTSTART:20221106T060000
END:STANDARD
END:VTIMEZONE
BEGIN:VEVENT
DTSTART;TZID=America/New_York:20210407T190000
DTEND;TZID=America/New_York:20210407T190000
DTSTAMP:20260425T193727
CREATED:20201223T160312Z
LAST-MODIFIED:20201223T160312Z
UID:3477-1617822000-1617822000@www.mvcca.org
SUMMARY:Environment & Recreation
DESCRIPTION:
URL:https://www.mvcca.org/event/environment-recreation-59/
LOCATION:Zoom Meeting
CATEGORIES:Environment & Recreation,Meetings
END:VEVENT
BEGIN:VEVENT
DTSTART;TZID=America/New_York:20210406T190000
DTEND;TZID=America/New_York:20210406T190000
DTSTAMP:20260425T193727
CREATED:20210107T123028Z
LAST-MODIFIED:20210107T123028Z
UID:3549-1617735600-1617735600@www.mvcca.org
SUMMARY:Budget & Finance
DESCRIPTION:
URL:https://www.mvcca.org/event/budget-finance-49/
LOCATION:Zoom Meeting
CATEGORIES:Budget & Finance,Meetings
END:VEVENT
BEGIN:VEVENT
DTSTART;TZID=America/New_York:20210405T190000
DTEND;TZID=America/New_York:20210405T190000
DTSTAMP:20260425T193727
CREATED:20210107T125032Z
LAST-MODIFIED:20210107T125032Z
UID:3569-1617649200-1617649200@www.mvcca.org
SUMMARY:Planning & Zoning
DESCRIPTION:
URL:https://www.mvcca.org/event/planning-zoning-58/
LOCATION:Zoom Meeting
CATEGORIES:Meetings,Planning & Zoning
END:VEVENT
BEGIN:VEVENT
DTSTART;TZID=America/New_York:20210405T190000
DTEND;TZID=America/New_York:20210405T190000
DTSTAMP:20260425T193727
CREATED:20201211T161328Z
LAST-MODIFIED:20210308T174935Z
UID:3446-1617649200-1617649200@www.mvcca.org
SUMMARY:Public Safety with Transportation Committee
DESCRIPTION:
URL:https://www.mvcca.org/event/public-safety-58/
LOCATION:Zoom Meeting
CATEGORIES:Committee,Meetings,Public Safety
END:VEVENT
BEGIN:VEVENT
DTSTART;TZID=America/New_York:20210405T190000
DTEND;TZID=America/New_York:20210405T190000
DTSTAMP:20260425T193727
CREATED:20201211T152650Z
LAST-MODIFIED:20201211T152650Z
UID:3426-1617649200-1617649200@www.mvcca.org
SUMMARY:Transportation
DESCRIPTION:
URL:https://www.mvcca.org/event/transportation-59/
LOCATION:Zoom Meeting
CATEGORIES:Committee,Meetings,Transportation
END:VEVENT
BEGIN:VEVENT
DTSTART;TZID=America/New_York:20210324T190000
DTEND;TZID=America/New_York:20210324T190000
DTSTAMP:20260425T193727
CREATED:20210107T121028Z
LAST-MODIFIED:20210107T121028Z
UID:3525-1616612400-1616612400@www.mvcca.org
SUMMARY:General Council
DESCRIPTION:
URL:https://www.mvcca.org/event/general-council-24/
LOCATION:Zoom Meeting
CATEGORIES:General Council,Meetings
END:VEVENT
BEGIN:VEVENT
DTSTART;TZID=America/New_York:20210310T190000
DTEND;TZID=America/New_York:20210310T190000
DTSTAMP:20260425T193727
CREATED:20210107T115330Z
LAST-MODIFIED:20210309T145207Z
UID:3509-1615402800-1615402800@www.mvcca.org
SUMMARY:Board
DESCRIPTION:
URL:https://www.mvcca.org/event/board-14/
LOCATION:Zoom Meeting
CATEGORIES:Board,Meetings
END:VEVENT
BEGIN:VEVENT
DTSTART;TZID=America/New_York:20210304T193000
DTEND;TZID=America/New_York:20210304T193000
DTSTAMP:20260425T193727
CREATED:20201211T161246Z
LAST-MODIFIED:20201211T161246Z
UID:3444-1614886200-1614886200@www.mvcca.org
SUMMARY:Public Safety
DESCRIPTION:
URL:https://www.mvcca.org/event/public-safety-57/
LOCATION:Zoom Meeting
CATEGORIES:Committee,Meetings,Public Safety
END:VEVENT
BEGIN:VEVENT
DTSTART;TZID=America/New_York:20210303T190000
DTEND;TZID=America/New_York:20210303T190000
DTSTAMP:20260425T193727
CREATED:20210107T130740Z
LAST-MODIFIED:20210107T130740Z
UID:3589-1614798000-1614798000@www.mvcca.org
SUMMARY:Education
DESCRIPTION:
URL:https://www.mvcca.org/event/education-56/
LOCATION:Zoom Meeting
CATEGORIES:Education,Meetings
END:VEVENT
BEGIN:VEVENT
DTSTART;TZID=America/New_York:20210303T190000
DTEND;TZID=America/New_York:20210303T190000
DTSTAMP:20260425T193727
CREATED:20201223T160232Z
LAST-MODIFIED:20201223T160232Z
UID:3475-1614798000-1614798000@www.mvcca.org
SUMMARY:Environment & Recreation
DESCRIPTION:
URL:https://www.mvcca.org/event/environment-recreation-58/
LOCATION:Zoom Meeting
CATEGORIES:Environment & Recreation,Meetings
END:VEVENT
BEGIN:VEVENT
DTSTART;TZID=America/New_York:20210301T190000
DTEND;TZID=America/New_York:20210301T190000
DTSTAMP:20260425T193727
CREATED:20210107T124637Z
LAST-MODIFIED:20210107T124637Z
UID:3567-1614625200-1614625200@www.mvcca.org
SUMMARY:Planning & Zoning
DESCRIPTION:
URL:https://www.mvcca.org/event/planning-zoning-57/
LOCATION:Zoom Meeting
CATEGORIES:Meetings,Planning & Zoning
END:VEVENT
BEGIN:VEVENT
DTSTART;TZID=America/New_York:20210301T190000
DTEND;TZID=America/New_York:20210301T190000
DTSTAMP:20260425T193727
CREATED:20210107T122941Z
LAST-MODIFIED:20210204T153947Z
UID:3547-1614625200-1614625200@www.mvcca.org
SUMMARY:Budget & Finance
DESCRIPTION:
URL:https://www.mvcca.org/event/budget-finance-48/
LOCATION:Zoom Meeting
CATEGORIES:Budget & Finance,Meetings
END:VEVENT
BEGIN:VEVENT
DTSTART;TZID=America/New_York:20210301T190000
DTEND;TZID=America/New_York:20210301T190000
DTSTAMP:20260425T193727
CREATED:20201211T152612Z
LAST-MODIFIED:20201211T152612Z
UID:3424-1614625200-1614625200@www.mvcca.org
SUMMARY:Transportation
DESCRIPTION:
URL:https://www.mvcca.org/event/transportation-58/
LOCATION:Zoom Meeting
CATEGORIES:Committee,Meetings,Transportation
END:VEVENT
BEGIN:VEVENT
DTSTART;TZID=America/New_York:20210224T190000
DTEND;TZID=America/New_York:20210224T190000
DTSTAMP:20260425T193727
CREATED:20210107T114504Z
LAST-MODIFIED:20210107T114504Z
UID:3503-1614193200-1614193200@www.mvcca.org
SUMMARY:General Council
DESCRIPTION:
URL:https://www.mvcca.org/event/general-council-23/
LOCATION:Zoom Meeting
CATEGORIES:General Council,Meetings
END:VEVENT
BEGIN:VEVENT
DTSTART;TZID=America/New_York:20210209T190000
DTEND;TZID=America/New_York:20210209T190000
DTSTAMP:20260425T193727
CREATED:20210107T114639Z
LAST-MODIFIED:20210107T114639Z
UID:3507-1612897200-1612897200@www.mvcca.org
SUMMARY:Board
DESCRIPTION:
URL:https://www.mvcca.org/event/board-13/
LOCATION:Zoom Meeting
CATEGORIES:Board,Meetings
END:VEVENT
BEGIN:VEVENT
DTSTART;TZID=America/New_York:20210204T193000
DTEND;TZID=America/New_York:20210204T193000
DTSTAMP:20260425T193727
CREATED:20201211T154124Z
LAST-MODIFIED:20210126T203558Z
UID:3442-1612467000-1612467000@www.mvcca.org
SUMMARY:Public Safety (Joint Meeting with Transportation)
DESCRIPTION:
URL:https://www.mvcca.org/event/public-safety-56/
LOCATION:Zoom Meeting
CATEGORIES:Committee,Meetings,Public Safety
END:VEVENT
BEGIN:VEVENT
DTSTART;TZID=America/New_York:20210204T193000
DTEND;TZID=America/New_York:20210204T193000
DTSTAMP:20260425T193727
CREATED:20201211T152450Z
LAST-MODIFIED:20210126T203514Z
UID:3422-1612467000-1612467000@www.mvcca.org
SUMMARY:Transportation (Joint Meeting with Public Safety)
DESCRIPTION:
URL:https://www.mvcca.org/event/transportation-57/
LOCATION:Zoom Meeting
CATEGORIES:Committee,Meetings,Transportation
END:VEVENT
BEGIN:VEVENT
DTSTART;TZID=America/New_York:20210203T190000
DTEND;TZID=America/New_York:20210203T190000
DTSTAMP:20260425T193727
CREATED:20210107T130631Z
LAST-MODIFIED:20210201T142749Z
UID:3587-1612378800-1612378800@www.mvcca.org
SUMMARY:Education- CANCELLED
DESCRIPTION:
URL:https://www.mvcca.org/event/education-55/
LOCATION:Zoom Meeting
CATEGORIES:Education,Meetings
END:VEVENT
BEGIN:VEVENT
DTSTART;TZID=America/New_York:20210203T190000
DTEND;TZID=America/New_York:20210203T190000
DTSTAMP:20260425T193727
CREATED:20201223T160100Z
LAST-MODIFIED:20201223T160152Z
UID:3473-1612378800-1612378800@www.mvcca.org
SUMMARY:Environment & Recreation
DESCRIPTION:
URL:https://www.mvcca.org/event/environment-recreation-57/
LOCATION:Zoom Meeting
CATEGORIES:Environment & Recreation,Meetings
END:VEVENT
BEGIN:VEVENT
DTSTART;TZID=America/New_York:20210202T190000
DTEND;TZID=America/New_York:20210202T190000
DTSTAMP:20260425T193727
CREATED:20210107T122824Z
LAST-MODIFIED:20210203T001451Z
UID:3545-1612292400-1612292400@www.mvcca.org
SUMMARY:Budget & Finance - CANCELLED
DESCRIPTION:
URL:https://www.mvcca.org/event/budget-finance-47/
LOCATION:Zoom Meeting
CATEGORIES:Budget & Finance,Meetings
END:VEVENT
BEGIN:VEVENT
DTSTART;TZID=America/New_York:20210201T190000
DTEND;TZID=America/New_York:20210201T190000
DTSTAMP:20260425T193727
CREATED:20210107T124543Z
LAST-MODIFIED:20210107T124543Z
UID:3565-1612206000-1612206000@www.mvcca.org
SUMMARY:Planning & Zoning
DESCRIPTION:
URL:https://www.mvcca.org/event/planning-zoning-46/
LOCATION:Zoom Meeting
CATEGORIES:Meetings,Planning & Zoning
END:VEVENT
BEGIN:VEVENT
DTSTART;TZID=America/New_York:20210127T190000
DTEND;TZID=America/New_York:20210127T190000
DTSTAMP:20260425T193727
CREATED:20210107T114425Z
LAST-MODIFIED:20210107T114425Z
UID:3501-1611774000-1611774000@www.mvcca.org
SUMMARY:General Council
DESCRIPTION:
URL:https://www.mvcca.org/event/general-council-15/
LOCATION:Zoom Meeting
CATEGORIES:General Council,Meetings
END:VEVENT
BEGIN:VEVENT
DTSTART;TZID=America/New_York:20210112T190000
DTEND;TZID=America/New_York:20210112T190000
DTSTAMP:20260425T193727
CREATED:20210107T114600Z
LAST-MODIFIED:20210107T114600Z
UID:3505-1610478000-1610478000@www.mvcca.org
SUMMARY:Board
DESCRIPTION:
URL:https://www.mvcca.org/event/board-12/
LOCATION:Zoom Meeting
CATEGORIES:Board,Meetings
END:VEVENT
BEGIN:VEVENT
DTSTART;TZID=America/New_York:20210111T190000
DTEND;TZID=America/New_York:20210111T190000
DTSTAMP:20260425T193727
CREATED:20201223T161427Z
LAST-MODIFIED:20201223T161427Z
UID:3493-1610391600-1610391600@www.mvcca.org
SUMMARY:Planning and Zoning (Joint w/ Transportation)
DESCRIPTION:
URL:https://www.mvcca.org/event/planning-zoning-joint-w-transportation/
LOCATION:Zoom Meeting
CATEGORIES:Meetings,Planning & Zoning
END:VEVENT
BEGIN:VEVENT
DTSTART;TZID=America/New_York:20210111T190000
DTEND;TZID=America/New_York:20210111T190000
DTSTAMP:20260425T193727
CREATED:20201211T152348Z
LAST-MODIFIED:20201223T161509Z
UID:3420-1610391600-1610391600@www.mvcca.org
SUMMARY:Transportation (Joint w/ P&Z)
DESCRIPTION:
URL:https://www.mvcca.org/event/transportation-50/
LOCATION:Zoom Meeting
CATEGORIES:Committee,Meetings,Transportation
END:VEVENT
BEGIN:VEVENT
DTSTART;TZID=America/New_York:20210107T193000
DTEND;TZID=America/New_York:20210107T193000
DTSTAMP:20260425T193727
CREATED:20201211T151419Z
LAST-MODIFIED:20201211T152407Z
UID:3416-1610047800-1610047800@www.mvcca.org
SUMMARY:Public Safety
DESCRIPTION:
URL:https://www.mvcca.org/event/public-safety-55/
LOCATION:Zoom Meeting
CATEGORIES:Committee,Meetings,Public Safety
END:VEVENT
BEGIN:VEVENT
DTSTART;TZID=America/New_York:20210106T190000
DTEND;TZID=America/New_York:20210106T190000
DTSTAMP:20260425T193727
CREATED:20210107T130540Z
LAST-MODIFIED:20210107T130540Z
UID:3585-1609959600-1609959600@www.mvcca.org
SUMMARY:Education
DESCRIPTION:
URL:https://www.mvcca.org/event/education-54/
LOCATION:Zoom Meeting
CATEGORIES:Education,Meetings
END:VEVENT
BEGIN:VEVENT
DTSTART;TZID=America/New_York:20210106T190000
DTEND;TZID=America/New_York:20210106T190000
DTSTAMP:20260425T193727
CREATED:20201211T151949Z
LAST-MODIFIED:20201211T152512Z
UID:3418-1609959600-1609959600@www.mvcca.org
SUMMARY:Environment & Recreation
DESCRIPTION:
URL:https://www.mvcca.org/event/environment-recreation-48/
LOCATION:Zoom Meeting
CATEGORIES:Committee,Environment & Recreation,Meetings
END:VEVENT
BEGIN:VEVENT
DTSTART;TZID=America/New_York:20210105T190000
DTEND;TZID=America/New_York:20210105T190000
DTSTAMP:20260425T193727
CREATED:20210107T122654Z
LAST-MODIFIED:20210107T122654Z
UID:3543-1609873200-1609873200@www.mvcca.org
SUMMARY:Budget & Finance
DESCRIPTION:
URL:https://www.mvcca.org/event/budget-finance-36/
LOCATION:Zoom Meeting
CATEGORIES:Budget & Finance,Meetings
END:VEVENT
BEGIN:VEVENT
DTSTART;TZID=America/New_York:20201216T190000
DTEND;TZID=America/New_York:20201216T190000
DTSTAMP:20260425T193727
CREATED:20191217T151328Z
LAST-MODIFIED:20191217T151328Z
UID:3251-1608145200-1608145200@www.mvcca.org
SUMMARY:General Council
DESCRIPTION:
URL:https://www.mvcca.org/event/general-council-22/
LOCATION:Mount Vernon Government Center\, 2511 Parkers Lane\, Alexandria\, 22306\, United States
CATEGORIES:General Council,Meetings
END:VEVENT
END:VCALENDAR